{"text_format":"2","workbook":"xlsx","n_sheets":22,"sheets":["1.총괄(작성금지)","2.콜센터","3.민원실창구상담","4.조사관상담","5.전문,민원위원상담","6.부패신고상담","7.행정심판상담","8.접수","9.처리(민형사)","10.온라인 상담","11.합동상담+민원상담협의회","12.분야별상담및접수(서울세종창구상담)","13.고충민원유형별정리(월별) ","Sheet1","Sheet2","Sheet3","Sheet4","Sheet5","Sheet6","Sheet7","2023년 조사관","2022년조사관"],"not_rendered":{"charts":0,"images":0,"macros":0,"external_links":0,"defined_names":0,"comments":4,"pivot_tables":0},"unopened":[],"bounds":{"document_bytes":16777216,"sheet_cells":100000,"run_cost":"one","rows_first":2000,"rows_last":500,"rows_between":2000,"halvings":0,"cell_chars":16384,"cell_head_chars":4096},"cells_cut":0,"cells_raw":0,"read":"whole","date_system":"1900"}

{"sheet":"1.총괄(작성금지)","index":0,"n_rows":36,"n_cols":25,"rows_kept":36,"cut":false,"hidden":false,"merged":[[0,0,0,24],[4,0,5,0],[3,0,3,1],[15,0,15,1],[25,0,25,1],[20,0,21,0],[19,0,19,1],[33,0,34,0],[17,0,17,1],[27,0,27,1],[6,0,6,1],[7,0,12,0]]}
["26년 월별 정부합동민원센터 상담·접수·처리 현황"]
[" 1. 상담 현황(민원실+온라인상담+콜)",{"$nulls":13},"(단위 : 건)"]
["분야","구분","합계","1월","2월","3월","4월","5월","6월","7월","8월","9월","10월","11월","12월","합계","비율","1분기","비율","2분기","비율","3분기","비율","4분기","비율"]
["소    계 (민원)",null,{"$f":"C5+C6","v":4280},{"$f":"D5+D6","v":2572},1708,0,0,0,0,0,0,0,0,0,0,{"$f":"R4+T4+V4+X4","v":4280},1,{"$f":"D4+E4+F4","v":4280},{"$f":"R4/P4","v":1},{"$f":"G4+I4+H4","v":0},{"$f":"T4/P4","v":0},{"$f":"J4+K4+L4","v":0},{"$f":"V4/P4","v":0},{"$f":"M4+N4+O4","v":0},{"$f":"X4/P4","v":0}]
["민원","고충민원",{"$f":"SUM(D5:O5)","v":318},{"$f":"'12.분야별상담및접수(서울세종창구상담)'!C38+'12.분야별상담및접수(서울세종창구상담)'!C39+'12.분야별상담및접수(서울세종창구상담)'!C40+'10.온라인 상담'!C6","v":174},{"$f":"'12.분야별상담및접수(서울세종창구상담)'!D38+'12.분야별상담및접수(서울세종창구상담)'!D39+'12.분야별상담및접수(서울세종창구상담)'!D40+'10.온라인 상담'!D6","v":144},{"$f":"'12.분야별상담및접수(서울세종창구상담)'!E38+'12.분야별상담및접수(서울세종창구상담)'!E39+'12.분야별상담및접수(서울세종창구상담)'!E40+'10.온라인 상담'!E6","v":0},{"$f":"'12.분야별상담및접수(서울세종창구상담)'!F38+'12.분야별상담및접수(서울세종창구상담)'!F39+'12.분야별상담및접수(서울세종창구상담)'!F40+'10.온라인 상담'!F6","v":0},{"$f":"'12.분야별상담및접수(서울세종창구상담)'!G38+'12.분야별상담및접수(서울세종창구상담)'!G39+'12.분야별상담및접수(서울세종창구상담)'!G40+'10.온라인 상담'!G6","v":0},{"$f":"'12.분야별상담및접수(서울세종창구상담)'!H38+'12.분야별상담및접수(서울세종창구상담)'!H39+'12.분야별상담및접수(서울세종창구상담)'!H40+'10.온라인 상담'!H6","v":0},{"$f":"'12.분야별상담및접수(서울세종창구상담)'!I38+'12.분야별상담및접수(서울세종창구상담)'!I39+'12.분야별상담및접수(서울세종창구상담)'!I40+'10.온라인 상담'!I6","v":0},{"$f":"'12.분야별상담및접수(서울세종창구상담)'!J38+'12.분야별상담및접수(서울세종창구상담)'!J39+'12.분야별상담및접수(서울세종창구상담)'!J40+'10.온라인 상담'!J6","v":0},{"$f":"'12.분야별상담및접수(서울세종창구상담)'!K38+'12.분야별상담및접수(서울세종창구상담)'!K39+'12.분야별상담및접수(서울세종창구상담)'!K40+'10.온라인 상담'!K6","v":0},{"$f":"'12.분야별상담및접수(서울세종창구상담)'!L38+'12.분야별상담및접수(서울세종창구상담)'!L39+'12.분야별상담및접수(서울세종창구상담)'!L40+'10.온라인 상담'!L6","v":0},{"$f":"'12.분야별상담및접수(서울세종창구상담)'!M38+'12.분야별상담및접수(서울세종창구상담)'!M39+'12.분야별상담및접수(서울세종창구상담)'!M40+'10.온라인 상담'!M6","v":0},{"$f":"'12.분야별상담및접수(서울세종창구상담)'!N38+'12.분야별상담및접수(서울세종창구상담)'!N39+'12.분야별상담및접수(서울세종창구상담)'!N40+'10.온라인 상담'!N6","v":0},318,1,318,1,0,0,0,0,0,0]
[null,"일반민원",3962,{"$f":"'12.분야별상담및접수(서울세종창구상담)'!C35+'12.분야별상담및접수(서울세종창구상담)'!C36+'12.분야별상담및접수(서울세종창구상담)'!C37+'10.온라인 상담'!C5","v":2398},{"$f":"'12.분야별상담및접수(서울세종창구상담)'!D35+'12.분야별상담및접수(서울세종창구상담)'!D36+'12.분야별상담및접수(서울세종창구상담)'!D37+'10.온라인 상담'!D5","v":1564},{"$f":"'12.분야별상담및접수(서울세종창구상담)'!E35+'12.분야별상담및접수(서울세종창구상담)'!E36+'12.분야별상담및접수(서울세종창구상담)'!E37+'10.온라인 상담'!E5","v":0},{"$f":"'12.분야별상담및접수(서울세종창구상담)'!F35+'12.분야별상담및접수(서울세종창구상담)'!F36+'12.분야별상담및접수(서울세종창구상담)'!F37+'10.온라인 상담'!F5","v":0},{"$f":"'12.분야별상담및접수(서울세종창구상담)'!G35+'12.분야별상담및접수(서울세종창구상담)'!G36+'12.분야별상담및접수(서울세종창구상담)'!G37+'10.온라인 상담'!G5","v":0},{"$f":"'12.분야별상담및접수(서울세종창구상담)'!H35+'12.분야별상담및접수(서울세종창구상담)'!H36+'12.분야별상담및접수(서울세종창구상담)'!H37+'10.온라인 상담'!H5","v":0},{"$f":"'12.분야별상담및접수(서울세종창구상담)'!I35+'12.분야별상담및접수(서울세종창구상담)'!I36+'12.분야별상담및접수(서울세종창구상담)'!I37+'10.온라인 상담'!I5","v":0},{"$f":"'12.분야별상담및접수(서울세종창구상담)'!J35+'12.분야별상담및접수(서울세종창구상담)'!J36+'12.분야별상담및접수(서울세종창구상담)'!J37+'10.온라인 상담'!J5","v":0},{"$f":"'12.분야별상담및접수(서울세종창구상담)'!K35+'12.분야별상담및접수(서울세종창구상담)'!K36+'12.분야별상담및접수(서울세종창구상담)'!K37+'10.온라인 상담'!K5","v":0},{"$f":"'12.분야별상담및접수(서울세종창구상담)'!L35+'12.분야별상담및접수(서울세종창구상담)'!L36+'12.분야별상담및접수(서울세종창구상담)'!L37+'10.온라인 상담'!L5","v":0},{"$f":"'12.분야별상담및접수(서울세종창구상담)'!M35+'12.분야별상담및접수(서울세종창구상담)'!M36+'12.분야별상담및접수(서울세종창구상담)'!M37+'10.온라인 상담'!M5","v":0},{"$f":"'12.분야별상담및접수(서울세종창구상담)'!N35+'12.분야별상담및접수(서울세종창구상담)'!N36+'12.분야별상담및접수(서울세종창구상담)'!N37+'10.온라인 상담'!N5","v":0},3962,1,3962,1,0,0,0,0,0,0]
["소    계 (부패)",null,{"$f":"SUM(C8:C13)","v":2171},{"$f":"SUM(D8:D13)","v":1220},951,0,0,0,0,0,0,0,0,0,0,2171,1,2171,1,0,0,0,0,0,0]
["부패","부패신고",970,{"$f":"'6.부패신고상담'!C5","v":554},{"$f":"'6.부패신고상담'!D5","v":416},{"$f":"'6.부패신고상담'!E5","v":0},{"$f":"'6.부패신고상담'!F5","v":0},{"$f":"'6.부패신고상담'!G5","v":0},{"$f":"'6.부패신고상담'!H5","v":0},{"$f":"'6.부패신고상담'!I5","v":0},{"$f":"'6.부패신고상담'!J5","v":0},{"$f":"'6.부패신고상담'!K5","v":0},{"$f":"'6.부패신고상담'!L5","v":0},{"$f":"'6.부패신고상담'!M5","v":0},{"$f":"'6.부패신고상담'!N5","v":0},{"$f":"R8+T8+V8+X8","v":970},{"$f":"S8+U8+W8+Y8","v":1},970,1,0,0,0,0,0,0]
[null,"행동강령신고",44,{"$f":"'6.부패신고상담'!C12","v":26},{"$f":"'6.부패신고상담'!D12","v":18},{"$f":"'6.부패신고상담'!E12","v":0},{"$f":"'6.부패신고상담'!F12","v":0},{"$f":"'6.부패신고상담'!G12","v":0},{"$f":"'6.부패신고상담'!H12","v":0},{"$f":"'6.부패신고상담'!I12","v":0},{"$f":"'6.부패신고상담'!J12","v":0},{"$f":"'6.부패신고상담'!K12","v":0},{"$f":"'6.부패신고상담'!L12","v":0},{"$f":"'6.부패신고상담'!M12","v":0},{"$f":"'6.부패신고상담'!N12","v":0},44,{"$f":"S9+U9+W9+Y9","v":1},44,1,0,0,0,0,0,0]
[null,"공익침해신고",622,{"$f":"'6.부패신고상담'!C19","v":353},{"$f":"'6.부패신고상담'!D19","v":269},{"$f":"'6.부패신고상담'!E19","v":0},{"$f":"'6.부패신고상담'!F19","v":0},{"$f":"'6.부패신고상담'!G19","v":0},{"$f":"'6.부패신고상담'!H19","v":0},{"$f":"'6.부패신고상담'!I19","v":0},{"$f":"'6.부패신고상담'!J19","v":0},{"$f":"'6.부패신고상담'!K19","v":0},{"$f":"'6.부패신고상담'!L19","v":0},{"$f":"'6.부패신고상담'!M19","v":0},{"$f":"'6.부패신고상담'!N19","v":0},622,1,622,1,0,0,0,0,0,0]
[null,"부정청탁신고",161,{"$f":"'6.부패신고상담'!C26","v":74},{"$f":"'6.부패신고상담'!D26","v":87},{"$f":"'6.부패신고상담'!E26","v":0},{"$f":"'6.부패신고상담'!F26","v":0},{"$f":"'6.부패신고상담'!G26","v":0},{"$f":"'6.부패신고상담'!H26","v":0},{"$f":"'6.부패신고상담'!I26","v":0},{"$f":"'6.부패신고상담'!J26","v":0},{"$f":"'6.부패신고상담'!K26","v":0},{"$f":"'6.부패신고상담'!L26","v":0},{"$f":"'6.부패신고상담'!M26","v":0},{"$f":"'6.부패신고상담'!N26","v":0},161,{"$f":"S11+U11+W11+Y11","v":1},{"$f":"D11+E11+F11","v":161},{"$f":"R11/P11","v":1},{"$f":"G11+I11+H11","v":0},{"$f":"T11/P11","v":0},{"$f":"J11+K11+L11","v":0},{"$f":"V11/P11","v":0},{"$f":"M11+N11+O11","v":0},{"$f":"X11/P11","v":0}]
[null,"부정청구신고",343,{"$f":"'6.부패신고상담'!C33","v":194},{"$f":"'6.부패신고상담'!D33","v":149},{"$f":"'6.부패신고상담'!E33","v":0},{"$f":"'6.부패신고상담'!F33","v":0},{"$f":"'6.부패신고상담'!G33","v":0},{"$f":"'6.부패신고상담'!H33","v":0},{"$f":"'6.부패신고상담'!I33","v":0},{"$f":"'6.부패신고상담'!J33","v":0},{"$f":"'6.부패신고상담'!K33","v":0},{"$f":"'6.부패신고상담'!L33","v":0},{"$f":"'6.부패신고상담'!M33","v":0},{"$f":"'6.부패신고상담'!N33","v":0},343,1,343,1,0,0,0,0,0,0]
[null,"이해충돌방지신고",31,{"$f":"'6.부패신고상담'!C40","v":19},{"$f":"'6.부패신고상담'!D40","v":12},{"$f":"'6.부패신고상담'!E40","v":0},{"$f":"'6.부패신고상담'!F40","v":0},{"$f":"'6.부패신고상담'!G40","v":0},{"$f":"'6.부패신고상담'!H40","v":0},{"$f":"'6.부패신고상담'!I40","v":0},{"$f":"'6.부패신고상담'!J40","v":0},{"$f":"'6.부패신고상담'!K40","v":0},{"$f":"'6.부패신고상담'!L40","v":0},{"$f":"'6.부패신고상담'!M40","v":0},{"$f":"'6.부패신고상담'!N40","v":0},{"$f":"R13+T13+V13+X13","v":31},{"$f":"S13+U13+W13+Y13","v":1},{"$f":"D13+E13+F13","v":31},{"$f":"R13/P13","v":1},{"$f":"G13+I13+H13","v":0},{"$f":"T13/P13","v":0},{"$f":"J13+K13+L13","v":0},{"$f":"V13/P13","v":0},{"$f":"M13+N13+O13","v":0},{"$f":"X13/P13","v":0}]
["행정심판","행정심판",20,{"$f":"'7.행정심판상담'!C6","v":13},{"$f":"'7.행정심판상담'!D6","v":7},{"$f":"'7.행정심판상담'!E6","v":0},{"$f":"'7.행정심판상담'!F6","v":0},{"$f":"'7.행정심판상담'!G6","v":0},{"$f":"'7.행정심판상담'!H6","v":0},{"$f":"'7.행정심판상담'!I6","v":0},{"$f":"'7.행정심판상담'!J6","v":0},{"$f":"'7.행정심판상담'!K6","v":0},{"$f":"'7.행정심판상담'!L6","v":0},{"$f":"'7.행정심판상담'!M6","v":0},{"$f":"'7.행정심판상담'!N6","v":0},20,1,20,1,0,0,0,0,0,0]
[110,"국민콜110",{"$f":"SUM(D15:O15)","v":363451},{"$f":"'2.콜센터'!D4","v":203210},{"$f":"'2.콜센터'!E4","v":160241},{"$f":"'2.콜센터'!F4","v":0},{"$f":"'2.콜센터'!G4","v":0},{"$f":"'2.콜센터'!H4","v":0},{"$f":"'2.콜센터'!I4","v":0},{"$f":"'2.콜센터'!J4","v":0},{"$f":"'2.콜센터'!K4","v":0},{"$f":"'2.콜센터'!L4","v":0},{"$f":"'2.콜센터'!M4","v":0},{"$f":"'2.콜센터'!N4","v":0},{"$f":"'2.콜센터'!O4","v":0},363451,1,363451,1,0,0,0,0,0,0]
["총     계 ",null,{"$f":"SUM(D16:O16)","v":369922},{"$f":"D4+D7+D14+D15","v":207015},162907,0,0,0,0,0,0,0,0,0,0,369922,1,369922,1,0,0,0,0,0,0]
[]
[" 2. 접수 현황",{"$nulls":13},"(단위 : 건)"]
["분야","구분","합계","1월","2월","3월","4월","5월","6월","7월","8월","9월","10월","11월","12월","합계","비율","1분기","비율","2분기","비율","3분기","비율","4분기","비율"]
["소    계 (민원)",null,{"$f":"C21+C22","v":820},{"$f":"D21+D22","v":519},301,0,0,0,0,0,0,0,0,0,0,{"$f":"R20+T20+V20+X20","v":820},1,{"$f":"D20+E20+F20","v":820},{"$f":"R20/P20","v":1},{"$f":"G20+I20+H20","v":0},{"$f":"T20/P20","v":0},{"$f":"J20+K20+L20","v":0},{"$f":"V20/P20","v":0},{"$f":"M20+N20+O20","v":0},{"$f":"X20/P20","v":0}]
["민원","고충민원",{"$f":"SUM(D21:O21)","v":778},{"$f":"'12.분야별상담및접수(서울세종창구상담)'!C46","v":512},{"$f":"'12.분야별상담및접수(서울세종창구상담)'!D46","v":266},{"$f":"'12.분야별상담및접수(서울세종창구상담)'!E46","v":0},{"$f":"'12.분야별상담및접수(서울세종창구상담)'!F46","v":0},{"$f":"'12.분야별상담및접수(서울세종창구상담)'!G46","v":0},{"$f":"'12.분야별상담및접수(서울세종창구상담)'!H46","v":0},{"$f":"'12.분야별상담및접수(서울세종창구상담)'!I46","v":0},{"$f":"'12.분야별상담및접수(서울세종창구상담)'!J46","v":0},{"$f":"'12.분야별상담및접수(서울세종창구상담)'!K46","v":0},{"$f":"'12.분야별상담및접수(서울세종창구상담)'!L46","v":0},{"$f":"'12.분야별상담및접수(서울세종창구상담)'!M46","v":0},{"$f":"'12.분야별상담및접수(서울세종창구상담)'!N46","v":0},778,1,778,1,0,0,0,0,0,0]
[null,"일반민원",42,{"$f":"'12.분야별상담및접수(서울세종창구상담)'!C45","v":7},{"$f":"'12.분야별상담및접수(서울세종창구상담)'!D45","v":35},{"$f":"'12.분야별상담및접수(서울세종창구상담)'!E45","v":0},{"$f":"'12.분야별상담및접수(서울세종창구상담)'!F45","v":0},{"$f":"'12.분야별상담및접수(서울세종창구상담)'!G45","v":0},{"$f":"'12.분야별상담및접수(서울세종창구상담)'!H45","v":0},{"$f":"'12.분야별상담및접수(서울세종창구상담)'!I45","v":0},{"$f":"'12.분야별상담및접수(서울세종창구상담)'!J45","v":0},{"$f":"'12.분야별상담및접수(서울세종창구상담)'!K45","v":0},{"$f":"'12.분야별상담및접수(서울세종창구상담)'!L45","v":0},{"$f":"'12.분야별상담및접수(서울세종창구상담)'!M45","v":0},{"$f":"'12.분야별상담및접수(서울세종창구상담)'!N45","v":0},42,1,42,1,0,0,0,0,0,0]
["부패","부패신고",36,{"$f":"'8.접수'!C11","v":19},{"$f":"'8.접수'!D11","v":17},{"$f":"'8.접수'!E11","v":0},{"$f":"'8.접수'!F11","v":0},{"$f":"'8.접수'!G11","v":0},{"$f":"'8.접수'!H11","v":0},{"$f":"'8.접수'!I11","v":0},{"$f":"'8.접수'!J11","v":0},{"$f":"'8.접수'!K11","v":0},{"$f":"'8.접수'!L11","v":0},{"$f":"'8.접수'!M11","v":0},{"$f":"'8.접수'!N11","v":0},36,1,36,1,0,0,0,0,0,0]
["행정심판","행정심판",35,{"$f":"'8.접수'!C17","v":19},{"$f":"'8.접수'!D17","v":16},{"$f":"'8.접수'!E17","v":0},{"$f":"'8.접수'!F17","v":0},{"$f":"'8.접수'!G17","v":0},{"$f":"'8.접수'!H17","v":0},{"$f":"'8.접수'!I17","v":0},{"$f":"'8.접수'!J17","v":0},{"$f":"'8.접수'!K17","v":0},{"$f":"'8.접수'!L17","v":0},{"$f":"'8.접수'!M17","v":0},{"$f":"'8.접수'!N17","v":0},35,1,35,1,0,0,0,0,0,0]
["대비실","대통령실민원",4006,{"$f":"'8.접수'!C21","v":2224},{"$f":"'8.접수'!D21","v":1782},{"$f":"'8.접수'!E21","v":0},{"$f":"'8.접수'!F21","v":0},{"$f":"'8.접수'!G21","v":0},{"$f":"'8.접수'!H21","v":0},{"$f":"'8.접수'!I21","v":0},{"$f":"'8.접수'!J21","v":0},{"$f":"'8.접수'!K21","v":0},{"$f":"'8.접수'!L21","v":0},{"$f":"'8.접수'!M21","v":0},{"$f":"'8.접수'!N21","v":0},4006,1,4006,1,0,0,0,0,0,0]
["총     계 ",null,4897,{"$f":"D20+D23+D24+D25","v":2781},{"$f":"E20+E23+E24+E25","v":2116},0,0,0,0,0,0,0,0,0,0,4897,1,4897,1,0,0,0,0,0,0]
[]
[" 3. 처리 현황",{"$nulls":13},"(단위 : 건)"]
["분야","구분","합계","1월","2월","3월","4월","5월","6월","7월","8월","9월","10월","11월","12월","합계","비율","1분기","비율","2분기","비율","3분기","비율","4분기","비율"]
["고충","민형사",{"$f":"SUM(D30:O30)","v":1678},{"$f":"'9.처리(민형사)'!D6","v":458},{"$f":"'9.처리(민형사)'!E6","v":415},{"$f":"'9.처리(민형사)'!F6","v":805},{"$f":"'9.처리(민형사)'!G6","v":0},{"$f":"'9.처리(민형사)'!H6","v":0},{"$f":"'9.처리(민형사)'!I6","v":0},{"$f":"'9.처리(민형사)'!J6","v":0},{"$f":"'9.처리(민형사)'!K6","v":0},{"$f":"'9.처리(민형사)'!L6","v":0},{"$f":"'9.처리(민형사)'!M6","v":0},{"$f":"'9.처리(민형사)'!N6","v":0},{"$f":"'9.처리(민형사)'!O6","v":0},{"$f":"C30","v":1678},{"$f":"P30/C30","v":1},{"$f":"SUM(D30:F30)","v":1678},{"$f":"R30/P30","v":1},{"$f":"SUM(G30:I30)","v":0},{"$f":"T30/P30","v":0},{"$f":"SUM(J30:L30)","v":0},{"$f":"V30/P30","v":0},{"$f":"SUM(M30:O30)","v":0},{"$f":"X30/P30","v":0}]
[]
[" 4. 온라인 민원상담 현황",{"$nulls":13},"(단위 : 건)"]
["분야","구분","합계","1월","2월","3월","4월","5월","6월","7월","8월","9월","10월","11월","12월","합계","비율","1분기","비율","2분기","비율","3분기","비율","4분기","비율"]
[null,"* 상담",{"$f":"SUM(D34:O34)","v":3719},{"$f":"'10.온라인 상담'!C7","v":2257},{"$f":"'10.온라인 상담'!D7","v":1462},{"$f":"'10.온라인 상담'!E7","v":0},{"$f":"'10.온라인 상담'!F7","v":0},{"$f":"'10.온라인 상담'!G7","v":0},{"$f":"'10.온라인 상담'!H7","v":0},{"$f":"'10.온라인 상담'!I7","v":0},{"$f":"'10.온라인 상담'!J7","v":0},{"$f":"'10.온라인 상담'!K7","v":0},{"$f":"'10.온라인 상담'!L7","v":0},{"$f":"'10.온라인 상담'!M7","v":0},{"$f":"'10.온라인 상담'!N7","v":0},{"$f":"R34+T34+V34+X34","v":3719},1,{"$f":"D34+E34+F34","v":3719},{"$f":"R34/P34","v":1},{"$f":"G34+H34+I34","v":0},{"$f":"T34/P34","v":0},{"$f":"J34+K34+L34","v":0},{"$f":"V34/P34","v":0},{"$f":"M34+N34+O34","v":0},{"$f":"X34/P34","v":0}]
[null,"민원전환",{"$f":"SUM(D35:O35)","v":{"$error":"#VALUE!"}},{"$f":"'10.온라인 상담'!C12+'10.온라인 상담'!C16","v":{"$error":"#VALUE!"}},{"$f":"'10.온라인 상담'!D12+'10.온라인 상담'!D16","v":0},{"$f":"'10.온라인 상담'!E12+'10.온라인 상담'!E16","v":0},{"$f":"'10.온라인 상담'!F12+'10.온라인 상담'!F16","v":0},{"$f":"'10.온라인 상담'!G12+'10.온라인 상담'!G16","v":0},{"$f":"'10.온라인 상담'!H12+'10.온라인 상담'!H16","v":0},{"$f":"'10.온라인 상담'!I12+'10.온라인 상담'!I16","v":0},{"$f":"'10.온라인 상담'!J12+'10.온라인 상담'!J16","v":0},{"$f":"'10.온라인 상담'!K12+'10.온라인 상담'!K16","v":0},{"$f":"'10.온라인 상담'!L12+'10.온라인 상담'!L16","v":0},{"$f":"'10.온라인 상담'!M12+'10.온라인 상담'!M16","v":0},{"$f":"'10.온라인 상담'!N12+'10.온라인 상담'!N16","v":0},{"$error":"#VALUE!"},{"$error":"#VALUE!"},{"$f":"D35+E35+F35","v":{"$error":"#VALUE!"}},{"$f":"R35/P35","v":{"$error":"#VALUE!"}},{"$f":"G35+H35+I35","v":0},{"$f":"T35/P35","v":{"$error":"#VALUE!"}},{"$f":"J35+K35+L35","v":0},{"$f":"V35/P35","v":{"$error":"#VALUE!"}},{"$f":"M35+N35+O35","v":0},{"$f":"X35/P35","v":{"$error":"#VALUE!"}}]
["* 온라인상담 처리 합계(처리일기준으로 전체건임 : 기관안내, 취하, 상담해결, 민원처리(전환) 등)"]

{"sheet":"2.콜센터","index":1,"n_rows":56,"n_cols":23,"rows_kept":56,"cut":false,"hidden":false,"merged":[[8,16,8,17],[8,0,8,1]]}
["2. 콜센터 민원상담 건수"]
["○ 인입콜",{"$nulls":13},"(단위 : 건)",null,"* 분기별"]
["년도",null,"계 ","1월 ","2월 ","3월 ","4월 ","5월 ","6월 ","7월 ","8월 ","9월 ","10월 ","11월 ","12월 ",null,"년도",null,"계 ","1분기","2분기","3분기","4분기"]
["2026년",null,{"$f":"SUM(D4:O4)","v":363451},{"$f":"D5+D7","v":203210},{"$f":"E5+E7","v":160241},null,null,{"$f":"H5+H7","v":0},{"$f":"I5+I7","v":0},0,0,0,0,0,0,null,"2026년",null,{"$f":"SUM(T4:W4)","v":363451},{"$f":"SUM(D4:F4)","v":363451},{"$f":"SUM(G4:I4)","v":0},{"$f":"SUM(J4:L4)","v":0},{"$f":"SUM(M4:O4)","v":0}]
["전화",null,{"$f":"SUM(D5:O5)","v":351043},196379,154664,{"$nulls":11},"전화",null,{"$f":"SUM(T5:W5)","v":351043},{"$f":"SUM(D5:F5)","v":351043},{"$f":"SUM(G5:I5)","v":0},{"$f":"SUM(J5:L5)","v":0},{"$f":"SUM(M5:O5)","v":0}]
["전화 비율","(%)",{"$f":"C5/C4","v":0.96586059743954478},{"$f":"D5/D4","v":0.96638452832045663},{"$f":"E5/E4","v":0.96519617326402107},{"$f":"F5/F4","v":{"$error":"#DIV/0!"}},{"$error":"#DIV/0!"},{"$error":"#DIV/0!"},{"$error":"#DIV/0!"},{"$error":"#DIV/0!"},{"$error":"#DIV/0!"},{"$error":"#DIV/0!"},{"$error":"#DIV/0!"},{"$error":"#DIV/0!"},{"$error":"#DIV/0!"},null,"전화 비율","(%)",{"$f":"S5/S4","v":0.96586059743954478},{"$f":"T5/T4","v":0.96586059743954478},{"$f":"U5/U4","v":{"$error":"#DIV/0!"}},{"$f":"V5/V4","v":{"$error":"#DIV/0!"}},{"$f":"W5/W4","v":{"$error":"#DIV/0!"}}]
["온라인",null,{"$f":"SUM(D7:O7)","v":12408},6831,5577,{"$nulls":11},"온라인",null,{"$f":"SUM(T7:W7)","v":12408},{"$f":"SUM(D7:F7)","v":12408},{"$f":"SUM(G7:I7)","v":0},{"$f":"SUM(J7:L7)","v":0},{"$f":"SUM(M7:O7)","v":0}]
["온라인 비율","(%)",{"$f":"C7/C4","v":3.4139402560455195E-2},{"$f":"D7/D4","v":3.3615471679543332E-2},{"$f":"E7/E4","v":3.4803826735978934E-2},{"$f":"F7/F4","v":{"$error":"#DIV/0!"}},{"$error":"#DIV/0!"},{"$error":"#DIV/0!"},{"$error":"#DIV/0!"},{"$error":"#DIV/0!"},{"$error":"#DIV/0!"},{"$error":"#DIV/0!"},{"$error":"#DIV/0!"},{"$error":"#DIV/0!"},{"$error":"#DIV/0!"},null,"온라인 비율","(%)",{"$f":"S7/S4","v":3.4139402560455195E-2},{"$f":"T7/T4","v":3.4139402560455195E-2},{"$f":"U7/U4","v":{"$error":"#DIV/0!"}},{"$f":"V7/V4","v":{"$error":"#DIV/0!"}},{"$f":"W7/W4","v":{"$error":"#DIV/0!"}}]
["전년대비 증감률",null,{"$f":"(C4-C11)/C11","v":-0.84588033698026366},{"$f":"(D4-D11)/D11","v":6.5231749892538507E-2},{"$f":"(E4-E11)/E11","v":-0.11452427527822906},{"$f":"(F4-F11)/F11","v":-1},-1,-1,-1,{"$f":"(J4-J11)/J11","v":-1},{"$f":"(K4-K11)/K11","v":-1},-1,-1,{"$f":"(N4-N11)/N11","v":-1},-1,null,"전년대비 증감률",null,{"$f":"(S4-S11)/S11","v":-0.84588033698026366},{"$f":"(T4-T11)/T11","v":-0.34800212398778707},{"$f":"(U4-U11)/U11","v":-1},{"$f":"(V4-V11)/V11","v":-1},{"$f":"(W4-W11)/W11","v":-1}]
[]
["2025년",null,2358239,190766,180966,185710,183276,188300,180550,283803,206488,237730,169096,164785,186769,null,"2025년",null,2358239,557442,552126,728021,520650]
["전화",null,2272865,184229,174850,179025,176464,180831,173417,274083,199258,229814,162421,158472,180001,null,"전화",null,2272865,538104,530712,703155,500894]
["전화 비율","(%)",0.96379756250320681,0.96573288741180296,0.96620359625565022,0.96400301545420275,0.96283201292040421,0.96033457249070631,0.96049293824425364,0.96575089058255204,0.96498585874239662,0.9667017204391537,0.96052538203150872,0.96168947416330375,0.9637627229358191,null,"전화 비율","(%)",0.96379756250320681,0.96530939541692229,0.96121537475141539,0.96584439185133397,0.96205512340343802]
["온라인",null,85374,6537,6116,6685,6812,7469,7133,9720,7230,7916,6675,6313,6768,null,"온라인",null,85374,19338,21414,24866,19756]
["온라인 비율","(%)",3.6202437496793159E-2,3.4267112588197056E-2,3.3796403744349765E-2,3.5996984545797209E-2,3.7167987079595802E-2,3.966542750929368E-2,3.950706175574633E-2,3.424910941744802E-2,3.5014141257603347E-2,3.3298279560846342E-2,3.947461796849127E-2,3.8310525836696301E-2,3.6237277064180888E-2,null,"온라인 비율","(%)",3.6202437496793159E-2,3.4690604583077704E-2,3.8784625248584559E-2,3.4155608148666042E-2,3.794487659656199E-2]
[]
["○ 처리콜"]
["년도",null,"계 ","1월 ","2월 ","3월 ","4월 ","5월 ","6월 ","7월 ","8월 ","9월 ","10월 ","11월 ","12월 ",null,"년도",null,"계 ","1분기","2분기","3분기","4분기"]
["2026년",null,{"$f":"SUM(D19:O19)","v":344633},{"$f":"D20+D22","v":192362},{"$f":"E20+E22","v":152271},null,null,{"$f":"H20+H22","v":0},{"$f":"I20+I22","v":0},0,0,0,0,0,0,null,"2026년",null,{"$f":"SUM(T19:W19)","v":344633},{"$f":"SUM(D19:F19)","v":344633},{"$f":"SUM(G19:I19)","v":0},{"$f":"SUM(J19:L19)","v":0},{"$f":"SUM(M19:O19)","v":0}]
["전화",null,{"$f":"SUM(D20:O20)","v":332617},185755,146862,{"$nulls":11},"전화",null,{"$f":"SUM(T20:W20)","v":332617},{"$f":"SUM(D20:F20)","v":332617},{"$f":"SUM(G20:I20)","v":0},{"$f":"SUM(J20:L20)","v":0},{"$f":"SUM(M20:O20)","v":0}]
["전화 비율","(%)",{"$f":"C20/C19","v":0.96513392507391926},{"$f":"D20/D19","v":0.96565329950821888},{"$f":"E20/E19","v":0.96447780601690403},null,{"$error":"#DIV/0!"},{"$error":"#DIV/0!"},{"$error":"#DIV/0!"},{"$error":"#DIV/0!"},{"$error":"#DIV/0!"},{"$error":"#DIV/0!"},{"$error":"#DIV/0!"},{"$error":"#DIV/0!"},{"$error":"#DIV/0!"},null,"전화 비율","(%)",{"$f":"S20/S19","v":0.96513392507391926},{"$f":"T20/T19","v":0.96513392507391926},{"$f":"U20/U19","v":{"$error":"#DIV/0!"}},{"$f":"V20/V19","v":{"$error":"#DIV/0!"}},{"$f":"W20/W19","v":{"$error":"#DIV/0!"}}]
["온라인",null,{"$f":"SUM(D22:O22)","v":12016},6607,5409,{"$nulls":11},"온라인",null,{"$f":"SUM(T22:W22)","v":12016},{"$f":"SUM(D22:F22)","v":12016},{"$f":"SUM(G22:I22)","v":0},{"$f":"SUM(J22:L22)","v":0},{"$f":"SUM(M22:O22)","v":0}]
["온라인 비율","(%)",{"$f":"C22/C19","v":3.4866074926080785E-2},3.4346700491781124E-2,3.5522193983095925E-2,{"$error":"#DIV/0!"},{"$error":"#DIV/0!"},{"$error":"#DIV/0!"},{"$error":"#DIV/0!"},{"$error":"#DIV/0!"},{"$error":"#DIV/0!"},{"$error":"#DIV/0!"},{"$error":"#DIV/0!"},{"$error":"#DIV/0!"},{"$error":"#DIV/0!"},null,"온라인 비율","(%)",{"$f":"S22/S19","v":3.4866074926080785E-2},{"$f":"T22/T19","v":3.4866074926080785E-2},{"$f":"U22/U19","v":{"$error":"#DIV/0!"}},{"$f":"V22/V19","v":{"$error":"#DIV/0!"}},{"$f":"W22/W19","v":{"$error":"#DIV/0!"}}]
["※ 온라인 : AP 접수채널 (화상상담, 수화상담, 채팅상담, 문자상담, SNS상담_트위터(멘션응대,RT응대,DM응대),페이스북, 카카오톡)"]
[]
["※ 온라인 처리건에 문자상담 포함 수치로 변경"]
[]
["○ 응대콜"]
["년도",null,"계 ","1월 ","2월 ","3월 ","4월 ","5월 ","6월 ","7월 ","8월 ","9월 ","10월 ","11월 ","12월 ",null,"년도",null,"계 ","1분기","2분기","3분기","4분기"]
["2026년",null,{"$f":"SUM(D30:O30)","v":344023},{"$f":"D31+D33","v":192005},{"$f":"E31+E33","v":152018},0,0,{"$f":"H31+H33","v":0},{"$f":"I31+I33","v":0},0,0,0,0,0,0,null,"2026년",null,{"$f":"SUM(T30:W30)","v":344023},{"$f":"SUM(D30:F30)","v":344023},{"$f":"SUM(G30:I30)","v":0},{"$f":"SUM(J30:L30)","v":0},{"$f":"SUM(M30:O30)","v":0}]
["전화",null,{"$f":"SUM(D31:O31)","v":332012},185412,146600,{"$nulls":11},"전화",null,{"$f":"SUM(T31:W31)","v":332012},{"$f":"SUM(D31:F31)","v":332012},{"$f":"SUM(G31:I31)","v":0},{"$f":"SUM(J31:L31)","v":0},{"$f":"SUM(M31:O31)","v":0}]
["전화 비율","(%)",{"$f":"C31/C30","v":0.96508663664929384},0.96566235254290256,0.96435948374534597,{"$error":"#DIV/0!"},{"$error":"#DIV/0!"},{"$error":"#DIV/0!"},{"$error":"#DIV/0!"},{"$error":"#DIV/0!"},{"$error":"#DIV/0!"},{"$error":"#DIV/0!"},{"$error":"#DIV/0!"},{"$error":"#DIV/0!"},{"$error":"#DIV/0!"},null,"전화 비율","(%)",{"$f":"S31/S30","v":0.96508663664929384},{"$f":"T31/T30","v":0.96508663664929384},{"$f":"U31/U30","v":{"$error":"#DIV/0!"}},{"$f":"V31/V30","v":{"$error":"#DIV/0!"}},{"$f":"W31/W30","v":{"$error":"#DIV/0!"}}]
["온라인",null,{"$f":"SUM(D33:O33)","v":12011},6593,5418,{"$nulls":11},"온라인",null,{"$f":"SUM(T33:W33)","v":12011},{"$f":"SUM(D33:F33)","v":12011},{"$f":"SUM(G33:I33)","v":0},{"$f":"SUM(J33:L33)","v":0},{"$f":"SUM(M33:O33)","v":0}]
["온라인 비율","(%)",{"$f":"C33/C30","v":3.4913363350706203E-2},3.433764745709747E-2,3.5640516254654052E-2,{"$error":"#DIV/0!"},{"$error":"#DIV/0!"},{"$error":"#DIV/0!"},{"$error":"#DIV/0!"},{"$error":"#DIV/0!"},{"$error":"#DIV/0!"},{"$error":"#DIV/0!"},{"$error":"#DIV/0!"},{"$error":"#DIV/0!"},{"$error":"#DIV/0!"},null,"온라인 비율","(%)",{"$f":"S33/S30","v":3.4913363350706203E-2},{"$f":"T33/T30","v":3.4913363350706203E-2},{"$f":"U33/U30","v":{"$error":"#DIV/0!"}},{"$f":"V33/V30","v":{"$error":"#DIV/0!"}},{"$f":"W33/W30","v":{"$error":"#DIV/0!"}}]
[]
["○ 응대율",{"$nulls":15}," 콜센터 과거실적"]
["년도",null,"계 ","1월 ","2월 ","3월 ","4월 ","5월 ","6월 ","7월 ","8월 ","9월 ","10월 ","11월 ","12월 ",null,"기간","인입콜","응대콜","응대율","서비스레벨","1일평균인입콜","이용만족도"]
["2026년",null,{"$f":"C30/C4","v":0.94654575169692756},{"$f":"D30/D4","v":0.94485999704738943},{"$f":"E30/E4","v":0.94868354540972655},{"$error":"#DIV/0!"},{"$error":"#DIV/0!"},{"$error":"#DIV/0!"},{"$error":"#DIV/0!"},{"$error":"#DIV/0!"},{"$error":"#DIV/0!"},{"$error":"#DIV/0!"},{"$error":"#DIV/0!"},{"$error":"#DIV/0!"},{"$error":"#DIV/0!"},null,"2008년",1523754,1325545,{"$f":"S38/R38","v":0.86992060398200755},0.95599999999999996,5824]
[{"$nulls":16},"2009년",1659275,1442903,{"$f":"S39/R39","v":0.86959846921095052},0.91200000000000003,6251]
["○ 서비스레벨",{"$nulls":15},"2010년",1962545,1591038,0.81070141066829038,0.79600000000000004,7592]
["년도",null,"계 ","1월 ","2월 ","3월 ","4월 ","5월 ","6월 ","7월 ","8월 ","9월 ","10월 ","11월 ","12월 ",null,"2011년",2187883,1985676,0.90757869593575158,0.84499999999999997,8594,"88.0점"]
["2026년",null,0.85399999999999998,0.85399999999999998,0.85699999999999998,{"$nulls":11},"2012년",2138659,1973672,0.92285492918693446,0.83299999999999996,8416,"90.3점"]
[{"$nulls":16},"2013년",2133326,1932281,0.90575983229942358,0.80600000000000005,8446,"91.4점"]
["○ 1일평균 인입콜",{"$nulls":15},"2014년",2319637,2112077,0.91052048229960114,0.84499999999999997,9251,"91.7점"]
["년도",null,"계 ","1월 ","2월 ","3월 ","4월 ","5월 ","6월 ","7월 ","8월 ","9월 ","10월 ","11월 ","12월 ",null,"2015년",2529584,2297485,0.90824617802769148,0.875,9967,"91.2점"]
["2026년",null,8966,8966,8463,{"$nulls":11},"2016년",2667572,2571024,0.96380678759561134,0.874,10306,"91.3점"]
[{"$nulls":16},"2017년",2931598,2817404,0.96104718314038962,0.877,10868,"91.5점"]
["○ 1일평균 처리콜",{"$nulls":15},"2018년",3254756,3097860,0.95179485036666345,0.86799999999999999,11982,"86.0점"]
["년도",null,"계 ","1월 ","2월 ","3월 ","4월 ","5월 ","6월 ","7월 ","8월 ","9월 ","10월 ","11월 ","12월 ",null,"2019년",3139917,2928671,0.93272242546538653,0.84499999999999997,11569,"87.5점"]
["2026년",null,8489,8489,8046,{"$nulls":11},"2020년",3801491,3280256,0.8628866936683528,0.71,14039,"88.2점"]
[{"$nulls":16},"2021년",3097391,2851423,0.92058865025435921,0.80900000000000005,11346,"90.1점"]
[{"$nulls":16},"2022년",2665492,2482789,0.93145618144792786,0.84399999999999997,10132,"90.3점"]
[{"$nulls":16},"2023년",2552476,2393661,0.93778002222156054,0.84499999999999997,9428,"90.7점"]
[{"$nulls":16},"2024년",2439681,2156801,0.88400000000000001,0.77500000000000002,9178,"90.8점"]
[{"$nulls":16},"2025년",2358239,2198935,0.93244789862265864,0.8279093147047436,8870.1646090534978,"90.9점"]
[{"$nulls":16},"2026년"]

{"sheet":"3.민원실창구상담","index":2,"n_rows":168,"n_cols":27,"rows_kept":168,"cut":false,"hidden":false,"merged":[[16,0,43,0],[46,0,73,0],[76,0,103,0],[10,0,13,0],[2,0,5,0],[6,0,9,0]]}
["3. 민원실 창구상담"]
[null,"구분","합계","1월","2월","3월","4월","5월","6월","7월","8월","9월","10월","11월","12월","합계","1분기","비율","2분기","비율","3분기","비율","4분기","비율"]
["합계","조사관",{"$f":"SUM(D3:O3)","v":232},{"$f":"D7+D11","v":127},105,0,0,0,0,0,0,0,0,{"$f":"N7+N11","v":0},{"$f":"O7+O11","v":0},{"$f":"C3","v":232},{"$f":"SUM(D3:F3)","v":232},{"$f":"Q3/P3","v":1},{"$f":"SUM(G3:I3)","v":0},{"$f":"S3/P3","v":0},{"$f":"SUM(J3:L3)","v":0},{"$f":"U3/P3","v":0},{"$f":"SUM(M3:O3)","v":0},{"$f":"W3/P3","v":0}]
[null,"전문위원",134,{"$f":"D8+D12","v":72},62,0,0,0,0,0,0,0,0,0,0,134,134,1,0,0,0,0,0,0]
[null,"민원위원",195,{"$f":"D9+D13","v":116},79,0,0,0,0,0,0,0,0,0,0,195,195,1,0,0,0,0,0,0]
[null,"총  계 ",561,{"$f":"SUM(D3:D5)","v":315},246,0,0,0,0,0,0,0,0,0,0,561,561,1,0,0,0,0,0,0]
["서울\n(민원실)\n(고충+일반)","조사관",18,{"$f":"'4.조사관상담'!D30","v":11},{"$f":"'4.조사관상담'!E30","v":7},{"$f":"'4.조사관상담'!F30","v":0},{"$f":"'4.조사관상담'!G30","v":0},{"$f":"'4.조사관상담'!H30","v":0},{"$f":"'4.조사관상담'!I30","v":0},{"$f":"'4.조사관상담'!J30","v":0},{"$f":"'4.조사관상담'!K30","v":0},{"$f":"'4.조사관상담'!L30","v":0},{"$f":"'4.조사관상담'!M30","v":0},{"$f":"'4.조사관상담'!N30","v":0},{"$f":"'4.조사관상담'!O30","v":0},18,18,1,0,0,0,0,0,0]
[null,"전문위원",123,{"$f":"'5.전문,민원위원상담'!C5","v":68},{"$f":"'5.전문,민원위원상담'!D5","v":55},{"$f":"'5.전문,민원위원상담'!E5","v":0},{"$f":"'5.전문,민원위원상담'!F5","v":0},{"$f":"'5.전문,민원위원상담'!G5","v":0},{"$f":"'5.전문,민원위원상담'!H5","v":0},{"$f":"'5.전문,민원위원상담'!I5","v":0},{"$f":"'5.전문,민원위원상담'!J5","v":0},{"$f":"'5.전문,민원위원상담'!K5","v":0},{"$f":"'5.전문,민원위원상담'!L5","v":0},{"$f":"'5.전문,민원위원상담'!M5","v":0},{"$f":"'5.전문,민원위원상담'!N5","v":0},123,123,1,0,0,0,0,0,0]
[null,"민원위원",139,{"$f":"'5.전문,민원위원상담'!C11","v":90},{"$f":"'5.전문,민원위원상담'!D11","v":49},{"$f":"'5.전문,민원위원상담'!E11","v":0},{"$f":"'5.전문,민원위원상담'!F11","v":0},{"$f":"'5.전문,민원위원상담'!G11","v":0},{"$f":"'5.전문,민원위원상담'!H11","v":0},{"$f":"'5.전문,민원위원상담'!I11","v":0},{"$f":"'5.전문,민원위원상담'!J11","v":0},{"$f":"'5.전문,민원위원상담'!K11","v":0},{"$f":"'5.전문,민원위원상담'!L11","v":0},{"$f":"'5.전문,민원위원상담'!M11","v":0},{"$f":"'5.전문,민원위원상담'!N11","v":0},139,139,1,0,0,0,0,0,0]
[null,"소   계 ",280,{"$f":"SUM(D7:D9)","v":169},111,0,0,0,0,0,0,0,0,0,0,280,280,1,0,0,0,0,0,0]
["세종\n(고충+일반)","조사관",214,{"$f":"'4.조사관상담'!D60","v":116},{"$f":"'4.조사관상담'!E60","v":98},{"$f":"'4.조사관상담'!F60","v":0},{"$f":"'4.조사관상담'!G60","v":0},{"$f":"'4.조사관상담'!H60","v":0},{"$f":"'4.조사관상담'!I60","v":0},{"$f":"'4.조사관상담'!J60","v":0},{"$f":"'4.조사관상담'!K60","v":0},{"$f":"'4.조사관상담'!L60","v":0},{"$f":"'4.조사관상담'!M60","v":0},{"$f":"'4.조사관상담'!N60","v":0},{"$f":"'4.조사관상담'!O60","v":0},214,214,1,0,0,0,0,0,0]
[null,"전문위원",11,{"$f":"'5.전문,민원위원상담'!C15","v":4},{"$f":"'5.전문,민원위원상담'!D15","v":7},{"$f":"'5.전문,민원위원상담'!E15","v":0},{"$f":"'5.전문,민원위원상담'!F15","v":0},{"$f":"'5.전문,민원위원상담'!G15","v":0},{"$f":"'5.전문,민원위원상담'!H15","v":0},{"$f":"'5.전문,민원위원상담'!I15","v":0},{"$f":"'5.전문,민원위원상담'!J15","v":0},{"$f":"'5.전문,민원위원상담'!K15","v":0},{"$f":"'5.전문,민원위원상담'!L15","v":0},{"$f":"'5.전문,민원위원상담'!M15","v":0},{"$f":"'5.전문,민원위원상담'!N15","v":0},11,11,1,0,0,0,0,0,0]
[null,"민원위원",56,{"$f":"'5.전문,민원위원상담'!C21","v":26},{"$f":"'5.전문,민원위원상담'!D21","v":30},{"$f":"'5.전문,민원위원상담'!E21","v":0},{"$f":"'5.전문,민원위원상담'!F21","v":0},{"$f":"'5.전문,민원위원상담'!G21","v":0},{"$f":"'5.전문,민원위원상담'!H21","v":0},{"$f":"'5.전문,민원위원상담'!I21","v":0},{"$f":"'5.전문,민원위원상담'!J21","v":0},{"$f":"'5.전문,민원위원상담'!K21","v":0},{"$f":"'5.전문,민원위원상담'!L21","v":0},{"$f":"'5.전문,민원위원상담'!M21","v":0},{"$f":"'5.전문,민원위원상담'!N21","v":0},56,56,1,{"$f":"SUM(F13:I13)","v":0},0,0,0,0,0]
[null,"소   계 ",281,{"$f":"SUM(D11:D13)","v":146},135,0,0,0,0,0,0,0,0,0,0,281,281,1,{"$f":"SUM(G14:I14)","v":0},0,0,0,0,0]
[]
[null,null,"합계","1월","2월","3월","4월","5월","6월","7월","8월","9월","10월","11월","12월","합계","1분기","비율","2분기","비율","3분기","비율","4분기","비율"]
["서울\n(고충+일반)","건축",{"$f":"SUM(D17:N17)","v":0},{"$nulls":12},{"$f":"C17","v":0},{"$f":"SUM(D17:F17)","v":0},{"$f":"Q17/P17","v":{"$error":"#DIV/0!"}},{"$f":"SUM(G17:I17)","v":0},{"$f":"S17/P17","v":{"$error":"#DIV/0!"}},{"$f":"SUM(J17:L17)","v":0},{"$f":"U17/P17","v":{"$error":"#DIV/0!"}},{"$f":"SUM(M17:N17)","v":0},{"$f":"W17/P17","v":{"$error":"#DIV/0!"}}]
[null,"경찰",5,1,4,{"$nulls":10},5,5,1,0,0,0,0,0,0]
[null,"고용노동",6,4,2,{"$nulls":10},6,6,1,0,0,0,0,0,0]
[null,"교육",1,null,1,{"$nulls":10},1,1,1,0,0,0,0,0,0]
[null,"교통",1,1,{"$nulls":11},1,1,1,0,0,0,0,0,0]
[null,"국방",0,{"$nulls":12},0,0,{"$error":"#DIV/0!"},0,{"$error":"#DIV/0!"},0,{"$error":"#DIV/0!"},0,{"$error":"#DIV/0!"}]
[null,"군사",0,{"$nulls":12},0,0,{"$f":"Q23/P23","v":{"$error":"#DIV/0!"}},{"$f":"SUM(G23:I23)","v":0},{"$f":"S23/P23","v":{"$error":"#DIV/0!"}},0,{"$f":"U23/P23","v":{"$error":"#DIV/0!"}},0,{"$f":"W23/P23","v":{"$error":"#DIV/0!"}}]
[null,"기타",220,149,71,{"$nulls":10},220,220,1,0,0,0,0,0,0]
[null,"농림·축산",1,null,1,{"$nulls":10},{"$f":"C25","v":1},{"$f":"SUM(D25:F25)","v":1},{"$f":"Q25/P25","v":1},{"$f":"SUM(G25:I25)","v":0},{"$f":"S25/P25","v":0},0,{"$f":"U25/P25","v":0},0,{"$f":"W25/P25","v":0}]
[null,"도로",0,{"$nulls":12},0,0,{"$error":"#DIV/0!"},0,{"$error":"#DIV/0!"},0,{"$error":"#DIV/0!"},0,{"$error":"#DIV/0!"}]
[null,"도시",2,1,1,{"$nulls":10},2,2,1,0,0,0,0,0,0]
[null,"문화·관광·체육",0,{"$nulls":12},0,0,{"$error":"#DIV/0!"},0,{"$error":"#DIV/0!"},0,{"$error":"#DIV/0!"},0,{"$error":"#DIV/0!"}]
[null,"민사·법무",27,8,19,{"$nulls":10},27,27,1,0,0,0,0,0,0]
[null,"방송통신",0,{"$nulls":12},0,0,{"$error":"#DIV/0!"},{"$f":"SUM(G30:I30)","v":0},{"$error":"#DIV/0!"},0,{"$error":"#DIV/0!"},0,{"$error":"#DIV/0!"}]
[null,"보건복지",2,null,2,{"$nulls":10},2,2,1,0,0,0,0,0,0]
[null,"보훈",0,{"$nulls":12},0,0,{"$error":"#DIV/0!"},0,{"$error":"#DIV/0!"},0,{"$error":"#DIV/0!"},0,{"$error":"#DIV/0!"}]
[null,"산업·통상·자원",0,{"$nulls":12},0,0,{"$error":"#DIV/0!"},0,{"$error":"#DIV/0!"},0,{"$error":"#DIV/0!"},0,{"$error":"#DIV/0!"}]
[null,"세무",3,2,1,{"$nulls":10},3,3,1,0,0,0,0,0,0]
[null,"수자원",{"$f":"SUM(D35:M35)","v":1},null,1,{"$nulls":10},1,1,1,0,0,0,0,0,0]
[null,"식품의약",0,{"$nulls":12},0,0,{"$error":"#DIV/0!"},{"$f":"SUM(G36:I36)","v":0},{"$error":"#DIV/0!"},{"$f":"SUM(J36:L36)","v":0},{"$error":"#DIV/0!"},0,{"$error":"#DIV/0!"},null,null,2]
[null,"외무·통일",2,null,2,{"$nulls":10},2,2,1,0,0,0,0,0,0]
[null,"인사행정",0,{"$nulls":12},0,0,{"$error":"#DIV/0!"},0,{"$error":"#DIV/0!"},0,{"$error":"#DIV/0!"},0,{"$f":"W38/P38","v":{"$error":"#DIV/0!"}}]
[null,"재정·금융·보험·공정거래",4,1,3,{"$nulls":10},4,4,1,0,0,0,0,0,0]
[null,"주택",1,null,1,{"$nulls":10},1,1,1,0,0,0,0,0,0]
[null,"해양수산",0,{"$nulls":12},{"$f":"C41","v":0},{"$f":"SUM(D41:F41)","v":0},{"$f":"Q41/P41","v":{"$error":"#DIV/0!"}},0,{"$f":"S41/P41","v":{"$error":"#DIV/0!"}},0,{"$f":"U41/P41","v":{"$error":"#DIV/0!"}},0,{"$error":"#DIV/0!"}]
[null,"행정안전",3,2,1,{"$nulls":10},{"$f":"C42","v":3},{"$f":"SUM(D42:F42)","v":3},{"$f":"Q42/P42","v":1},0,{"$f":"S42/P42","v":0},0,{"$f":"U42/P42","v":0},0,0]
[null,"환경",{"$f":"SUM(D43:N43)","v":1},null,1,{"$nulls":10},{"$f":"C43","v":1},{"$f":"SUM(D43:F43)","v":1},{"$f":"Q43/P43","v":1},0,{"$f":"S43/P43","v":0},0,{"$f":"U43/P43","v":0},0,0]
[null,"합계",{"$f":"SUM(D44:O44)","v":280},{"$f":"SUM(D17:D43)","v":169},{"$f":"SUM(E17:E43)","v":111},0,{"$f":"SUM(G17:G43)","v":0},{"$f":"SUM(H17:H43)","v":0},0,0,0,0,0,0,0,{"$f":"C44","v":280},{"$f":"SUM(D44:F44)","v":280},{"$f":"Q44/P44","v":1},{"$f":"SUM(G44:I44)","v":0},{"$f":"S44/P44","v":0},0,{"$f":"U44/P44","v":0},0,{"$f":"W44/P44","v":0}]
[]
[null,null,"합계","1월","2월","3월","4월","5월","6월","7월","8월","9월","10월","11월","12월","합계","1분기","비율","2분기","비율","3분기","비율","4분기","비율"]
["세종\n(고충+일반)","건축",{"$f":"SUM(D47:N47)","v":8},2,6,{"$nulls":10},{"$f":"C47","v":8},{"$f":"SUM(D47:F47)","v":8},{"$f":"Q47/P47","v":1},{"$f":"SUM(E47:I47)","v":6},{"$f":"S47/P47","v":0.75},{"$f":"SUM(J47:L47)","v":0},{"$f":"U47/P47","v":0},{"$f":"SUM(M47:N47)","v":0},{"$f":"W47/P47","v":0}]
[null,"경찰",17,9,8,{"$nulls":10},17,17,1,8,0.47058823529411764,0,0,0,0]
[null,"고용노동",3,2,1,{"$nulls":10},3,3,1,1,0.33333333333333331,0,0,0,0]
[null,"교육",1,null,1,{"$nulls":10},1,1,1,1,1,0,0,0,0]
[null,"교통",2,1,1,{"$nulls":10},2,2,1,1,0.5,0,0,0,0]
[null,"국방",7,5,2,{"$nulls":10},7,7,1,2,0.2857142857142857,0,0,0,0]
[null,"군사",0,{"$nulls":12},0,0,{"$error":"#DIV/0!"},0,{"$error":"#DIV/0!"},0,{"$error":"#DIV/0!"},0,{"$error":"#DIV/0!"}]
[null,"기타",158,88,70,{"$nulls":10},158,158,1,70,0.44303797468354428,{"$f":"SUM(J54:L54)","v":0},0,0,0]
[null,"농림·축산",10,8,2,{"$nulls":10},10,10,1,2,0.2,0,0,0,0]
[null,"도로",4,1,3,{"$nulls":10},4,4,1,3,0.75,0,0,0,0]
[null,"도시",8,5,3,{"$nulls":10},{"$f":"C57","v":8},8,{"$f":"Q57/P57","v":1},3,{"$f":"S57/P57","v":0.375},{"$f":"SUM(J57:L57)","v":0},{"$f":"U57/P57","v":0},0,{"$f":"W57/P57","v":0}]
[null,"문화·관광·체육",0,{"$nulls":12},0,0,{"$error":"#DIV/0!"},0,{"$error":"#DIV/0!"},0,{"$error":"#DIV/0!"},0,{"$error":"#DIV/0!"}]
[null,"민사·법무",3,1,2,{"$nulls":10},3,3,1,2,0.66666666666666663,0,0,0,0]
[null,"방송통신",0,{"$nulls":12},0,0,{"$error":"#DIV/0!"},0,{"$error":"#DIV/0!"},0,{"$error":"#DIV/0!"},0,{"$error":"#DIV/0!"}]
[null,"보건복지",12,5,7,{"$nulls":10},12,12,1,7,0.58333333333333337,0,0,0,0]
[null,"보훈",4,null,4,{"$nulls":10},4,4,1,4,1,0,0,0,0]
[null,"산업·통상·자원",4,2,2,{"$nulls":10},4,4,1,2,0.5,0,0,0,0]
[null,"세무",{"$f":"SUM(D64:M64)","v":7},3,4,{"$nulls":10},7,7,1,4,0.5714285714285714,0,0,0,0]
[null,"수자원",3,2,1,{"$nulls":10},3,3,1,1,0.33333333333333331,0,0,0,0]
[null,"식품의약",0,{"$nulls":12},0,0,{"$error":"#DIV/0!"},{"$f":"SUM(E66:I66)","v":0},{"$error":"#DIV/0!"},0,{"$error":"#DIV/0!"},0,{"$error":"#DIV/0!"}]
[null,"외무·통일",0,{"$nulls":12},{"$f":"C67","v":0},0,{"$error":"#DIV/0!"},{"$f":"SUM(E67:H67)","v":0},{"$f":"S67/P67","v":{"$error":"#DIV/0!"}},{"$f":"SUM(K67:L67)","v":0},{"$f":"U67/P67","v":{"$error":"#DIV/0!"}},0,{"$error":"#DIV/0!"}]
[null,"인사행정",1,null,1,{"$nulls":10},1,{"$f":"SUM(D68:D68)","v":0},0,{"$f":"SUM(F68:H68)","v":0},0,{"$f":"SUM(K68:L68)","v":0},0,0,0]
[null,"재정·금융·보험·공정거래",11,2,9,{"$nulls":10},11,2,0.18181818181818182,0,0,0,0,0,0]
[null,"주택",3,2,1,{"$nulls":10},3,2,0.66666666666666663,0,0,0,0,0,0]
[null,"해양수산",0,{"$nulls":12},0,0,{"$error":"#DIV/0!"},0,{"$error":"#DIV/0!"},0,{"$error":"#DIV/0!"},0,{"$error":"#DIV/0!"}]
[null,"행정안전",{"$f":"SUM(D72:N72)","v":11},7,4,{"$nulls":10},11,7,0.63636363636363635,0,0,0,0,0,0]
[null,"환경",{"$f":"SUM(D73:M73)","v":4},1,3,{"$nulls":10},4,1,0.25,0,0,0,0,0,0]
[null,"합계",{"$f":"SUM(C47:C73)","v":281},146,135,0,0,0,{"$f":"SUM(I47:I73)","v":0},{"$f":"SUM(J47:J73)","v":0},{"$f":"SUM(K47:K73)","v":0},0,0,0,0,{"$f":"C74","v":281},{"$f":"SUM(D74:F74)","v":281},{"$f":"Q74/P74","v":1},{"$f":"SUM(G74:I74)","v":0},{"$f":"S74/P74","v":0},{"$f":"SUM(J74:L74)","v":0},{"$f":"U74/P74","v":0},0,{"$f":"W74/P74","v":0}]
[{"$nulls":15},{"$f":"C75","v":0}]
[null,null,"합계","1월","2월","3월","4월","5월","6월","7월","8월","9월","10월","11월","12월","합계","1분기","비율","2분기","비율","3분기","비율","4분기","비율"]
["합계\n(고충+일반)","건축",{"$f":"SUM(D77:O77)","v":8},{"$f":"D47+D17","v":2},6,0,0,{"$f":"H$47+H$17","v":0},{"$f":"I$47+I$17","v":0},{"$f":"J$47+J$17","v":0},0,0,0,0,0,{"$f":"C77","v":8},{"$f":"SUM(D77:F77)","v":8},{"$f":"Q77/P77","v":1},{"$f":"SUM(G77:I77)","v":0},{"$f":"S77/P77","v":0},{"$f":"SUM(J77:L77)","v":0},{"$f":"U77/P77","v":0},{"$f":"SUM(M77:O77)","v":0},{"$f":"W77/P77","v":0}]
[null,"경찰",22,{"$f":"D48+D18","v":10},12,0,0,{"$f":"H$48+H$18","v":0},{"$f":"I$48+I$18","v":0},{"$f":"J$48+J$18","v":0},0,{"$f":"L48+L18","v":0},{"$f":"M48+M18","v":0},0,0,22,22,1,0,0,0,0,0,0]
[null,"고용노동",9,{"$f":"D49+D19","v":6},3,0,0,{"$f":"H$49+H$19","v":0},{"$f":"I$49+I$19","v":0},{"$f":"J$49+J$19","v":0},0,{"$f":"L49+L19","v":0},{"$f":"M49+M19","v":0},0,0,9,9,1,0,0,0,0,0,0]
[null,"교육",2,{"$f":"D50+D20","v":0},2,0,0,{"$f":"H$50+H$20","v":0},{"$f":"I$50+I$20","v":0},{"$f":"J$50+J$20","v":0},0,{"$f":"L50+L20","v":0},{"$f":"M50+M20","v":0},0,0,2,2,1,0,0,0,0,0,0]
[null,"교통",3,{"$f":"D51+D21","v":2},1,0,0,{"$f":"H$51+H$21","v":0},{"$f":"I$51+I$21","v":0},{"$f":"J$51+J$21","v":0},0,{"$f":"L51+L21","v":0},{"$f":"M51+M21","v":0},0,0,3,3,1,0,0,0,0,0,0]
[null,"국방",7,{"$f":"D52+D22","v":5},2,0,0,{"$f":"H$52+H$22","v":0},{"$f":"I$52+I$22","v":0},{"$f":"J$52+J$22","v":0},0,{"$f":"L52+L22","v":0},{"$f":"M52+M22","v":0},0,0,7,7,1,0,0,0,0,0,0]
[null,"군사",0,{"$f":"D53+D23","v":0},0,0,0,{"$f":"H$53+H$23","v":0},{"$f":"I$53+I$23","v":0},{"$f":"J$53+J$23","v":0},0,{"$f":"L53+L23","v":0},{"$f":"M53+M23","v":0},0,0,0,0,{"$error":"#DIV/0!"},0,{"$error":"#DIV/0!"},0,{"$error":"#DIV/0!"},0,{"$error":"#DIV/0!"}]
[null,"기타",378,{"$f":"D54+D24","v":237},141,0,0,{"$f":"H$54+H$24","v":0},{"$f":"I$54+I$24","v":0},{"$f":"J$54+J$24","v":0},0,{"$f":"L54+L24","v":0},{"$f":"M54+M24","v":0},0,0,378,378,1,0,0,0,0,0,0]
[null,"농림·축산",11,{"$f":"D55+D25","v":8},3,0,0,{"$f":"H$55+H$25","v":0},{"$f":"I$55+I$25","v":0},{"$f":"J$55+J$25","v":0},0,{"$f":"L55+L25","v":0},{"$f":"M55+M25","v":0},0,0,11,11,1,0,0,0,0,0,0]
[null,"도로",4,{"$f":"D56+D26","v":1},3,0,0,{"$f":"H$56+H$26","v":0},{"$f":"I$56+I$26","v":0},{"$f":"J$56+J$26","v":0},0,{"$f":"L56+L26","v":0},{"$f":"M56+M26","v":0},0,0,4,4,1,0,0,0,0,0,0]
[null,"도시",10,{"$f":"D57+D27","v":6},4,0,0,{"$f":"H$57+H$27","v":0},{"$f":"I$57+I$27","v":0},{"$f":"J$57+J$27","v":0},0,{"$f":"L57+L27","v":0},{"$f":"M57+M27","v":0},0,0,{"$f":"C87","v":10},{"$f":"SUM(D87:F87)","v":10},{"$f":"Q87/P87","v":1},{"$f":"SUM(G87:I87)","v":0},{"$f":"S87/P87","v":0},{"$f":"SUM(J87:L87)","v":0},{"$f":"U87/P87","v":0},{"$f":"SUM(M87:O87)","v":0},{"$f":"W87/P87","v":0}]
[null,"문화·관광·체육",0,{"$f":"D58+D28","v":0},0,0,0,{"$f":"H$58+H$28","v":0},{"$f":"I$58+I$28","v":0},{"$f":"J$58+J$28","v":0},0,{"$f":"L58+L28","v":0},{"$f":"M58+M28","v":0},0,0,0,0,{"$error":"#DIV/0!"},0,{"$error":"#DIV/0!"},0,{"$error":"#DIV/0!"},0,{"$error":"#DIV/0!"}]
[null,"민사·법무",30,{"$f":"D59+D29","v":9},21,0,0,{"$f":"H$59+H$29","v":0},{"$f":"I$59+I$29","v":0},{"$f":"J$59+J$29","v":0},0,{"$f":"L59+L29","v":0},{"$f":"M59+M29","v":0},0,0,30,30,1,0,0,0,0,0,0]
[null,"방송통신",0,{"$f":"D60+D30","v":0},0,0,0,{"$f":"H$60+H$30","v":0},{"$f":"I$60+I$30","v":0},{"$f":"J$60+J$30","v":0},0,{"$f":"L60+L30","v":0},{"$f":"M60+M30","v":0},0,0,0,0,{"$error":"#DIV/0!"},0,{"$error":"#DIV/0!"},0,{"$error":"#DIV/0!"},0,{"$error":"#DIV/0!"}]
[null,"보건복지",14,{"$f":"D61+D31","v":5},9,0,0,{"$f":"H$61+H$31","v":0},{"$f":"I$61+I$31","v":0},{"$f":"J$61+J$31","v":0},0,{"$f":"L61+L31","v":0},{"$f":"M61+M31","v":0},0,0,14,14,1,0,0,0,0,0,0]
[null,"보훈",4,{"$f":"D62+D32","v":0},4,0,0,{"$f":"H$62+H$32","v":0},{"$f":"I$62+I$32","v":0},{"$f":"J$62+J$32","v":0},0,{"$f":"L62+L32","v":0},{"$f":"M62+M32","v":0},0,0,4,4,1,0,0,0,0,0,0]
[null,"산업·통상·자원",4,{"$f":"D63+D33","v":2},2,0,0,{"$f":"H$63+H$33","v":0},{"$f":"I$63+I$33","v":0},{"$f":"J$63+J$33","v":0},0,{"$f":"L63+L33","v":0},{"$f":"M63+M33","v":0},0,0,4,4,1,0,0,0,0,0,0]
[null,"세무",10,{"$f":"D64+D34","v":5},5,0,0,{"$f":"H$64+H$34","v":0},{"$f":"I$64+I$34","v":0},{"$f":"J$64+J$34","v":0},0,{"$f":"L64+L34","v":0},{"$f":"M64+M34","v":0},0,0,10,10,1,0,0,0,0,0,0]
[null,"수자원",4,{"$f":"D65+D35","v":2},2,0,0,{"$f":"H$65+H$35","v":0},{"$f":"I$65+I$35","v":0},{"$f":"J$65+J$35","v":0},0,{"$f":"L65+L35","v":0},{"$f":"M65+M35","v":0},0,0,4,4,{"$f":"Q95/P95","v":1},{"$f":"SUM(G95:I95)","v":0},{"$f":"S95/P95","v":0},{"$f":"SUM(J95:L95)","v":0},{"$f":"U95/P95","v":0},{"$f":"SUM(M95:O95)","v":0},{"$f":"W95/P95","v":0}]
[null,"식품의약",0,{"$f":"D66+D36","v":0},0,0,0,{"$f":"H$66+H$36","v":0},{"$f":"I$66+I$36","v":0},{"$f":"J$66+J$36","v":0},0,{"$f":"L66+L36","v":0},{"$f":"M66+M36","v":0},0,0,0,0,{"$error":"#DIV/0!"},0,{"$error":"#DIV/0!"},0,{"$error":"#DIV/0!"},0,{"$error":"#DIV/0!"}]
[null,"외무·통일",2,{"$f":"D67+D37","v":0},2,0,0,{"$f":"H$67+H$37","v":0},{"$f":"I$67+I$37","v":0},{"$f":"J$67+J$37","v":0},null,{"$f":"L67+L37","v":0},{"$f":"M67+M37","v":0},0,0,2,2,1,0,0,0,0,0,0]
[null,"인사행정",1,{"$f":"D68+D38","v":0},1,0,0,{"$f":"H$68+H$38","v":0},{"$f":"I$68+I$38","v":0},{"$f":"J$68+J$38","v":0},0,{"$f":"L68+L38","v":0},{"$f":"M68+M38","v":0},0,0,1,1,1,0,0,0,0,0,0]
[null,"재정·금융·보험·공정거래",15,{"$f":"D69+D39","v":3},12,0,0,{"$f":"H$69+H$39","v":0},{"$f":"I$69+I$39","v":0},{"$f":"J$69+J$39","v":0},0,{"$f":"L69+L39","v":0},{"$f":"M69+M39","v":0},0,0,15,15,1,0,0,0,0,0,0]
[null,"주택",4,{"$f":"D70+D40","v":2},2,0,0,{"$f":"H$70+H$40","v":0},{"$f":"I$70+I$40","v":0},{"$f":"J$70+J$40","v":0},0,{"$f":"L70+L40","v":0},{"$f":"M70+M40","v":0},0,0,4,4,1,0,0,0,0,0,0]
[null,"해양수산",0,{"$f":"D71+D41","v":0},0,0,0,{"$f":"H$71+H$41","v":0},{"$f":"I$71+I$41","v":0},{"$f":"J$71+J$41","v":0},0,{"$f":"L71+L41","v":0},{"$f":"M71+M41","v":0},0,0,0,0,{"$f":"Q101/P101","v":{"$error":"#DIV/0!"}},{"$f":"SUM(G101:I101)","v":0},{"$f":"S101/P101","v":{"$error":"#DIV/0!"}},{"$f":"SUM(J101:L101)","v":0},{"$f":"U101/P101","v":{"$error":"#DIV/0!"}},{"$f":"SUM(M101:O101)","v":0},{"$f":"W101/P101","v":{"$error":"#DIV/0!"}}]
[null,"행정안전",14,{"$f":"D72+D42","v":9},5,0,0,{"$f":"H$72+H$42","v":0},{"$f":"I$72+I$42","v":0},{"$f":"J$72+J$42","v":0},0,{"$f":"L72+L42","v":0},{"$f":"M72+M42","v":0},0,0,14,14,1,0,0,0,0,0,0]
[null,"환경",5,{"$f":"D73+D43","v":1},4,0,0,{"$f":"H$73+H$43","v":0},{"$f":"I$73+I$43","v":0},{"$f":"J$73+J$43","v":0},0,{"$f":"L73+L43","v":0},0,0,0,5,5,1,0,0,0,0,0,0]
[null,"합계",561,{"$f":"SUM(D77:D103)","v":315},246,0,0,0,0,0,0,0,0,0,0,561,{"$f":"SUM(D104:F104)","v":561},{"$f":"Q104/P104","v":1},{"$f":"SUM(G104:I104)","v":0},{"$f":"S104/P104","v":0},{"$f":"SUM(J104:L104)","v":0},{"$f":"U104/P104","v":0},{"$f":"SUM(M104:O104)","v":0},{"$f":"W104/P104","v":0}]
[]
["화상상담"]
["계","1월","2월","3월","4월","5월","6월","7월","8월","9월","10월","11월","12월"]
[{"$f":"SUM(B108:M108)","v":12},{"$f":"C121+C129","v":6},{"$f":"D121+D129","v":6},0,0,0,0,0,0,{"$f":"K121+K129","v":0},{"$f":"L121+L129","v":0},{"$f":"M121+M129","v":0},{"$f":"N121+N129","v":0}]
[]
[]
["< 총 괄, 서울+세종 > (조사관+전문가+민원위원)"]
["구분","합계","1월","2월","3월","4월","5월","6월","7월","8월","9월","10월","11월","12월","합계","1분기","비율","2분기","비율","3분기","비율","4분기","비율"]
["합계",{"$f":"SUM(C113:N113)","v":561},{"$f":"C133+C150","v":315},{"$f":"D133+D150","v":246},0,0,{"$f":"G133+G150","v":0},{"$f":"H133+H150","v":0},0,0,0,{"$f":"L114+L122","v":0},{"$f":"M114+M122","v":0},{"$f":"N114+N122","v":0},{"$f":"B113","v":561},{"$f":"SUM(C113:E113)","v":561},{"$f":"P113/O113","v":1},{"$f":"SUM(F113:H113)","v":0},{"$f":"R113/O113","v":0},{"$f":"SUM(I113:K113)","v":0},{"$f":"T113/O113","v":0},{"$f":"SUM(L113:N113)","v":0},{"$f":"V113/O113","v":0}]
["고충(계)",{"$f":"SUM(C114:N114)","v":315},172,{"$f":"D134+D151","v":143},0,0,0,0,0,0,0,0,{"$f":"M134+M151","v":0},{"$f":"N134+N151","v":0},315,315,1,{"$f":"SUM(F114:H114)","v":0},{"$f":"R114/O114","v":0},{"$f":"SUM(I114:K114)","v":0},{"$f":"T114/O114","v":0},{"$f":"SUM(L114:N114)","v":0},{"$f":"V114/O114","v":0}]
["FAX",{"$f":"SUM(C115:N115)","v":0},0,{"$f":"D135+D152","v":0},0,0,0,0,0,0,0,0,0,0,0,0,{"$error":"#DIV/0!"},0,{"$error":"#DIV/0!"},0,{"$error":"#DIV/0!"},0,{"$error":"#DIV/0!"}]
["방문",{"$f":"SUM(C116:N116)","v":249},134,{"$f":"D136+D153","v":115},0,0,0,0,0,0,0,{"$f":"L136+L153","v":0},0,0,249,249,1,0,{"$f":"R116/O116","v":0},0,0,0,0]
["방문전화",0,0,{"$f":"D137+D154","v":0},0,0,0,0,0,0,0,{"$f":"L137+L154","v":0},0,0,0,0,{"$error":"#DIV/0!"},0,{"$error":"#DIV/0!"},0,{"$error":"#DIV/0!"},0,{"$error":"#DIV/0!"}]
["우편",0,0,{"$f":"D138+D155","v":0},0,0,0,0,0,0,0,{"$f":"L138+L155","v":0},0,0,0,0,{"$error":"#DIV/0!"},0,{"$error":"#DIV/0!"},0,{"$error":"#DIV/0!"},0,{"$error":"#DIV/0!"}]
["인터넷",0,0,{"$f":"D139+D156","v":0},0,0,0,0,0,0,0,{"$f":"L139+L156","v":0},0,0,0,{"$f":"C114+D114+E114","v":315},{"$f":"P119/O114","v":1},{"$f":"F114+G114+H114","v":0},{"$f":"R119/O114","v":0},{"$f":"I114+J114+K114","v":0},{"$f":"T119/O114","v":0},{"$f":"L114+M114+N114","v":0},{"$f":"V119/O114","v":0}]
["전화",55,32,{"$f":"D140+D157","v":23},0,0,0,0,0,0,0,{"$f":"L140+L157","v":0},0,0,55,{"$f":"C120+D120+E120","v":55},{"$f":"P120/O120","v":1},{"$f":"F120+G120+H120","v":0},0,{"$f":"I120+J120+K120","v":0},0,{"$f":"L120+M120+N120","v":0},0]
["화상",11,6,{"$f":"D141+D158","v":5},0,0,0,0,0,0,0,{"$f":"L141+L158","v":0},0,0,11,11,1,0,0,0,0,0,0]
["일반(계)",{"$f":"SUM(C122:N122)","v":246},143,{"$f":"D142+D159","v":103},0,0,{"$f":"G142+G159","v":0},{"$f":"H142+H159","v":0},0,0,0,{"$f":"L142+L159","v":0},{"$f":"M142+M159","v":0},{"$f":"N142+N159","v":0},246,246,1,0,0,0,0,0,0]
["FAX",0,0,{"$f":"D143+D160","v":0},0,0,0,0,0,0,0,0,0,0,0,0,{"$error":"#DIV/0!"},{"$f":"F123+G123+H123","v":0},{"$f":"R123/O123","v":{"$error":"#DIV/0!"}},{"$f":"I123+J123+K123","v":0},{"$f":"T123/O123","v":{"$error":"#DIV/0!"}},{"$f":"L123+M123+N123","v":0},{"$f":"V123/O123","v":{"$error":"#DIV/0!"}}]
["방문",{"$f":"SUM(C124:N124)","v":204},116,{"$f":"D144+D161","v":88},0,0,0,0,0,0,0,0,0,0,204,204,1,0,0,0,0,0,0]
["방문전화",0,0,{"$f":"D145+D162","v":0},0,0,0,0,0,0,0,0,0,0,0,0,{"$error":"#DIV/0!"},0,{"$error":"#DIV/0!"},0,{"$error":"#DIV/0!"},0,{"$error":"#DIV/0!"}]
["우편",0,0,{"$f":"D146+D163","v":0},0,0,0,0,0,0,0,0,0,0,0,0,{"$error":"#DIV/0!"},0,{"$error":"#DIV/0!"},0,{"$error":"#DIV/0!"},0,{"$error":"#DIV/0!"}]
["인터넷",0,0,{"$f":"D147+D164","v":0},0,0,0,0,0,0,0,0,0,0,0,0,{"$error":"#DIV/0!"},0,{"$error":"#DIV/0!"},0,{"$error":"#DIV/0!"},0,{"$error":"#DIV/0!"}]
["전화",41,27,{"$f":"D148+D165","v":14},0,0,0,0,0,0,0,0,0,0,41,41,1,0,0,0,0,0,0]
["화상",1,0,{"$f":"D149+D166","v":1},0,0,0,0,0,0,0,0,0,0,1,1,1,0,0,0,0,0,0]
[]
["< 상 세 >"]
["구분","합계","1월","2월","3월","4월","5월","6월","7월","8월","9월","10월","11월","12월","합계","1분기","비율","2분기","비율","3분기","비율","4분기","비율"]
["서울",{"$f":"SUM(C133:N133)","v":280},{"$f":"C134+C142","v":169},{"$f":"D134+D142","v":111},0,0,{"$f":"G134+G142","v":0},{"$f":"H134+H142","v":0},0,0,0,0,0,0,{"$f":"B133","v":280},{"$f":"SUM(C133:E133)","v":280},{"$f":"P133/O133","v":1},{"$f":"SUM(F133:H133)","v":0},{"$f":"R133/O133","v":0},{"$f":"SUM(I133:K133)","v":0},{"$f":"T133/O133","v":0},{"$f":"SUM(L133:N133)","v":0},{"$f":"V133/O133","v":0}]
["고충(계)",74,{"$f":"SUM(C135:C141)","v":49},{"$f":"SUM(D135:D141)","v":25},0,0,0,0,0,0,0,0,0,0,74,74,1,{"$f":"SUM(F134:H134)","v":0},0,0,0,0,0]
["FAX",0,{"$nulls":12},0,0,{"$error":"#DIV/0!"},0,{"$error":"#DIV/0!"},0,{"$error":"#DIV/0!"},0,{"$error":"#DIV/0!"}]
["방문",65,44,21,{"$nulls":10},65,65,1,0,0,0,0,0,0]
["방문전화",0,{"$nulls":12},0,0,{"$error":"#DIV/0!"},{"$f":"SUM(F137:H137)","v":0},{"$f":"R137/O137","v":{"$error":"#DIV/0!"}},{"$f":"SUM(I137:K137)","v":0},{"$f":"T137/O137","v":{"$error":"#DIV/0!"}},{"$f":"SUM(L137:N137)","v":0},{"$f":"V137/O137","v":{"$error":"#DIV/0!"}}]
["우편",0,{"$nulls":12},0,0,{"$error":"#DIV/0!"},{"$f":"SUM(F138:H138)","v":0},{"$f":"R138/O138","v":{"$error":"#DIV/0!"}},{"$f":"SUM(I138:K138)","v":0},{"$f":"T138/O138","v":{"$error":"#DIV/0!"}},{"$f":"SUM(L138:N138)","v":0},{"$f":"V138/O138","v":{"$error":"#DIV/0!"}}]
["인터넷",0,{"$nulls":12},0,0,{"$error":"#DIV/0!"},{"$f":"SUM(F139:H139)","v":0},{"$f":"R139/O139","v":{"$error":"#DIV/0!"}},{"$f":"SUM(I139:K139)","v":0},{"$f":"T139/O139","v":{"$error":"#DIV/0!"}},{"$f":"SUM(L139:N139)","v":0},{"$f":"V139/O139","v":{"$error":"#DIV/0!"}}]
["전화",9,5,4,{"$nulls":10},9,9,1,0,0,0,0,0,0]
["화상",0,{"$nulls":12},0,0,{"$error":"#DIV/0!"},0,{"$error":"#DIV/0!"},0,{"$error":"#DIV/0!"},0,{"$error":"#DIV/0!"}]
["일반(계)",206,{"$f":"SUM(C143:C149)","v":120},{"$f":"SUM(D143:D149)","v":86},0,0,{"$f":"SUM(G143:G149)","v":0},{"$f":"SUM(H143:H149)","v":0},0,0,0,0,0,0,206,206,1,{"$f":"SUM(F142:H142)","v":0},0,0,0,0,0]
["FAX",0,{"$nulls":12},0,0,{"$error":"#DIV/0!"},0,{"$error":"#DIV/0!"},0,{"$error":"#DIV/0!"},0,{"$error":"#DIV/0!"}]
["방문",190,111,79,{"$nulls":10},190,190,1,{"$f":"SUM(F144:H144)","v":0},{"$f":"R144/O144","v":0},{"$f":"SUM(I144:K144)","v":0},{"$f":"T144/O144","v":0},{"$f":"SUM(L144:N144)","v":0},{"$f":"V144/O144","v":0}]
["방문전화",0,{"$nulls":12},0,0,{"$error":"#DIV/0!"},{"$f":"SUM(F145:H145)","v":0},{"$f":"R145/O145","v":{"$error":"#DIV/0!"}},{"$f":"SUM(I145:K145)","v":0},{"$f":"T145/O145","v":{"$error":"#DIV/0!"}},{"$f":"SUM(L145:N145)","v":0},{"$f":"V145/O145","v":{"$error":"#DIV/0!"}}]
["우편",0,{"$nulls":12},0,0,{"$error":"#DIV/0!"},{"$f":"SUM(F146:H146)","v":0},{"$f":"R146/O146","v":{"$error":"#DIV/0!"}},{"$f":"SUM(I146:K146)","v":0},{"$f":"T146/O146","v":{"$error":"#DIV/0!"}},{"$f":"SUM(L146:N146)","v":0},{"$f":"V146/O146","v":{"$error":"#DIV/0!"}}]
["인터넷",0,{"$nulls":12},0,0,{"$error":"#DIV/0!"},0,{"$error":"#DIV/0!"},0,{"$error":"#DIV/0!"},0,{"$error":"#DIV/0!"}]
["전화",15,9,6,{"$nulls":10},15,15,1,0,0,0,0,0,0]
["화상",1,null,1,{"$nulls":10},1,1,1,0,0,0,0,0,0]
["세종",281,{"$f":"C151+C159","v":146},{"$f":"D151+D159","v":135},0,0,0,0,0,0,0,0,0,0,281,281,1,0,0,0,0,0,0]
["고충(계)",241,{"$f":"SUM(C152:C158)","v":123},{"$f":"SUM(D152:D158)","v":118},0,0,0,0,0,0,0,0,0,0,241,241,1,0,0,0,0,0,0]
["FAX",0,{"$nulls":12},0,0,{"$error":"#DIV/0!"},0,{"$error":"#DIV/0!"},0,{"$error":"#DIV/0!"},0,{"$error":"#DIV/0!"}]
["방문",184,90,94,{"$nulls":10},184,184,1,{"$f":"SUM(F153:H153)","v":0},{"$f":"R153/O153","v":0},{"$f":"SUM(I153:K153)","v":0},{"$f":"T153/O153","v":0},{"$f":"SUM(L153:N153)","v":0},{"$f":"V153/O153","v":0}]
["방문전화",0,{"$nulls":12},0,0,{"$error":"#DIV/0!"},{"$f":"SUM(F154:H154)","v":0},{"$f":"R154/O154","v":{"$error":"#DIV/0!"}},{"$f":"SUM(I154:K154)","v":0},{"$f":"T154/O154","v":{"$error":"#DIV/0!"}},{"$f":"SUM(L154:N154)","v":0},{"$f":"V154/O154","v":{"$error":"#DIV/0!"}}]
["우편",0,{"$nulls":12},0,0,{"$error":"#DIV/0!"},{"$f":"SUM(F155:H155)","v":0},{"$f":"R155/O155","v":{"$error":"#DIV/0!"}},{"$f":"SUM(I155:K155)","v":0},{"$f":"T155/O155","v":{"$error":"#DIV/0!"}},{"$f":"SUM(L155:N155)","v":0},{"$f":"V155/O155","v":{"$error":"#DIV/0!"}}]
["인터넷",0,{"$nulls":12},0,0,{"$error":"#DIV/0!"},{"$f":"SUM(F156:H156)","v":0},{"$f":"R156/O156","v":{"$error":"#DIV/0!"}},{"$f":"SUM(I156:K156)","v":0},{"$f":"T156/O156","v":{"$error":"#DIV/0!"}},{"$f":"SUM(L156:N156)","v":0},{"$f":"V156/O156","v":{"$error":"#DIV/0!"}}]
["전화",46,27,19,{"$nulls":10},46,46,1,0,0,0,0,0,0]
["화상",11,6,5,{"$nulls":10},11,11,1,0,0,0,0,0,0]
["일반(계)",40,{"$f":"SUM(C160:C166)","v":23},{"$f":"SUM(D160:D166)","v":17},0,0,0,0,0,0,0,0,0,0,40,40,1,0,0,0,0,0,0]
["FAX",0,{"$nulls":12},0,0,{"$error":"#DIV/0!"},0,{"$error":"#DIV/0!"},0,{"$error":"#DIV/0!"},0,{"$error":"#DIV/0!"}]
["방문",14,5,9,{"$nulls":10},14,14,1,{"$f":"SUM(F161:H161)","v":0},{"$f":"R161/O161","v":0},{"$f":"SUM(I161:K161)","v":0},{"$f":"T161/O161","v":0},{"$f":"SUM(L161:N161)","v":0},{"$f":"V161/O161","v":0}]
["방문전화",0,{"$nulls":12},0,0,{"$error":"#DIV/0!"},{"$f":"SUM(F162:H162)","v":0},{"$f":"R162/O162","v":{"$error":"#DIV/0!"}},{"$f":"SUM(I162:K162)","v":0},{"$f":"T162/O162","v":{"$error":"#DIV/0!"}},{"$f":"SUM(L162:N162)","v":0},{"$f":"V162/O162","v":{"$error":"#DIV/0!"}}]
["우편",0,{"$nulls":12},0,0,{"$error":"#DIV/0!"},{"$f":"SUM(F163:H163)","v":0},{"$f":"R163/O163","v":{"$error":"#DIV/0!"}},{"$f":"SUM(I163:K163)","v":0},{"$f":"T163/O163","v":{"$error":"#DIV/0!"}},{"$f":"SUM(L163:N163)","v":0},{"$f":"V163/O163","v":{"$error":"#DIV/0!"}}]
["인터넷",0,{"$nulls":12},0,0,{"$error":"#DIV/0!"},{"$f":"SUM(F164:H164)","v":0},{"$f":"R164/O164","v":{"$error":"#DIV/0!"}},{"$f":"SUM(I164:K164)","v":0},{"$f":"T164/O164","v":{"$error":"#DIV/0!"}},{"$f":"SUM(L164:N164)","v":0},{"$f":"V164/O164","v":{"$error":"#DIV/0!"}}]
["전화",26,18,8,{"$nulls":10},26,26,1,0,0,0,0,0,0]
["화상",0,{"$nulls":12},0,0,{"$error":"#DIV/0!"},0,{"$error":"#DIV/0!"},0,{"$error":"#DIV/0!"},0,{"$error":"#DIV/0!"}]
[]
[null,"검증",{"$f":"D6-C113","v":0},0,0,0,0,0,0,0,0,0,0,0]

{"sheet":"4.조사관상담","index":3,"n_rows":90,"n_cols":24,"rows_kept":90,"cut":false,"hidden":false,"merged":[[2,0,29,0],[32,0,59,0],[62,0,89,0]]}
["4. 조사관 상담"]
[null,null,"합계","1월","2월","3월","4월","5월","6월","7월","8월","9월","10월","11월","12월","합계","1분기","비율","2분기","비율","3분기","비율","4분기","비율"]
["서울\n(고충+일반)","건축",{"$f":"SUM(D3:N3)","v":0},{"$nulls":12},{"$f":"C3","v":0},{"$f":"SUM(D3:F3)","v":0},{"$f":"Q3/P3","v":{"$error":"#DIV/0!"}},{"$f":"SUM(G3:I3)","v":0},{"$f":"S3/P3","v":{"$error":"#DIV/0!"}},{"$f":"SUM(J3:L3)","v":0},{"$f":"U3/P3","v":{"$error":"#DIV/0!"}},{"$f":"SUM(M3:O3)","v":0},{"$f":"W3/P3","v":{"$error":"#DIV/0!"}}]
[null,"경찰",1,null,1,{"$nulls":10},1,1,1,{"$f":"SUM(G4:I4)","v":0},0,{"$f":"SUM(J4:L4)","v":0},0,{"$f":"SUM(M4:O4)","v":0},0]
[null,"고용노동",1,1,{"$nulls":11},1,1,1,0,0,0,0,0,0]
[null,"교육",0,{"$nulls":12},0,0,{"$error":"#DIV/0!"},0,{"$error":"#DIV/0!"},0,{"$error":"#DIV/0!"},0,{"$error":"#DIV/0!"}]
[null,"교통",0,{"$nulls":12},0,0,{"$error":"#DIV/0!"},0,{"$error":"#DIV/0!"},0,{"$error":"#DIV/0!"},0,{"$error":"#DIV/0!"}]
[null,"국방",0,{"$nulls":12},0,0,{"$error":"#DIV/0!"},0,{"$error":"#DIV/0!"},0,{"$error":"#DIV/0!"},0,{"$error":"#DIV/0!"}]
[null,"군사",0,{"$nulls":12},0,0,{"$error":"#DIV/0!"},0,{"$error":"#DIV/0!"},0,{"$error":"#DIV/0!"},0,{"$error":"#DIV/0!"}]
[null,"기타",11,9,2,{"$nulls":10},11,11,1,0,0,0,0,0,0]
[null,"농림·축산",1,null,1,{"$nulls":10},1,1,1,0,0,0,0,0,0]
[null,"도로",0,{"$nulls":12},0,0,{"$error":"#DIV/0!"},0,{"$error":"#DIV/0!"},0,{"$error":"#DIV/0!"},0,{"$error":"#DIV/0!"}]
[null,"도시",0,{"$nulls":12},0,0,{"$error":"#DIV/0!"},0,{"$error":"#DIV/0!"},0,{"$error":"#DIV/0!"},0,{"$error":"#DIV/0!"}]
[null,"문화·관광·체육",0,{"$nulls":12},0,0,{"$error":"#DIV/0!"},0,{"$error":"#DIV/0!"},0,{"$error":"#DIV/0!"},0,{"$error":"#DIV/0!"}]
[null,"민사·법무",0,{"$nulls":12},0,0,{"$error":"#DIV/0!"},0,{"$error":"#DIV/0!"},0,{"$error":"#DIV/0!"},0,{"$error":"#DIV/0!"}]
[null,"방송통신",0,{"$nulls":12},0,0,{"$error":"#DIV/0!"},0,{"$error":"#DIV/0!"},0,{"$error":"#DIV/0!"},0,{"$error":"#DIV/0!"}]
[null,"보건복지",0,{"$nulls":12},0,0,{"$error":"#DIV/0!"},0,{"$error":"#DIV/0!"},0,{"$error":"#DIV/0!"},0,{"$error":"#DIV/0!"}]
[null,"보훈",0,{"$nulls":12},0,0,{"$error":"#DIV/0!"},0,{"$error":"#DIV/0!"},0,{"$error":"#DIV/0!"},0,{"$error":"#DIV/0!"}]
[null,"산업·통상·자원",0,{"$nulls":12},0,0,{"$error":"#DIV/0!"},{"$f":"SUM(G19:I19)","v":0},{"$error":"#DIV/0!"},0,{"$error":"#DIV/0!"},0,{"$error":"#DIV/0!"}]
[null,"세무",0,{"$nulls":12},0,0,{"$error":"#DIV/0!"},{"$f":"SUM(G20:I20)","v":0},{"$error":"#DIV/0!"},0,{"$error":"#DIV/0!"},0,{"$error":"#DIV/0!"}]
[null,"수자원",0,{"$nulls":12},0,0,{"$error":"#DIV/0!"},{"$f":"SUM(G21:I21)","v":0},{"$error":"#DIV/0!"},0,{"$error":"#DIV/0!"},0,{"$error":"#DIV/0!"}]
[null,"식품의약",0,{"$nulls":12},0,0,{"$error":"#DIV/0!"},0,{"$error":"#DIV/0!"},0,{"$error":"#DIV/0!"},0,{"$error":"#DIV/0!"}]
[null,"외무·통일",0,{"$nulls":12},0,0,{"$error":"#DIV/0!"},0,{"$error":"#DIV/0!"},0,{"$error":"#DIV/0!"},0,{"$error":"#DIV/0!"}]
[null,"인사행정",0,{"$nulls":12},0,0,{"$error":"#DIV/0!"},0,{"$error":"#DIV/0!"},0,{"$error":"#DIV/0!"},0,{"$error":"#DIV/0!"}]
[null,"재정·금융·\n보험·공정거래",3,1,2,{"$nulls":10},3,3,1,0,0,0,0,0,0]
[null,"주택",0,{"$nulls":12},0,0,{"$error":"#DIV/0!"},0,{"$error":"#DIV/0!"},0,{"$error":"#DIV/0!"},0,{"$error":"#DIV/0!"}]
[null,"해양수산",0,{"$nulls":12},0,0,{"$error":"#DIV/0!"},0,{"$error":"#DIV/0!"},0,{"$error":"#DIV/0!"},0,{"$error":"#DIV/0!"}]
[null,"행정안전",0,{"$nulls":12},0,0,{"$error":"#DIV/0!"},0,{"$error":"#DIV/0!"},0,{"$error":"#DIV/0!"},0,{"$error":"#DIV/0!"}]
[null,"환경",1,null,1,{"$nulls":10},1,1,1,0,0,0,0,0,0]
[null,"합계",18,{"$f":"SUM(D3:D29)","v":11},7,0,0,{"$f":"SUM(H3:H29)","v":0},0,0,0,{"$f":"SUM(L3:L29)","v":0},0,{"$f":"SUM(N3:N29)","v":0},{"$f":"SUM(O3:O29)","v":0},18,18,1,0,0,{"$f":"SUM(J30:L30)","v":0},0,{"$f":"SUM(M30:O30)","v":0},0]
[]
[null,null,"합계","1월","2월","3월","4월","5월","6월","7월","8월","9월","10월","11월","12월","합계","1분기","비율","2분기","비율","3분기","비율","4분기","비율"]
["세종\n(고충+일반)","건축",{"$f":"SUM(D33:O33)","v":7},1,6,{"$nulls":10},{"$f":"C33","v":7},{"$f":"SUM(D33:F33)","v":7},{"$f":"Q33/P33","v":1},{"$f":"SUM(G33:I33)","v":0},{"$f":"S33/P33","v":0},{"$f":"SUM(J33:L33)","v":0},{"$f":"U33/P33","v":0},{"$f":"SUM(M33:O33)","v":0},{"$f":"W33/P33","v":0}]
[null,"경찰",15,7,8,{"$nulls":10},15,{"$f":"SUM(D34:E34)","v":15},1,0,0,{"$f":"SUM(J34:L34)","v":0},0,0,0]
[null,"고용노동",2,2,{"$nulls":11},2,2,1,0,0,0,0,0,0]
[null,"교육",1,null,1,{"$nulls":10},1,1,1,0,0,0,0,0,0]
[null,"교통",2,1,1,{"$nulls":10},2,2,1,0,0,0,0,0,0]
[null,"국방",7,5,2,{"$nulls":10},7,7,1,0,0,0,0,0,0]
[null,"군사",0,{"$nulls":12},0,0,{"$error":"#DIV/0!"},0,{"$error":"#DIV/0!"},0,{"$error":"#DIV/0!"},0,{"$error":"#DIV/0!"}]
[null,"기타",105,66,39,{"$nulls":10},105,105,1,0,0,0,0,0,0]
[null,"농림·축산",8,7,1,{"$nulls":10},8,8,1,0,0,0,0,0,0]
[null,"도로",4,1,3,{"$nulls":10},4,4,1,0,0,0,0,0,0]
[null,"도시",7,4,3,{"$nulls":10},7,7,1,0,0,0,0,0,0]
[null,"문화·관광·체육",0,{"$nulls":12},0,0,{"$error":"#DIV/0!"},0,{"$error":"#DIV/0!"},0,{"$error":"#DIV/0!"},0,{"$error":"#DIV/0!"}]
[null,"민사·법무",2,1,1,{"$nulls":10},2,2,1,0,0,0,0,0,0]
[null,"방송통신",0,{"$nulls":12},0,0,{"$error":"#DIV/0!"},0,{"$error":"#DIV/0!"},0,{"$error":"#DIV/0!"},0,{"$error":"#DIV/0!"}]
[null,"보건복지",11,4,7,{"$nulls":10},11,11,1,0,0,0,0,0,0]
[null,"보훈",4,null,4,{"$nulls":10},4,4,1,0,0,0,0,0,0]
[null,"산업·통상·자원",2,1,1,{"$nulls":10},2,2,1,0,0,0,0,0,0]
[null,"세무",{"$f":"SUM(D50:O50)","v":7},3,4,{"$nulls":10},7,7,1,0,0,0,0,0,0]
[null,"수자원",3,2,1,{"$nulls":10},3,3,1,0,0,0,0,0,0]
[null,"식품의약",0,{"$nulls":12},0,0,{"$error":"#DIV/0!"},0,{"$error":"#DIV/0!"},0,{"$error":"#DIV/0!"},0,{"$error":"#DIV/0!"}]
[null,"외무·통일",0,{"$nulls":12},0,0,{"$error":"#DIV/0!"},0,{"$error":"#DIV/0!"},0,{"$error":"#DIV/0!"},0,{"$error":"#DIV/0!"}]
[null,"인사행정",0,{"$nulls":12},0,0,{"$error":"#DIV/0!"},0,{"$error":"#DIV/0!"},0,{"$error":"#DIV/0!"},0,{"$error":"#DIV/0!"}]
[null,"재정·금융·보험·\n공정거래",11,2,9,{"$nulls":10},11,11,1,0,0,0,0,0,0]
[null,"주택",3,2,1,{"$nulls":10},3,3,1,0,0,0,0,0,0]
[null,"해양수산",0,{"$nulls":12},0,0,{"$error":"#DIV/0!"},0,{"$error":"#DIV/0!"},0,{"$error":"#DIV/0!"},0,{"$error":"#DIV/0!"}]
[null,"행정안전",{"$f":"SUM(D58:O58)","v":10},6,4,{"$nulls":10},10,10,1,0,0,0,0,0,0]
[null,"환경",{"$f":"SUM(D59:O59)","v":3},1,2,{"$nulls":10},3,3,1,0,0,0,0,0,0]
[null,"합계",214,{"$f":"SUM(D33:D59)","v":116},98,0,{"$f":"SUM(G33:G59)","v":0},0,0,0,0,0,0,{"$f":"SUM(N33:N59)","v":0},{"$f":"SUM(O33:O59)","v":0},214,{"$f":"SUM(D60:F60)","v":214},1,0,0,{"$f":"SUM(J60:L60)","v":0},0,0,0]
[{"$nulls":15},0]
[null,null,"합계","1월","2월","3월","4월","5월","6월","7월","8월","9월","10월","11월","12월","합계","1분기","비율","2분기","비율","3분기","비율","4분기","비율"]
["합계\n(고충+일반)","건축",{"$f":"SUM(D63:O63)","v":7},{"$f":"D33+D3","v":1},{"$f":"E33+E3","v":6},{"$f":"F33+F3","v":0},{"$f":"G33+G3","v":0},{"$f":"H33+H3","v":0},{"$f":"I33+I3","v":0},0,{"$f":"K33+K3","v":0},{"$f":"L33+L3","v":0},0,0,{"$f":"O33+O3","v":0},{"$f":"C63","v":7},{"$f":"SUM(D63:F63)","v":7},{"$f":"Q63/P63","v":1},{"$f":"SUM(G63:I63)","v":0},{"$f":"S63/P63","v":0},{"$f":"SUM(J63:L63)","v":0},{"$f":"U63/P63","v":0},{"$f":"SUM(M63:O63)","v":0},{"$f":"W63/P63","v":0}]
[null,"경찰",16,{"$f":"D34+D4","v":7},9,0,0,0,0,0,{"$f":"K34+K4","v":0},0,0,{"$f":"N34+N4","v":0},0,16,16,1,0,0,0,0,0,0]
[null,"고용노동",3,3,0,0,0,0,0,0,{"$f":"K35+K5","v":0},0,0,{"$f":"N35+N5","v":0},0,3,3,1,0,0,0,0,0,0]
[null,"교육",1,0,1,0,0,0,0,0,{"$f":"K36+K6","v":0},0,0,{"$f":"N36+N6","v":0},0,1,1,1,0,0,0,0,0,0]
[null,"교통",2,1,1,0,0,0,0,0,{"$f":"K37+K7","v":0},0,0,{"$f":"N37+N7","v":0},0,2,2,1,0,0,0,0,0,0]
[null,"국방",7,5,2,0,0,0,0,0,{"$f":"K38+K8","v":0},0,0,{"$f":"N38+N8","v":0},0,7,7,1,0,0,0,0,0,0]
[null,"군사",0,0,0,0,0,0,0,0,{"$f":"K39+K9","v":0},0,0,{"$f":"N39+N9","v":0},0,0,0,{"$error":"#DIV/0!"},0,{"$error":"#DIV/0!"},0,{"$error":"#DIV/0!"},0,{"$error":"#DIV/0!"}]
[null,"기타",116,75,41,0,0,0,0,0,{"$f":"K40+K10","v":0},0,0,{"$f":"N40+N10","v":0},0,116,116,1,0,0,0,0,0,0]
[null,"농림·축산",9,7,2,0,0,0,0,0,{"$f":"K41+K11","v":0},0,0,{"$f":"N41+N11","v":0},0,9,9,1,0,0,0,0,0,0]
[null,"도로",4,1,3,0,0,0,0,0,{"$f":"K42+K12","v":0},0,0,{"$f":"N42+N12","v":0},0,4,4,1,0,0,0,0,0,0]
[null,"도시",7,4,3,0,0,0,0,0,{"$f":"K43+K13","v":0},0,0,{"$f":"N43+N13","v":0},0,7,7,1,0,0,0,0,0,0]
[null,"문화·관광·체육",0,0,0,0,0,0,0,0,{"$f":"K44+K14","v":0},0,0,{"$f":"N44+N14","v":0},0,0,0,{"$error":"#DIV/0!"},0,{"$error":"#DIV/0!"},0,{"$error":"#DIV/0!"},0,{"$error":"#DIV/0!"}]
[null,"민사·법무",2,1,1,0,0,0,0,0,{"$f":"K45+K15","v":0},0,0,{"$f":"N45+N15","v":0},0,2,2,1,0,0,0,0,0,0]
[null,"방송통신",0,0,0,0,0,0,0,0,{"$f":"K46+K16","v":0},{"$f":"L46+L16","v":0},0,0,{"$f":"O46+O16","v":0},0,0,{"$error":"#DIV/0!"},0,{"$error":"#DIV/0!"},0,{"$error":"#DIV/0!"},0,{"$error":"#DIV/0!"}]
[null,"보건복지",11,4,7,0,0,0,0,0,{"$f":"K47+K17","v":0},{"$f":"L47+L17","v":0},0,0,{"$f":"O47+O17","v":0},11,11,1,0,0,0,0,0,0]
[null,"보훈",4,0,4,0,0,0,0,0,{"$f":"K48+K18","v":0},{"$f":"L48+L18","v":0},0,0,{"$f":"O48+O18","v":0},4,4,1,0,0,0,0,0,0]
[null,"산업·통상·자원",2,1,1,0,0,0,0,0,{"$f":"K49+K19","v":0},{"$f":"L49+L19","v":0},0,0,{"$f":"O49+O19","v":0},2,2,1,0,0,0,0,0,0]
[null,"세무",7,3,4,0,0,0,0,0,{"$f":"K50+K20","v":0},{"$f":"L50+L20","v":0},0,0,{"$f":"O50+O20","v":0},7,7,1,0,0,0,0,0,0]
[null,"수자원",3,2,1,0,0,0,0,0,0,{"$f":"L51+L21","v":0},0,0,{"$f":"O51+O21","v":0},3,3,1,0,0,0,0,0,0]
[null,"식품의약",0,0,0,0,0,0,0,0,0,{"$f":"L52+L22","v":0},0,0,{"$f":"O52+O22","v":0},0,0,{"$error":"#DIV/0!"},0,{"$error":"#DIV/0!"},0,{"$error":"#DIV/0!"},0,{"$error":"#DIV/0!"}]
[null,"외무·통일",0,0,0,0,0,0,0,0,0,{"$f":"L53+L23","v":0},0,0,{"$f":"O53+O23","v":0},0,0,{"$error":"#DIV/0!"},0,{"$error":"#DIV/0!"},0,{"$error":"#DIV/0!"},0,{"$error":"#DIV/0!"}]
[null,"인사행정",0,0,0,0,0,0,0,0,0,0,0,0,{"$f":"O54+O24","v":0},0,0,{"$error":"#DIV/0!"},0,{"$error":"#DIV/0!"},0,{"$error":"#DIV/0!"},0,{"$error":"#DIV/0!"}]
[null,"재정·금융·보험\n·공정거래",14,3,11,0,0,0,0,0,0,0,0,0,{"$f":"O55+O25","v":0},14,14,1,0,0,0,0,0,0]
[null,"주택",3,2,1,0,0,0,0,0,0,0,0,0,{"$f":"O56+O26","v":0},3,3,1,0,0,0,0,0,0]
[null,"해양수산",0,0,0,0,0,0,0,0,0,0,0,0,{"$f":"O57+O27","v":0},0,0,{"$error":"#DIV/0!"},0,{"$error":"#DIV/0!"},0,{"$error":"#DIV/0!"},0,{"$error":"#DIV/0!"}]
[null,"행정안전",10,6,4,0,0,0,0,0,0,0,0,0,{"$f":"O58+O28","v":0},10,10,1,0,0,0,0,0,0]
[null,"환경",4,1,3,0,0,0,0,{"$f":"J59+J29","v":0},0,0,0,0,{"$f":"O59+O29","v":0},4,4,1,0,0,0,0,0,0]
[null,"합계",232,{"$f":"SUM(D63:D89)","v":127},105,0,0,{"$f":"SUM(H$63:H$89)","v":0},{"$f":"SUM(I$63:I$89)","v":0},0,0,0,0,0,0,232,232,1,0,0,0,0,0,0]

{"sheet":"5.전문,민원위원상담","index":4,"n_rows":31,"n_cols":23,"rows_kept":31,"cut":false,"hidden":false,"merged":[]}
["5. 전문상담관, 민원위원상담"]
[]
["1. 전문위원상담∙민원위원상담(서울)",{"$nulls":12},"(단위 : 건)"]
["구분","합계","1월","2월","3월","4월","5월","6월","7월","8월","9월","10월","11월","12월","합계","1분기","비율","2분기","비율","3분기","비율","4분기","비율"]
["전문상담위원계",{"$f":"SUM(C5:N5)","v":123},{"$f":"SUM(C6:C10)","v":68},{"$f":"SUM(D6:D10)","v":55},0,0,0,0,0,0,{"$f":"SUM(K6:K10)","v":0},0,0,0,{"$f":"B5","v":123},{"$f":"SUM(C5:E5)","v":123},{"$f":"P5/O5","v":1},{"$f":"SUM(F5:H5)","v":0},{"$f":"R5/O5","v":0},{"$f":"SUM(I5:K5)","v":0},{"$f":"T5/O5","v":0},{"$f":"SUM(L5:N5)","v":0},{"$f":"V5/O5","v":0}]
["감정평가사",0,0,{"$nulls":11},{"$f":"B6","v":0},{"$f":"SUM(C6:E6)","v":0},{"$f":"P6/O6","v":{"$error":"#DIV/0!"}},{"$f":"SUM(F6:H6)","v":0},{"$f":"R6/O6","v":{"$error":"#DIV/0!"}},{"$f":"SUM(I6:K6)","v":0},{"$f":"T6/O6","v":{"$error":"#DIV/0!"}},{"$f":"SUM(L6:N6)","v":0},{"$f":"V6/O6","v":{"$error":"#DIV/0!"}}]
["노무사",5,4,1,{"$nulls":10},5,5,1,0,0,0,0,0,0]
["변호사",113,60,53,{"$nulls":10},113,113,1,0,0,0,0,0,0]
["세무사",5,4,1,{"$nulls":10},{"$f":"B9","v":5},{"$f":"SUM(C9:E9)","v":5},{"$f":"P9/O9","v":1},{"$f":"SUM(F9:H9)","v":0},{"$f":"R9/O9","v":0},{"$f":"SUM(I9:K9)","v":0},{"$f":"T9/O9","v":0},{"$f":"SUM(L9:N9)","v":0},{"$f":"V9/O9","v":0}]
["손해사정사",0,{"$nulls":13},{"$f":"SUM(C10:N10)","v":0},null,0,null,0,null,0]
["민원상담위원",139,90,49,{"$nulls":10},139,139,1,0,0,0,0,0,0]
[]
["2. 전문위원상담∙민원위원상담(세종)",{"$nulls":12},"(단위 : 건)"]
["구분","합계","1월","2월","3월","4월","5월","6월","7월","8월","9월","10월","11월","12월","합계","1분기","비율","2분기","비율","3분기","비율","4분기","비율"]
["전문상담위원계",{"$f":"SUM(C15:N15)","v":11},{"$f":"SUM(C16:C20)","v":4},{"$f":"SUM(D16:D20)","v":7},0,0,0,0,0,0,0,0,0,0,11,11,1,0,0,0,0,0,0]
["감정평가사",{"$f":"SUM(C16:N16)","v":0},{"$nulls":12},0,0,{"$error":"#DIV/0!"},0,{"$error":"#DIV/0!"},0,{"$error":"#DIV/0!"},0,{"$error":"#DIV/0!"}]
["노무사",0,{"$nulls":12},0,0,{"$error":"#DIV/0!"},0,{"$error":"#DIV/0!"},0,{"$error":"#DIV/0!"},0,{"$error":"#DIV/0!"}]
["변호사",9,4,5,{"$nulls":10},9,9,1,0,0,0,0,0,0]
["세무사",2,null,2,{"$nulls":10},{"$f":"B19","v":2},{"$f":"SUM(C19:E19)","v":2},{"$f":"P19/O19","v":1},{"$f":"SUM(F19:H19)","v":0},{"$f":"R19/O19","v":0},{"$f":"SUM(I19:K19)","v":0},{"$f":"T19/O19","v":0},{"$f":"SUM(L19:N19)","v":0},{"$f":"V19/O19","v":0}]
["손해사정사",0,{"$nulls":13},{"$f":"SUM(C20:H20)","v":0},null,0,null,0,null,0]
["민원상담위원",56,26,30,{"$nulls":10},56,56,1,0,0,0,0,0,0]
[]
["3. 전문위원상담∙민원위원상담(합계)",{"$nulls":12},"(단위 : 건)"]
["구분","합계","1월","2월","3월","4월","5월","6월","7월","8월","9월","10월","11월","12월","합계","1분기","비율","2분기","비율","3분기","비율","4분기","비율"]
["전문상담위원계",{"$f":"SUM(C25:N25)","v":134},{"$f":"SUM(C26:C30)","v":72},{"$f":"SUM(D26:D30)","v":62},{"$f":"SUM(E26:E30)","v":0},0,0,0,0,0,0,0,0,0,134,134,1,0,0,0,0,0,0]
["감정평가사",{"$f":"SUM(C26:N26)","v":0},{"$f":"C6+C16","v":0},{"$f":"D6+D16","v":0},0,0,0,0,0,0,0,0,0,0,0,0,{"$error":"#DIV/0!"},0,{"$error":"#DIV/0!"},0,{"$error":"#DIV/0!"},0,{"$error":"#DIV/0!"}]
["노무사",5,{"$f":"C7+C17","v":4},1,0,0,0,0,0,0,0,0,0,0,5,5,1,0,0,0,0,0,0]
["변호사",122,{"$f":"C8+C18","v":64},58,0,0,0,0,0,0,0,0,0,0,122,122,1,0,0,0,0,0,0]
["세무사",7,{"$f":"C9+C19","v":4},3,0,0,0,0,0,0,0,0,0,0,{"$f":"B29","v":7},{"$f":"SUM(C29:E29)","v":7},{"$f":"P29/O29","v":1},{"$f":"SUM(F29:H29)","v":0},{"$f":"R29/O29","v":0},{"$f":"SUM(I29:K29)","v":0},{"$f":"T29/O29","v":0},{"$f":"SUM(L29:N29)","v":0},{"$f":"V29/O29","v":0}]
["손해사정사",0,{"$f":"C10+C20","v":0},0,0,0,0,0,0,0,0,0,0,0,{"$f":"B30","v":0},0,{"$error":"#DIV/0!"},0,{"$error":"#DIV/0!"},0,{"$error":"#DIV/0!"},0,{"$f":"V30/O30","v":{"$error":"#DIV/0!"}}]
["민원상담위원",195,{"$f":"C11+C21","v":116},79,0,0,0,0,0,0,0,0,0,0,195,195,1,0,0,0,0,0,0]

{"sheet":"6.부패신고상담","index":5,"n_rows":72,"n_cols":23,"rows_kept":72,"cut":false,"hidden":false,"merged":[[68,0,69,0],[70,0,71,0],[53,0,54,0],[55,0,56,0],[57,0,58,0],[59,0,60,0],[64,0,65,0],[66,0,67,0]]}
["6. 부패신고상담"]
[]
["□ 부패행위 신고상담"]
["구분","계","1월","2월","3월","4월","5월","6월","7월","8월","9월","10월","11월","12월","합계","1분기","비율","2분기","비율","3분기","비율","4분기","비율"]
["계",{"$f":"SUM(B6:B8)","v":970},554,{"$f":"SUM(D6:D8)","v":416},{"$f":"SUM(E6:E8)","v":0},{"$f":"SUM(F6:F8)","v":0},{"$f":"SUM(G6:G8)","v":0},0,0,0,0,0,0,0,{"$f":"B5","v":970},{"$f":"SUM(C5:E5)","v":970},{"$f":"P5/O5","v":1},{"$f":"SUM(F5:H5)","v":0},{"$f":"R5/O5","v":0},{"$f":"SUM(I5:K5)","v":0},{"$f":"T5/O5","v":0},{"$f":"SUM(L5:N5)","v":0},{"$f":"V5/O5","v":0}]
["방문",{"$f":"SUM(C6:N6)","v":26},18,8,{"$nulls":10},{"$f":"B6","v":26},{"$f":"SUM(C6:E6)","v":26},{"$f":"P6/O6","v":1},{"$f":"SUM(F6:H6)","v":0},{"$f":"R6/O6","v":0},{"$f":"SUM(I6:K6)","v":0},{"$f":"T6/O6","v":0},{"$f":"SUM(L6:N6)","v":0},{"$f":"V6/O6","v":0}]
["전화",{"$f":"SUM(C7:N7)","v":744},411,333,{"$nulls":10},{"$f":"B7","v":744},{"$f":"SUM(C7:E7)","v":744},{"$f":"P7/O7","v":1},{"$f":"SUM(F7:H7)","v":0},{"$f":"R7/O7","v":0},{"$f":"SUM(I7:K7)","v":0},{"$f":"T7/O7","v":0},{"$f":"SUM(L7:N7)","v":0},{"$f":"V7/O7","v":0}]
["온라인",{"$f":"SUM(C8:N8)","v":200},125,75,{"$nulls":10},{"$f":"B8","v":200},{"$f":"SUM(C8:E8)","v":200},{"$f":"P8/O8","v":1},{"$f":"SUM(F8:H8)","v":0},{"$f":"R8/O8","v":0},{"$f":"SUM(I8:K8)","v":0},{"$f":"T8/O8","v":0},{"$f":"SUM(L8:N8)","v":0},{"$f":"V8/O8","v":0}]
[]
["□ 행동강령 신고상담"]
["구분","계","1월","2월","3월","4월","5월","6월","7월","8월","9월","10월","11월","12월","합계","1분기","비율","2분기","비율","3분기","비율","4분기","비율"]
["계",{"$f":"SUM(B13:B15)","v":44},26,{"$f":"SUM(D13:D15)","v":18},{"$f":"SUM(E13:E15)","v":0},{"$f":"SUM(F13:F15)","v":0},0,0,0,0,0,0,0,0,{"$f":"B12","v":44},{"$f":"SUM(C12:E12)","v":44},{"$f":"P12/O12","v":1},{"$f":"SUM(F12:H12)","v":0},{"$f":"R12/O12","v":0},{"$f":"SUM(I12:K12)","v":0},{"$f":"T12/O12","v":0},{"$f":"SUM(L12:N12)","v":0},{"$f":"V12/O12","v":0}]
["방문",{"$f":"SUM(C13:N13)","v":0},0,0,{"$nulls":10},{"$f":"B13","v":0},{"$f":"SUM(C13:E13)","v":0},{"$f":"P13/O13","v":{"$error":"#DIV/0!"}},{"$f":"SUM(F13:H13)","v":0},{"$f":"R13/O13","v":{"$error":"#DIV/0!"}},{"$f":"SUM(I13:K13)","v":0},{"$f":"T13/O13","v":{"$error":"#DIV/0!"}},{"$f":"SUM(L13:N13)","v":0},{"$f":"V13/O13","v":{"$error":"#DIV/0!"}}]
["전화",{"$f":"SUM(C14:N14)","v":20},11,9,{"$nulls":10},{"$f":"B14","v":20},{"$f":"SUM(C14:E14)","v":20},{"$f":"P14/O14","v":1},{"$f":"SUM(F14:H14)","v":0},{"$f":"R14/O14","v":0},{"$f":"SUM(I14:K14)","v":0},{"$f":"T14/O14","v":0},{"$f":"SUM(L14:N14)","v":0},{"$f":"V14/O14","v":0}]
["온라인",{"$f":"SUM(C15:N15)","v":24},15,9,{"$nulls":10},{"$f":"B15","v":24},{"$f":"SUM(C15:E15)","v":24},{"$f":"P15/O15","v":1},{"$f":"SUM(F15:H15)","v":0},{"$f":"R15/O15","v":0},{"$f":"SUM(I15:K15)","v":0},{"$f":"T15/O15","v":0},{"$f":"SUM(L15:N15)","v":0},{"$f":"V15/O15","v":0}]
[]
["□ 공익침해 신고상담"]
["구분","계","1월","2월","3월","4월","5월","6월","7월","8월","9월","10월","11월","12월","합계","1분기","비율","2분기","비율","3분기","비율","4분기","비율"]
["계",{"$f":"SUM(B20:B22)","v":622},353,269,0,{"$f":"SUM(F20:F22)","v":0},0,{"$f":"SUM(H20:H22)","v":0},0,0,0,0,0,0,{"$f":"B19","v":622},{"$f":"SUM(C19:E19)","v":622},{"$f":"P19/O19","v":1},{"$f":"SUM(F19:H19)","v":0},{"$f":"R19/O19","v":0},{"$f":"SUM(I19:K19)","v":0},{"$f":"T19/O19","v":0},{"$f":"SUM(L19:N19)","v":0},{"$f":"V19/O19","v":0}]
["방문",{"$f":"SUM(C20:N20)","v":9},3,6,{"$nulls":10},{"$f":"B20","v":9},{"$f":"SUM(C20:E20)","v":9},{"$f":"P20/O20","v":1},{"$f":"SUM(F20:H20)","v":0},{"$f":"R20/O20","v":0},{"$f":"SUM(I20:K20)","v":0},{"$f":"T20/O20","v":0},{"$f":"SUM(L20:N20)","v":0},{"$f":"V20/O20","v":0}]
["전화",{"$f":"SUM(C21:N21)","v":328},188,140,{"$nulls":10},{"$f":"B21","v":328},{"$f":"SUM(C21:E21)","v":328},{"$f":"P21/O21","v":1},{"$f":"SUM(F21:H21)","v":0},{"$f":"R21/O21","v":0},{"$f":"SUM(I21:K21)","v":0},{"$f":"T21/O21","v":0},{"$f":"SUM(L21:N21)","v":0},{"$f":"V21/O21","v":0}]
["온라인",{"$f":"SUM(C22:N22)","v":285},162,123,{"$nulls":10},{"$f":"B22","v":285},{"$f":"SUM(C22:E22)","v":285},{"$f":"P22/O22","v":1},{"$f":"SUM(F22:H22)","v":0},{"$f":"R22/O22","v":0},{"$f":"SUM(I22:K22)","v":0},{"$f":"T22/O22","v":0},{"$f":"SUM(L22:N22)","v":0},{"$f":"V22/O22","v":0}]
[]
["□ 부정청탁 신고상담"]
["구분","계","1월","2월","3월","4월","5월","6월","7월","8월","9월","10월","11월","12월","합계","1분기","비율","2분기","비율","3분기","비율","4분기","비율"]
["계",{"$f":"SUM(C26:N26)","v":161},{"$f":"SUM(C27:C29)","v":74},{"$f":"SUM(D27:D29)","v":87},{"$f":"SUM(E27:E29)","v":0},{"$f":"SUM(F27:F29)","v":0},{"$f":"SUM(G27:G29)","v":0},{"$f":"SUM(H27:H29)","v":0},0,0,0,0,0,0,{"$f":"B26","v":161},{"$f":"SUM(C26:E26)","v":161},{"$f":"P26/O26","v":1},{"$f":"SUM(F26:H26)","v":0},{"$f":"R26/O26","v":0},{"$f":"SUM(I26:K26)","v":0},{"$f":"T26/O26","v":0},{"$f":"SUM(L26:N26)","v":0},{"$f":"V26/O26","v":0}]
["방문",{"$f":"SUM(C27:N27)","v":1},1,0,{"$nulls":10},{"$f":"B27","v":1},{"$f":"SUM(C27:E27)","v":1},{"$f":"P27/O27","v":1},{"$f":"SUM(F27:H27)","v":0},{"$f":"R27/O27","v":0},{"$f":"SUM(I27:K27)","v":0},{"$f":"T27/O27","v":0},{"$f":"SUM(L27:N27)","v":0},{"$f":"V27/O27","v":0}]
["전화",{"$f":"SUM(C28:N28)","v":110},43,67,{"$nulls":10},{"$f":"B28","v":110},{"$f":"SUM(C28:E28)","v":110},{"$f":"P28/O28","v":1},{"$f":"SUM(F28:H28)","v":0},{"$f":"R28/O28","v":0},{"$f":"SUM(I28:K28)","v":0},{"$f":"T28/O28","v":0},{"$f":"SUM(L28:N28)","v":0},{"$f":"V28/O28","v":0}]
["온라인",{"$f":"SUM(C29:N29)","v":50},30,20,{"$nulls":10},{"$f":"B29","v":50},{"$f":"SUM(C29:E29)","v":50},{"$f":"P29/O29","v":1},{"$f":"SUM(F29:H29)","v":0},{"$f":"R29/O29","v":0},{"$f":"SUM(I29:K29)","v":0},{"$f":"T29/O29","v":0},{"$f":"SUM(L29:N29)","v":0},{"$f":"V29/O29","v":0}]
[]
["□  공공재정환수 신고상담(부정청구에서 변경)"]
["구분","계","1월","2월","3월","4월","5월","6월","7월","8월","9월","10월","11월","12월","합계","1분기","비율","2분기","비율","3분기","비율","4분기","비율"]
["계",{"$f":"SUM(C33:N33)","v":343},{"$f":"SUM(C34:C36)","v":194},{"$f":"SUM(D34:D36)","v":149},{"$f":"SUM(E34:E36)","v":0},{"$f":"SUM(F34:F36)","v":0},0,{"$f":"SUM(H34:H36)","v":0},0,0,0,0,0,0,{"$f":"B33","v":343},{"$f":"SUM(C33:E33)","v":343},{"$f":"P33/O33","v":1},{"$f":"SUM(F33:H33)","v":0},{"$f":"R33/O33","v":0},{"$f":"SUM(I33:K33)","v":0},{"$f":"T33/O33","v":0},{"$f":"SUM(L33:N33)","v":0},{"$f":"V33/O33","v":0}]
["방문",{"$f":"SUM(C34:N34)","v":3},1,2,{"$nulls":11},{"$f":"SUM(C34:E34)","v":3},{"$f":"P34/O34","v":{"$error":"#DIV/0!"}},{"$f":"SUM(F34:H34)","v":0},{"$f":"R34/O34","v":{"$error":"#DIV/0!"}},{"$f":"SUM(I34:K34)","v":0},{"$f":"T34/O34","v":{"$error":"#DIV/0!"}},{"$f":"SUM(L34:N34)","v":0},{"$f":"V34/O34","v":{"$error":"#DIV/0!"}}]
["전화",{"$f":"SUM(C35:N35)","v":226},116,110,{"$nulls":11},{"$f":"SUM(C35:E35)","v":226},{"$f":"P35/O35","v":{"$error":"#DIV/0!"}},{"$f":"SUM(F35:H35)","v":0},{"$f":"R35/O35","v":{"$error":"#DIV/0!"}},{"$f":"SUM(I35:K35)","v":0},{"$f":"T35/O35","v":{"$error":"#DIV/0!"}},{"$f":"SUM(L35:N35)","v":0},{"$f":"V35/O35","v":{"$error":"#DIV/0!"}}]
["온라인",{"$f":"SUM(C36:N36)","v":114},77,37,{"$nulls":11},{"$f":"SUM(C36:E36)","v":114},{"$f":"P36/O36","v":{"$error":"#DIV/0!"}},{"$f":"SUM(F36:H36)","v":0},{"$f":"R36/O36","v":{"$error":"#DIV/0!"}},{"$f":"SUM(I36:K36)","v":0},{"$f":"T36/O36","v":{"$error":"#DIV/0!"}},{"$f":"SUM(L36:N36)","v":0},{"$f":"V36/O36","v":{"$error":"#DIV/0!"}}]
[]
["□ 이해충돌방지 신고상담(2023.5.19 시행)"]
["구분","계","1월","2월","3월","4월","5월","6월","7월","8월","9월","10월","11월","12월","합계","1분기","비율","2분기","비율","3분기","비율","4분기","비율"]
["계",{"$f":"SUM(C40:N40)","v":31},{"$f":"SUM(C41:C43)","v":19},{"$f":"SUM(D41:D43)","v":12},{"$f":"SUM(E41:E43)","v":0},{"$f":"SUM(F41:F43)","v":0},0,{"$f":"SUM(H41:H43)","v":0},0,0,0,0,0,0,{"$f":"B40","v":31},{"$f":"SUM(C40:E40)","v":31},{"$f":"P40/O40","v":1},{"$f":"SUM(F40:H40)","v":0},{"$f":"R40/O40","v":0},{"$f":"SUM(I40:K40)","v":0},{"$f":"T40/O40","v":0},{"$f":"SUM(L40:N40)","v":0},{"$f":"V40/O40","v":0}]
["방문",{"$f":"SUM(C41:N41)","v":0},0,{"$nulls":11},{"$f":"B41","v":0},{"$f":"SUM(C41:E41)","v":0},{"$f":"P41/O41","v":{"$error":"#DIV/0!"}},{"$f":"SUM(F41:H41)","v":0},{"$f":"R41/O41","v":{"$error":"#DIV/0!"}},{"$f":"SUM(I41:K41)","v":0},{"$f":"T41/O41","v":{"$error":"#DIV/0!"}},{"$f":"SUM(L41:N41)","v":0},{"$f":"V41/O41","v":{"$error":"#DIV/0!"}}]
["전화",{"$f":"SUM(C42:N42)","v":27},16,11,{"$nulls":10},{"$f":"B42","v":27},{"$f":"SUM(C42:E42)","v":27},{"$f":"P42/O42","v":1},{"$f":"SUM(F42:H42)","v":0},{"$f":"R42/O42","v":0},{"$f":"SUM(I42:K42)","v":0},{"$f":"T42/O42","v":0},{"$f":"SUM(L42:N42)","v":0},{"$f":"V42/O42","v":0}]
["온라인",{"$f":"SUM(C43:N43)","v":4},3,1,{"$nulls":10},{"$f":"B43","v":4},{"$f":"SUM(C43:E43)","v":4},{"$f":"P43/O43","v":1},{"$f":"SUM(F43:H43)","v":0},{"$f":"R43/O43","v":0},{"$f":"SUM(I43:K43)","v":0},{"$f":"T43/O43","v":0},{"$f":"SUM(L43:N43)","v":0},{"$f":"V43/O43","v":0}]
[]
["■ 신고상담 총괄"]
["구분","계","1월","2월","3월","4월","5월","6월","7월","8월","9월","10월","11월","12월","합계","1분기","비율","2분기","비율","3분기","비율","4분기","비율"]
["계",{"$f":"SUM(C47:N47)","v":2171},{"$f":"SUM(C48:C50)","v":1220},{"$f":"SUM(D48:D50)","v":951},{"$f":"SUM(E48:E50)","v":0},{"$f":"SUM(F48:F50)","v":0},0,{"$f":"SUM(H48:H50)","v":0},0,0,0,0,0,0,{"$f":"B47","v":2171},{"$f":"SUM(C47:E47)","v":2171},{"$f":"P47/O47","v":1},{"$f":"SUM(F47:H47)","v":0},{"$f":"R47/O47","v":0},{"$f":"SUM(I47:K47)","v":0},{"$f":"T47/O47","v":0},{"$f":"SUM(L47:N47)","v":0},{"$f":"V47/O47","v":0}]
["방문",{"$f":"SUM(C48:N48)","v":39},{"$f":"SUM(C6,C13,C20,C27,C34,C41)","v":23},{"$f":"SUM(D6,D13,D20,D27,D34,D41)","v":16},0,0,0,{"$f":"SUM(H6,H13,H20,H27,H34,H41)","v":0},0,0,0,0,0,0,{"$f":"B48","v":39},{"$f":"SUM(C48:E48)","v":39},{"$f":"P48/O48","v":1},{"$f":"SUM(F48:H48)","v":0},{"$f":"R48/O48","v":0},{"$f":"SUM(I48:K48)","v":0},{"$f":"T48/O48","v":0},{"$f":"SUM(L48:N48)","v":0},{"$f":"V48/O48","v":0}]
["전화",{"$f":"SUM(C49:N49)","v":1455},{"$f":"SUM(C7,C14,C21,C28,C35,C42)","v":785},670,0,0,0,0,0,0,0,0,0,0,{"$f":"B49","v":1455},{"$f":"SUM(C49:E49)","v":1455},{"$f":"P49/O49","v":1},{"$f":"SUM(F49:H49)","v":0},{"$f":"R49/O49","v":0},{"$f":"SUM(I49:K49)","v":0},{"$f":"T49/O49","v":0},{"$f":"SUM(L49:N49)","v":0},{"$f":"V49/O49","v":0}]
["온라인",{"$f":"SUM(C50:N50)","v":677},412,265,0,0,0,0,0,0,0,0,0,0,{"$f":"B50","v":677},{"$f":"SUM(C50:E50)","v":677},{"$f":"P50/O50","v":1},{"$f":"SUM(F50:H50)","v":0},{"$f":"R50/O50","v":0},{"$f":"SUM(I50:K50)","v":0},{"$f":"T50/O50","v":0},{"$f":"SUM(L50:N50)","v":0},{"$f":"V50/O50","v":0}]
[]
["□ 경로별 상담현황",{"$nulls":4},"<기준>\n신청일: 2017, 2018\n답변일: 2019, 2020",null,null,null,19]
["구분","합계","2017년","2018년","2019년","2020년","2021년","2022년","2023년","2024년","2025년","2026년"]
["합계",60704,14641,15154,17560,13349,11878,11814,12769,13108,12769,{"$f":"L56+L58+L60","v":2171}]
[null,1,1,1,1,1,1,1,1,1,1,{"$f":"L54/L54","v":1}]
["방문",2482,421,598,849,614,627,303,116,167,116,{"$f":"B48","v":39}]
[null,4.0886926726410124E-2,2.8754866470869476E-2,3.9461528309357265E-2,4.8348519362186787E-2,4.5995954753165029E-2,5.2786664421619799E-2,2.5647536820721177E-2,9.0845015271360328E-3,1.2740311260299054E-2,9.0845015271360328E-3,{"$f":"L56/L54","v":1.7964071856287425E-2}]
["전화",51011,13472,13487,13841,10211,8639,8576,9326,9418,9326,{"$f":"B49","v":1455}]
[null,0.84032353716394304,0.92015572706782323,0.88999604064933346,0.78821184510250575,0.76492621170125108,0.72731099511702302,0.7259184018960555,0.73036259691440208,0.71849252364967964,0.73036259691440208,{"$f":"L58/L54","v":0.67019806540764626}]
["온라인",7211,748,1069,2870,2524,2612,2935,3327,3523,3327,{"$f":"B50","v":677}]
[null,0.11878953610964681,5.1089406461307288E-2,7.0542431041309223E-2,0.16343963553530752,0.18907783354558394,0.21990234046135712,0.24843406128322329,0.26055290155846189,0.26876716509002135,0.26055290155846189,{"$f":"L60/L54","v":0.31183786273606634}]
[{"$nulls":11},{"$f":"SUM(L56:L61)","v":2172}]
["유형별 상담현황"]
["구분","2018년","2019년","2020년","2021년","2022년","2023년","2024년","2025년","2026년"]
["합계",15154,17560,13349,11878,11814,12769,13108,12769,{"$f":"J67+J69+J71","v":2171}]
[null,1,1,1,1,1,1,1,1,{"$f":"J65/J65","v":1}]
["부패",11003,13489,10340,9028,8650,8559,9577,8559,{"$f":"B33+B12+B5+B40","v":1388}]
[null,0.7260789230566187,0.76816628701594536,0.77458985691812121,0.76006061626536459,0.73218215676316234,0.67029524629963189,0.73062252059810806,0.67029524629963189,{"$f":"J67/J65","v":0.63933671119299862}]
["공익",1358,1675,1899,2131,2368,3017,2158,3017,{"$f":"B19","v":622}]
[null,8.9613303418239407E-2,9.53872437357631E-2,0.14225784702974006,0.17940730762754672,0.20044015574741833,0.23627535437387423,0.16463228562709795,0.23627535437387423,{"$f":"J69/J65","v":0.28650391524643021}]
["부정청탁",2793,2396,1110,719,796,1193,1373,1193,{"$f":"B26","v":161}]
[null,0.18430777352514188,0.13644646924829157,8.3152296052138738E-2,6.0532076107088738E-2,6.737768748941933E-2,9.3429399326493856E-2,0.10474519377479402,9.3429399326493856E-2,{"$f":"J71/J65","v":7.415937356057116E-2}]

{"sheet":"7.행정심판상담","index":6,"n_rows":6,"n_cols":23,"rows_kept":6,"cut":false,"hidden":false,"merged":[]}
["7. 행정심판 상담",{"$nulls":12},"(단위 : 건)"]
[]
["구분","합계","1월","2월","3월","4월","5월","6월","7월","8월","9월","10월","11월","12월","합계","1분기","비율","2분기","비율","3분기","비율","4분기","비율"]
["서울",{"$f":"SUM(C4:N4)","v":0},{"$nulls":12},{"$f":"B4","v":0},{"$f":"SUM(C4:E4)","v":0},{"$f":"P4/O4","v":{"$error":"#DIV/0!"}},{"$f":"SUM(F4:H4)","v":0},{"$f":"R4/O4","v":{"$error":"#DIV/0!"}},{"$f":"SUM(I4:K4)","v":0},{"$f":"T4/O4","v":{"$error":"#DIV/0!"}},{"$f":"SUM(L4:N4)","v":0},{"$f":"V4/O4","v":{"$error":"#DIV/0!"}}]
["세종",{"$f":"SUM(C5:N5)","v":20},13,7,{"$nulls":10},{"$f":"B5","v":20},{"$f":"SUM(C5:E5)","v":20},{"$f":"P5/O5","v":1},{"$f":"SUM(F5:H5)","v":0},{"$f":"R5/O5","v":0},{"$f":"SUM(I5:K5)","v":0},{"$f":"T5/O5","v":0},{"$f":"SUM(L5:N5)","v":0},{"$f":"V5/O5","v":0}]
["합계",{"$f":"SUM(C6:N6)","v":20},{"$f":"SUM(C4:C5)","v":13},{"$f":"SUM(D4:D5)","v":7},0,0,0,0,0,0,0,0,0,0,{"$f":"B6","v":20},{"$f":"SUM(C6:E6)","v":20},{"$f":"P6/O6","v":1},{"$f":"SUM(F6:H6)","v":0},{"$f":"R6/O6","v":0},{"$f":"SUM(I6:K6)","v":0},{"$f":"T6/O6","v":0},{"$f":"SUM(L6:N6)","v":0},{"$f":"V6/O6","v":0}]

{"sheet":"8.접수","index":7,"n_rows":83,"n_cols":23,"rows_kept":83,"cut":false,"hidden":false,"merged":[[22,2,22,15],[25,0,25,3]]}
["8. 각종 서류접수"]
[]
["□ 민원접수",{"$nulls":12},"(단위 : 건)"]
["구분","합계","1월","2월","3월","4월","5월","6월","7월","8월","9월","10월","11월","12월","합계","1분기","비율","2분기","비율","3분기","비율","4분기","비율"]
["서울",{"$f":"SUM(C5:N5)","v":670},441,229,{"$nulls":10},{"$f":"B5","v":670},{"$f":"SUM(C5:E5)","v":670},{"$f":"P5/O5","v":1},{"$f":"SUM(F5:H5)","v":0},{"$f":"R5/O5","v":0},{"$f":"SUM(I5:K5)","v":0},{"$f":"T5/O5","v":0},{"$f":"SUM(L5:N5)","v":0},{"$f":"V5/O5","v":0}]
["세종",{"$f":"SUM(C6:N6)","v":150},78,72,{"$nulls":10},{"$f":"B6","v":150},{"$f":"SUM(C6:E6)","v":150},{"$f":"P6/O6","v":1},{"$f":"SUM(F6:H6)","v":0},{"$f":"R6/O6","v":0},{"$f":"SUM(I6:K6)","v":0},{"$f":"T6/O6","v":0},{"$f":"SUM(L6:N6)","v":0},{"$f":"V6/O6","v":0}]
["합계",{"$f":"SUM(C7:N7)","v":820},{"$f":"SUM(C5:C6)","v":519},301,0,0,0,0,0,0,0,0,0,0,{"$f":"B7","v":820},{"$f":"SUM(C7:E7)","v":820},{"$f":"P7/O7","v":1},{"$f":"SUM(F7:H7)","v":0},{"$f":"R7/O7","v":0},{"$f":"SUM(I7:K7)","v":0},{"$f":"T7/O7","v":0},{"$f":"SUM(L7:N7)","v":0},{"$f":"V7/O7","v":0}]
[]
["□ 신고접수",{"$nulls":12},"(단위 : 건)"]
["구분","합계","1월","2월","3월","4월","5월","6월","7월","8월","9월","10월","11월","12월","합계","1분기","비율","2분기","비율","3분기","비율","4분기","비율"]
["서울",{"$f":"SUM(C11:N11)","v":36},19,17,{"$nulls":10},{"$f":"B11","v":36},{"$f":"SUM(C11:E11)","v":36},{"$f":"P11/O11","v":1},{"$f":"SUM(F11:H11)","v":0},{"$f":"R11/O11","v":0},{"$f":"SUM(I11:K11)","v":0},{"$f":"T11/O11","v":0},{"$f":"SUM(L11:N11)","v":0},{"$f":"V11/O11","v":0}]
[]
["□ 행정심판 접수",{"$nulls":12},"(단위 : 건)"]
["구분","합계","1월","2월","3월","4월","5월","6월","7월","8월","9월","10월","11월","12월","합계","1분기","비율","2분기","비율","3분기","비율","4분기","비율"]
["서울",{"$f":"SUM(C15:N15)","v":0},0,0,{"$nulls":10},{"$f":"B15","v":0},{"$f":"SUM(C15:E15)","v":0},{"$f":"P15/O15","v":{"$error":"#DIV/0!"}},{"$f":"SUM(F15:H15)","v":0},{"$f":"R15/O15","v":{"$error":"#DIV/0!"}},{"$f":"SUM(I15:K15)","v":0},{"$f":"T15/O15","v":{"$error":"#DIV/0!"}},{"$f":"SUM(L15:N15)","v":0},{"$f":"V15/O15","v":{"$error":"#DIV/0!"}}]
["세종",{"$f":"SUM(C16:N16)","v":35},19,16,{"$nulls":10},{"$f":"B16","v":35},{"$f":"SUM(C16:E16)","v":35},{"$f":"P16/O16","v":1},{"$f":"SUM(F16:H16)","v":0},{"$f":"R16/O16","v":0},{"$f":"SUM(I16:K16)","v":0},{"$f":"T16/O16","v":0},{"$f":"SUM(L16:N16)","v":0},{"$f":"V16/O16","v":0}]
["합계",{"$f":"SUM(B15:B16)","v":35},{"$f":"SUM(C15:C16)","v":19},{"$f":"SUM(D15:D16)","v":16},0,0,0,0,0,0,0,0,0,0,{"$f":"B17","v":35},{"$f":"SUM(C17:E17)","v":35},{"$f":"P17/O17","v":1},{"$f":"SUM(F17:H17)","v":0},{"$f":"R17/O17","v":0},{"$f":"SUM(I17:K17)","v":0},{"$f":"T17/O17","v":0},{"$f":"SUM(L17:N17)","v":0},{"$f":"V17/O17","v":0}]
[]
["□ 대통령실민원 접수",{"$nulls":12},"(단위 : 건)"]
["구분","합계","1월","2월","3월","4월","5월","6월","7월","8월","9월","10월","11월","12월","합계","1분기","비율","2분기","비율","3분기","비율","4분기","비율"]
["서신",{"$f":"SUM(C21:N21)","v":4006},2224,1782,{"$nulls":10},{"$f":"B21","v":4006},{"$f":"SUM(C21:E21)","v":4006},{"$f":"P21/O21","v":1},{"$f":"SUM(F21:H21)","v":0},{"$f":"R21/O21","v":0},{"$f":"SUM(I21:K21)","v":0},{"$f":"T21/O21","v":0},{"$f":"SUM(L21:N21)","v":0},{"$f":"V21/O21","v":0}]
[]
[null,null," * 대비실민원 접수건수는 기관을 조정하는 과정에서 다부처지정 등으로 전월 숫자에 변동이 생김 (줄거나 늘어남)"]
[]
[]
["< 총 괄, 서울+세종 >"]
["구분","합계","1월","2월","3월","4월","5월","6월","7월","8월","9월","10월","11월","12월","합계","1분기","비율","2분기","비율","3분기","비율","4분기","비율"]
["합계",{"$f":"SUM(C28:N28)","v":820},{"$f":"C48+C65","v":519},{"$f":"D48+D65","v":301},0,0,0,0,0,0,0,0,0,0,{"$f":"B28","v":820},{"$f":"SUM(C28:E28)","v":820},{"$f":"P28/O28","v":1},{"$f":"SUM(F28:H28)","v":0},{"$f":"R28/O28","v":0},{"$f":"SUM(I28:K28)","v":0},{"$f":"T28/O28","v":0},{"$f":"SUM(L28:N28)","v":0},{"$f":"V28/O28","v":0}]
["고충(계)",{"$f":"SUM(B30:B36)","v":778},512,266,0,0,0,0,0,0,0,{"$f":"SUM(L30:L36)","v":0},{"$f":"SUM(M30:M36)","v":0},{"$f":"SUM(N30:N36)","v":0},{"$f":"B29","v":778},{"$f":"C29+D29+E29","v":778},{"$f":"P29/O29","v":1},{"$f":"F29+G29+H29","v":0},{"$f":"R29/O29","v":0},{"$f":"I29+J29+K29","v":0},{"$f":"T29/O29","v":0},{"$f":"L29+M29+N29","v":0},{"$f":"V29/O29","v":0}]
["FAX",{"$f":"SUM(C30:N30)","v":1},{"$f":"C50+C67","v":0},{"$f":"D50+D67","v":1},0,0,0,0,0,0,0,0,0,0,1,{"$f":"C30+D30+E30","v":1},1,{"$f":"F30+G30+H30","v":0},0,{"$f":"I30+J30+K30","v":0},0,{"$f":"L30+M30+N30","v":0},0]
["방문",634,{"$f":"C51+C68","v":425},209,0,0,0,0,0,0,0,0,0,0,634,634,1,0,0,0,0,0,0]
["방문전화",0,0,0,0,0,0,0,0,0,0,0,0,0,{"$f":"B32","v":0}]
["우편",143,{"$f":"C53+C70","v":87},56,0,0,0,0,0,0,0,0,0,0,143,143,1,0,0,0,0,0,0]
["인터넷",0,{"$f":"C54+C71","v":0},0,0,0,0,0,0,0,0,0,0,0,{"$f":"B34","v":0},{"$f":"C34+D34+E34","v":0},{"$f":"P34/O34","v":{"$error":"#DIV/0!"}},{"$f":"F34+G34+H34","v":0},{"$f":"R34/O34","v":{"$error":"#DIV/0!"}},{"$f":"I34+J34+K34","v":0},{"$f":"T34/O34","v":{"$error":"#DIV/0!"}},{"$f":"L34+M34+N34","v":0},{"$f":"V34/O34","v":{"$error":"#DIV/0!"}}]
["전화",0,{"$f":"C55+C72","v":0},0,0,0,0,0,0,0,0,0,0,0,{"$f":"B35","v":0},{"$f":"C35+D35+E35","v":0},{"$f":"P35/O35","v":{"$error":"#DIV/0!"}},{"$f":"F35+G35+H35","v":0},{"$f":"R35/O35","v":{"$error":"#DIV/0!"}},{"$f":"I35+J35+K35","v":0},{"$f":"T35/O35","v":{"$error":"#DIV/0!"}},{"$f":"L35+M35+N35","v":0},{"$f":"V35/O35","v":{"$error":"#DIV/0!"}}]
["화상",0,{"$f":"C56+C73","v":0},0,0,0,0,0,0,0,0,0,0,0,0,0,{"$error":"#DIV/0!"},0,{"$error":"#DIV/0!"},0,{"$error":"#DIV/0!"},0,{"$error":"#DIV/0!"}]
["일반(계)",42,{"$f":"SUM(C38:C44)","v":7},35,0,0,0,0,0,0,0,0,0,0,42,42,1,0,0,0,0,0,0]
["FAX",1,{"$f":"C58+C75","v":0},{"$f":"D58+D75","v":1},0,0,0,0,0,0,0,0,0,0,1,1,1,0,0,0,0,0,0]
["방문",21,{"$f":"C59+C76","v":7},14,0,0,0,0,0,0,0,0,0,0,21,21,1,0,0,0,0,0,0]
["방문전화",0,0,0,0,0,0,0,0,0,0,0,0,0,0,{"$f":"C40+D40+E40","v":0},{"$f":"P40/O40","v":{"$error":"#DIV/0!"}},{"$f":"F40+G40+H40","v":0},{"$f":"R40/O40","v":{"$error":"#DIV/0!"}},{"$f":"I40+J40+K40","v":0},{"$f":"T40/O40","v":{"$error":"#DIV/0!"}},{"$f":"L40+M40+N40","v":0},{"$f":"V40/O40","v":{"$error":"#DIV/0!"}}]
["우편",20,{"$f":"C61+C78","v":0},20,0,0,0,0,0,0,0,0,0,0,{"$f":"B41","v":20},{"$f":"C41+D41+E41","v":20},{"$f":"P41/O41","v":1},{"$f":"F41+G41+H41","v":0},{"$f":"R41/O41","v":0},{"$f":"I41+J41+K41","v":0},{"$f":"T41/O41","v":0},{"$f":"L41+M41+N41","v":0},{"$f":"V41/O41","v":0}]
["인터넷",0,{"$f":"C62+C79","v":0},0,0,0,0,0,0,0,0,0,0,0,{"$f":"B42","v":0},{"$f":"C42+D42+E42","v":0},{"$f":"P42/O42","v":{"$error":"#DIV/0!"}},{"$f":"F42+G42+H42","v":0},{"$f":"R42/O42","v":{"$error":"#DIV/0!"}},{"$f":"I42+J42+K42","v":0},{"$f":"T42/O42","v":{"$error":"#DIV/0!"}},{"$f":"L42+M42+N42","v":0},{"$f":"V42/O42","v":{"$error":"#DIV/0!"}}]
["전화",0,{"$f":"C63+C80","v":0},0,0,0,0,0,0,0,0,0,0,0,{"$f":"B43","v":0},{"$f":"C43+D43+E43","v":0},{"$f":"P43/O43","v":{"$error":"#DIV/0!"}},{"$f":"F43+G43+H43","v":0},{"$f":"R43/O43","v":{"$error":"#DIV/0!"}},{"$f":"I43+J43+K43","v":0},{"$f":"T43/O43","v":{"$error":"#DIV/0!"}},{"$f":"L43+M43+N43","v":0},{"$f":"V43/O43","v":{"$error":"#DIV/0!"}}]
["화상",0,{"$f":"C64+C81","v":0},0,0,0,0,0,0,0,0,0,0,0,0,0,{"$error":"#DIV/0!"},0,{"$error":"#DIV/0!"},0,{"$error":"#DIV/0!"},0,{"$error":"#DIV/0!"}]
[]
["< 상 세 >"]
["구분","합계","1월","2월","3월","4월","5월","6월","7월","8월","9월","10월","11월","12월","합계","1분기","비율","2분기","비율","3분기","비율","4분기","비율"]
["서울",{"$f":"SUM(C48:N48)","v":670},{"$f":"C49+C57","v":441},{"$f":"D49+D57","v":229},0,0,0,0,0,0,0,{"$f":"L49+L57","v":0},{"$f":"M49+M57","v":0},{"$f":"N49+N57","v":0},{"$f":"B48","v":670},{"$f":"SUM(C48:E48)","v":670},{"$f":"P48/O48","v":1},{"$f":"SUM(F48:H48)","v":0},{"$f":"R48/O48","v":0},{"$f":"SUM(I48:K48)","v":0},{"$f":"T48/O48","v":0},{"$f":"SUM(L48:N48)","v":0},{"$f":"V48/O48","v":0}]
["고충(계)",642,{"$f":"SUM(C50:C56)","v":437},{"$f":"SUM(D50:D56)","v":205},{"$f":"SUM(E50:E56)","v":0},0,{"$f":"SUM(G50:G56)","v":0},0,0,0,0,0,0,0,642,{"$f":"SUM(C49:E49)","v":642},{"$f":"P49/O49","v":1},0,{"$f":"R49/O49","v":0},0,{"$f":"T49/O49","v":0},0,{"$f":"V49/O49","v":0}]
["FAX",1,null,1,{"$nulls":10},1,1,1,0,0,0,0,0,0]
["방문",498,350,148,{"$nulls":10},498,498,1,0,0,0,0,0,0]
["방문전화",0,{"$nulls":12},{"$f":"B52","v":0},{"$f":"SUM(C52:E52)","v":0},{"$f":"P52/O52","v":{"$error":"#DIV/0!"}},{"$f":"SUM(F52:H52)","v":0},{"$f":"R52/O52","v":{"$error":"#DIV/0!"}},{"$f":"SUM(I52:K52)","v":0},{"$f":"T52/O52","v":{"$error":"#DIV/0!"}},{"$f":"SUM(L52:N52)","v":0},{"$f":"V52/O52","v":{"$error":"#DIV/0!"}}]
["우편",143,87,56,{"$nulls":10},{"$f":"B53","v":143},{"$f":"SUM(C53:E53)","v":143},{"$f":"P53/O53","v":1},{"$f":"SUM(F53:H53)","v":0},{"$f":"R53/O53","v":0},{"$f":"SUM(I53:K53)","v":0},{"$f":"T53/O53","v":0},{"$f":"SUM(L53:N53)","v":0},{"$f":"V53/O53","v":0}]
["인터넷",0,{"$nulls":12},{"$f":"B54","v":0},{"$f":"SUM(C54:E54)","v":0},{"$f":"P54/O54","v":{"$error":"#DIV/0!"}},{"$f":"SUM(F54:H54)","v":0},{"$f":"R54/O54","v":{"$error":"#DIV/0!"}},{"$f":"SUM(I54:K54)","v":0},{"$f":"T54/O54","v":{"$error":"#DIV/0!"}},{"$f":"SUM(L54:N54)","v":0},{"$f":"V54/O54","v":{"$error":"#DIV/0!"}}]
["전화",0,{"$nulls":12},{"$f":"B55","v":0},{"$f":"SUM(C55:E55)","v":0},{"$f":"P55/O55","v":{"$error":"#DIV/0!"}},{"$f":"SUM(F55:H55)","v":0},{"$f":"R55/O55","v":{"$error":"#DIV/0!"}},{"$f":"SUM(I55:K55)","v":0},{"$f":"T55/O55","v":{"$error":"#DIV/0!"}},{"$f":"SUM(L55:N55)","v":0},{"$f":"V55/O55","v":{"$error":"#DIV/0!"}}]
["화상",0,{"$nulls":12},0,0,{"$error":"#DIV/0!"},0,{"$error":"#DIV/0!"},0,{"$error":"#DIV/0!"},0,{"$error":"#DIV/0!"}]
["일반(계)",28,{"$f":"SUM(C58:C64)","v":4},{"$f":"SUM(D58:D64)","v":24},0,0,{"$f":"SUM(G58:G64)","v":0},0,0,0,0,0,0,0,28,28,1,0,0,0,0,0,0]
["FAX",1,null,1,{"$nulls":10},1,1,1,0,0,0,0,0,0]
["방문",7,4,3,{"$nulls":10},7,7,1,0,0,0,0,0,0]
["방문전화",0,{"$nulls":12},{"$f":"B60","v":0},{"$f":"SUM(C60:E60)","v":0},{"$f":"P60/O60","v":{"$error":"#DIV/0!"}},{"$f":"SUM(F60:H60)","v":0},{"$f":"R60/O60","v":{"$error":"#DIV/0!"}},{"$f":"SUM(I60:K60)","v":0},{"$f":"T60/O60","v":{"$error":"#DIV/0!"}},{"$f":"SUM(L60:N60)","v":0},{"$f":"V60/O60","v":{"$error":"#DIV/0!"}}]
["우편",20,null,20,{"$nulls":10},20,{"$f":"SUM(C61:M61)","v":20},null,0,null,0,null,0]
["인터넷",0,{"$nulls":12},0,{"$f":"SUM(C62:M62)","v":0},null,0,null,0,null,0]
["전화",0,{"$nulls":12},0,0,{"$error":"#DIV/0!"},0,{"$error":"#DIV/0!"},0,{"$error":"#DIV/0!"},0,{"$error":"#DIV/0!"}]
["화상",0,{"$nulls":12},0,0,{"$error":"#DIV/0!"},0,{"$error":"#DIV/0!"},0,{"$error":"#DIV/0!"},0,{"$error":"#DIV/0!"}]
["세종",150,{"$f":"C66+C74","v":78},{"$f":"D66+D74","v":72},0,0,0,0,0,0,0,0,0,0,150,150,1,0,0,0,0,0,0]
["고충(계)",136,{"$f":"SUM(C67:C73)","v":75},{"$f":"SUM(D67:D73)","v":61},0,0,0,0,0,0,0,0,0,0,136,136,1,0,0,0,0,0,0]
["FAX",0,{"$nulls":12},0,0,{"$error":"#DIV/0!"},0,{"$error":"#DIV/0!"},0,{"$error":"#DIV/0!"},0,{"$error":"#DIV/0!"}]
["방문",136,75,61,{"$nulls":10},136,136,1,0,0,0,0,0,0]
["방문전화",0,{"$nulls":12},0,{"$f":"SUM(C69:E69)","v":0},{"$f":"P69/O69","v":{"$error":"#DIV/0!"}},{"$f":"SUM(F69:H69)","v":0},{"$f":"R69/O69","v":{"$error":"#DIV/0!"}},{"$f":"SUM(I69:K69)","v":0},{"$f":"T69/O69","v":{"$error":"#DIV/0!"}},{"$f":"SUM(L69:N69)","v":0},{"$f":"V69/O69","v":{"$error":"#DIV/0!"}}]
["우편",0,{"$nulls":13},{"$f":"SUM(C70:N70)","v":0},null,0,null,0,null,0]
["인터넷",0,{"$nulls":13},{"$f":"SUM(C71:N71)","v":0},null,0,null,0,null,0]
["전화",0,{"$nulls":12},0,0,{"$error":"#DIV/0!"},0,{"$error":"#DIV/0!"},0,{"$error":"#DIV/0!"},0,{"$error":"#DIV/0!"}]
["화상",0,{"$nulls":12},0,0,{"$error":"#DIV/0!"},0,{"$error":"#DIV/0!"},0,{"$error":"#DIV/0!"},0,{"$error":"#DIV/0!"}]
["일반(계)",14,{"$f":"SUM(C75:C81)","v":3},{"$f":"SUM(D75:D81)","v":11},0,0,0,0,0,0,0,0,0,0,14,14,1,0,0,0,0,0,0]
["FAX",0,{"$nulls":12},{"$f":"B75","v":0},0,{"$error":"#DIV/0!"},0,{"$error":"#DIV/0!"},0,{"$error":"#DIV/0!"},0,{"$error":"#DIV/0!"}]
["방문",14,3,11,{"$nulls":10},14,14,1,0,0,0,0,0,0]
["방문전화",0,{"$nulls":12},0,{"$f":"SUM(C77:E77)","v":0},{"$f":"P77/O77","v":{"$error":"#DIV/0!"}},{"$f":"SUM(F77:H77)","v":0},{"$f":"R77/O77","v":{"$error":"#DIV/0!"}},{"$f":"SUM(I77:K77)","v":0},{"$f":"T77/O77","v":{"$error":"#DIV/0!"}},{"$f":"SUM(L77:N77)","v":0},{"$f":"V77/O77","v":{"$error":"#DIV/0!"}}]
["우편",0,{"$nulls":13},{"$f":"SUM(C78:N78)","v":0},null,0,null,0,null,0]
["인터넷",0,{"$nulls":13},{"$f":"SUM(C79:N79)","v":0},null,0,null,0,null,0]
["전화",0,{"$nulls":12},0,0,{"$error":"#DIV/0!"},0,{"$error":"#DIV/0!"},0,{"$error":"#DIV/0!"},0,{"$error":"#DIV/0!"}]
["화상",0,{"$nulls":12},0,0,{"$error":"#DIV/0!"},0,{"$error":"#DIV/0!"},0,{"$error":"#DIV/0!"},0,{"$error":"#DIV/0!"}]
[]
[null,"검증",{"$f":"C7-C28","v":0},0,0,0,0,0,0,0,0,0,0,0]

{"sheet":"9.처리(민형사)","index":8,"n_rows":92,"n_cols":24,"rows_kept":92,"cut":false,"hidden":false,"merged":[[53,0,55,0],[3,0,5,0],[6,0,8,0],[9,0,11,0],[47,0,49,0],[50,0,52,0],[59,0,61,0],[59,16,61,16],[62,0,64,0],[62,16,64,16],[65,0,67,0],[65,16,67,16]]}
["9. 민형사 민원처리"]
[{"$nulls":14},"(단위 : 건)"]
["구분","구분","합계","1월","2월","3월","4월","5월","6월","7월","8월","9월","10월","11월","12월","합계","1분기","비율","2분기","비율","3분기","비율","4분기","비율"]
["계","이송",{"$f":"SUM(D4:O4)","v":1657},{"$f":"D7+D10","v":448},{"$f":"E7+E10","v":412},797,null,null,{"$f":"I7+I10","v":0},0,0,0,0,0,0,{"$f":"Q4+S4+U4+W4","v":1657},{"$f":"SUM(D4:F4)","v":1657},{"$f":"Q4/P4","v":1},{"$f":"SUM(G4:I4)","v":0},{"$f":"S4/P4","v":0},{"$f":"SUM(J4:L4)","v":0},{"$f":"U4/P4","v":0},{"$f":"SUM(M4:O4)","v":0},{"$f":"W4/P4","v":0}]
[null,"종결",21,{"$f":"D8+D11","v":10},3,8,null,null,0,0,0,0,0,0,0,{"$f":"Q5+S5+U5+W5","v":21},{"$f":"SUM(D5:F5)","v":21},{"$f":"Q5/P5","v":1},{"$f":"SUM(G5:I5)","v":0},{"$f":"S5/P5","v":0},{"$f":"SUM(J5:L5)","v":0},{"$f":"U5/P5","v":0},{"$f":"SUM(M5:O5)","v":0},{"$f":"W5/P5","v":0}]
[null,"합계",1678,{"$f":"SUM(D4:D5)","v":458},{"$f":"SUM(E4:E5)","v":415},{"$f":"SUM(F4:F5)","v":805},0,0,{"$f":"SUM(I4:I5)","v":0},0,0,0,0,0,0,{"$f":"Q6+S6+U6+W6","v":1678},{"$f":"SUM(D6:F6)","v":1678},{"$f":"Q6/P6","v":1},{"$f":"SUM(G6:I6)","v":0},{"$f":"S6/P6","v":0},{"$f":"SUM(J6:L6)","v":0},{"$f":"U6/P6","v":0},{"$f":"SUM(M6:O6)","v":0},{"$f":"W6/P6","v":0}]
["민사","이송",480,174,152,154]
[null,"종결",10,3,3,4]
[null,"합계",490,{"$f":"D7+D8","v":177},{"$f":"E7+E8","v":155},{"$f":"F7+F8","v":158},0,0,{"$f":"I7+I8","v":0},0,0,0,0,0,0]
["형사","이송",1177,274,260,643]
[null,"종결",11,7,0,4]
[null,"합계",1188,{"$f":"D10+D11","v":281},{"$f":"E10+E11","v":260},{"$f":"F10+F11","v":647},0,0,{"$f":"I10+I11","v":0},0,0,0,0,0,0]
["(*다부처 지정 후 각각의 처리건수를 합한 수치임)"]
["<경로별 처리>"]
["구분","합계","1월","2월","3월","4월","5월","6월","7월","8월","9월","10월","11월","12월","합계","1분기","비율","2분기","비율","3분기","비율","4분기","비율"]
["합계",{"$f":"SUM(B17:B20)","v":1678},{"$f":"SUM(C17:C20)","v":458},{"$f":"SUM(D17:D20)","v":415},805,0,0,0,{"$f":"SUM(I17:I20)","v":0},0,0,0,0,0,{"$f":"B16","v":1678},{"$f":"SUM(C16:E16)","v":1678},{"$f":"P16/O16","v":1},{"$f":"SUM(F16:H16)","v":0},{"$f":"R16/O16","v":0},{"$f":"SUM(I16:K16)","v":0},{"$f":"T16/O16","v":0},{"$f":"SUM(L16:N16)","v":0},{"$f":"V16/O16","v":0}]
["방문",{"$f":"SUM(C17:N17)","v":49},4,40,5,{"$nulls":9},{"$f":"B17","v":49},{"$f":"C17+D17+E17","v":49},{"$f":"P17/O17","v":1},{"$f":"F17+G17+H17","v":0},{"$f":"R17/O17","v":0},{"$f":"I17+J17+K17","v":0},{"$f":"T17/O17","v":0},{"$f":"L17+M17+N17","v":0},{"$f":"V17/O17","v":0}]
["우편",{"$f":"SUM(C18:N18)","v":205},68,74,63,{"$nulls":9},{"$f":"B18","v":205},{"$f":"C18+D18+E18","v":205},{"$f":"P18/O18","v":1},{"$f":"F18+G18+H18","v":0},{"$f":"R18/O18","v":0},{"$f":"I18+J18+K18","v":0},{"$f":"T18/O18","v":0},{"$f":"L18+M18+N18","v":0},{"$f":"V18/O18","v":0}]
["전화(FAX포함)",{"$f":"SUM(C19:N19)","v":286},23,41,222,{"$nulls":9},{"$f":"B19","v":286},{"$f":"C19+D19+E19","v":286},{"$f":"P19/O19","v":1},{"$f":"F19+G19+H19","v":0},{"$f":"R19/O19","v":0},{"$f":"I19+J19+K19","v":0},{"$f":"T19/O19","v":0},{"$f":"L19+M19+N19","v":0},{"$f":"V19/O19","v":0}]
["온라인",{"$f":"SUM(C20:N20)","v":1138},363,260,515,{"$nulls":9},{"$f":"B20","v":1138},{"$f":"C20+D20+E20","v":1138},{"$f":"P20/O20","v":1},{"$f":"F20+G20+H20","v":0},{"$f":"R20/O20","v":0},{"$f":"I20+J20+K20","v":0},{"$f":"T20/O20","v":0},{"$f":"L20+M20+N20","v":0},{"$f":"V20/O20","v":0}]
[]
["2025년"]
["구분","구분","합계","1월","2월","3월","4월","5월","6월","7월","8월","9월","10월","11월","12월"]
["계","이송",{"$f":"SUM(D24:O24)","v":4248},{"$f":"D27+D30","v":292},{"$f":"E27+E30","v":338},444,{"$f":"G27+G30","v":418},344,{"$f":"I27+I30","v":408},443,334,360,98,294,475]
[null,"종결",35,{"$f":"D28+D31","v":0},2,0,2,2,0,3,3,4,0,8,11]
[null,"합계",4283,{"$f":"SUM(D24:D25)","v":292},{"$f":"SUM(E24:E25)","v":340},444,420,346,408,446,337,364,98,302,486]
["민사","이송",1131,53,69,98,97,66,105,130,92,67,46,134,174]
[null,"종결",24,0,2,null,2,2,null,3,3,4,null,5,3]
[null,"합계",1155,{"$f":"SUM(D27:D28)","v":53},{"$f":"SUM(E27:E28)","v":71},98,99,68,105,133,95,71,46,139,177]
["형사","이송",3117,239,269,346,321,278,303,313,242,293,52,160,301]
[null,"종결",11,0,{"$nulls":5},0,null,null,null,3,8]
[null,"합계",3128,{"$f":"SUM(D30:D31)","v":239},{"$f":"SUM(E30:E31)","v":269},346,321,278,303,313,242,293,52,163,309]
[]
["2024년"]
["구분","구분","합계","1월","2월","3월","4월","5월","6월","7월","8월","9월","10월","11월","12월"]
["계","이송",{"$f":"SUM(D36:O36)","v":6097},337,314,359,514,486,1046,1248,405,283,360,352,393]
[null,"종결",23,4,1," - ",2,5,1,2,2," - ",2,1,3]
[null,"합계",6120,341,315,359,516,491,1047,1250,407,283,362,353,396]
["민사","이송",1873,110,104,58,430,71,90,493,96,102,113,101,105]
[null,"종결",13,1,1,null,2,3," - ",2,1,null,1,null,2]
[null,"합계",1886,111,105,58,432,74,90,495,97,102,114,101,107]
["형사","이송",4224,227,210,301,84,415,956,755,309,181,247,251,288]
[null,"종결",10,3," - ",null,null,2,1,null,1,null,1,1,1]
[null,"합계",4234,230,210,301,84,417,957,755,310,181,248,252,289]
[]
["2023년"]
["구분","구분","합계","1월","2월","3월","4월","5월","6월","7월","8월","9월","10월","11월","12월"]
["계","이송",{"$f":"SUM(D48:O48)","v":6204},{"$f":"D51+D54","v":680},{"$f":"E51+E54","v":501},692,444,494,464,492,669,404,418,499,447]
[null,"종결",32,{"$f":"D52+D55","v":5},2,1,1,2,5,4,2,2,4,1,3]
[null,"합계",6236,{"$f":"SUM(D48:D49)","v":685},{"$f":"SUM(E48:E49)","v":503},{"$f":"SUM(F48:F49)","v":693},{"$f":"SUM(G48:G49)","v":445},496,{"$f":"SUM(I48:I49)","v":469},496,671,406,422,500,450]
["민사","이송",2144,200,186,220,168,174,184,176,199,157,139,173,168]
[null,"종결",14,3,2,0,0,1,1,3,0,0,1,0,3]
[null,"합계",2158,{"$f":"D51+D52","v":203},{"$f":"E51+E52","v":188},{"$f":"F51+F52","v":220},168,175,{"$f":"I51+I52","v":185},179,199,157,140,173,171]
["형사","이송",4060,480,315,472,276,320,280,316,470,247,279,326,279]
[null,"종결",18,2,0,1,1,1,4,1,2,2,3,1,0]
[null,"합계",4078,{"$f":"D54+D55","v":482},{"$f":"E54+E55","v":315},{"$f":"F54+F55","v":473},277,321,{"$f":"I54+I55","v":284},317,472,249,282,327,279]
[]
["<2022년>",{"$nulls":15},"<2019년>"]
["구분","구분","합계","1월","2월","3월","4월","5월","6월","7월","8월","9월","10월","11월","12월",null,null,"구분","합계"]
["계","이송",{"$f":"SUM(D60:O60)","v":6578},{"$f":"D63+D66","v":404},{"$f":"E63+E66","v":429},549,420,570,471,382,633,623,586,761,750,null,"계","이송",{"$f":"S63+S66","v":2998}]
[null,"종결",40,{"$f":"D64+D67","v":3},2,10,2,1,1,6,4,2,3,2,4,null,null,"종결",{"$f":"S64+S67","v":241}]
[null,"합계",6618,{"$f":"SUM(D60:D61)","v":407},{"$f":"SUM(E60:E61)","v":431},{"$f":"SUM(F60:F61)","v":559},{"$f":"SUM(G60:G61)","v":422},571,{"$f":"SUM(I60:I61)","v":472},388,637,625,589,763,754,null,null,"합계",{"$f":"S60+S61","v":3239}]
["민사","이송",2740,262,251,271,196,266,180,124,186,269,238,266,231,null,"민사","이송",1735]
[null,"종결",23,2,1,8,0,1,0,2,3,2,2,0,2,null,null,"종결",102]
[null,"합계",2763,{"$f":"D63+D64","v":264},{"$f":"E63+E64","v":252},{"$f":"F63+F64","v":279},196,267,{"$f":"I63+I64","v":180},126,189,271,240,266,233,null,null,"합계",{"$f":"S63+S64","v":1837}]
["형사","이송",3838,142,178,278,224,304,291,258,447,354,348,495,519,null,"형사","이송",1263]
[null,"종결",17,1,1,2,2," - ",1,4,1,0,1,2,2,null,null,"종결",139]
[null,"합계",3855,{"$f":"D66+D67","v":143},{"$f":"E66+E67","v":179},{"$f":"F66+F67","v":280},226,304,{"$f":"I66+I67","v":292},262,448,354,349,497,521,null,null,"합계",{"$f":"S66+S67","v":1402}]
[]
["<2021년>",{"$nulls":15},"<2018년>"]
[null,"구분","합계","1월","2월","3월","4월","5월","6월","7월","8월","9월","10월","11월","12월",null,null,"구분","합계"]
["계","이송",{"$f":"SUM(D72:O72)","v":4615},{"$f":"D75+D78","v":271},{"$f":"E75+E78","v":216},235,279,225,491,487,471,485,509,478,468,null,"계","이송",{"$f":"S75+S78","v":2679}]
[null,"종결",{"$f":"SUM(D73:O73)","v":67},{"$f":"D76+D79","v":19},9,5,3,3,7,4,8,1,1,4,3,null,null,"종결",{"$f":"S76+S79","v":389}]
[null,"합계",{"$f":"C72+C73","v":4682},{"$f":"D72+D73","v":290},{"$f":"E72+E73","v":225},240,282,228,498,491,479,486,510,482,471,null,null,"합계",{"$f":"S72+S73","v":3068}]
["민사","이송",{"$f":"SUM(D75:O75)","v":2028},132,119,125,151,89,170,173,152,137,178,306,296,null,"민사","이송",1233]
[null,"종결",{"$f":"SUM(D76:O76)","v":34},13,6,2,0,1,3,3,1,0,0,3,2,null,null,"종결",171]
[null,"합계",{"$f":"C75+C76","v":2062},{"$f":"D75+D76","v":145},125,127,151,90,173,176,153,137,178,309,298,null,null,"합계",{"$f":"S75+S76","v":1404}]
["형사","이송",{"$f":"SUM(D78:O78)","v":2587},139,97,110,128,136,321,314,319,348,331,172,172,null,"형사","이송",1446]
[null,"종결",{"$f":"SUM(D79:O79)","v":33},6,3,3,3,2,4,1,7,1,1,1,1,null,null,"종결",218]
[null,"합계",{"$f":"C78+C79","v":2620},{"$f":"D78+D79","v":145},100,113,131,138,325,315,326,349,332,173,173,null,null,"합계",{"$f":"S78+S79","v":1664}]
[]
["<2020년>",{"$nulls":15},"<2017년>"]
[null,"구분","합계","1월","2월","3월","4월","5월","6월","7월","8월","9월","10월","11월","12월",null,null,"구분","합계"]
["계","이송",{"$f":"SUM(D84:O84)","v":2686},{"$f":"D87+D90","v":139},{"$f":"E87+E90","v":186},208,174,233,300,225,238,258,241,227,257,null,"계","이송",{"$f":"S87+S90","v":2864}]
[null,"종결",{"$f":"SUM(D85:O85)","v":77},{"$f":"D88+D91","v":4},4,4,2,3,2,7,1,6,22,13,9,null,null,"종결",{"$f":"S88+S91","v":105}]
[null,"합계",{"$f":"C84+C85","v":2763},{"$f":"D84+D85","v":143},{"$f":"E84+E85","v":190},212,176,236,302,232,239,264,263,240,266,null,null,"합계",{"$f":"S84+S85","v":2969}]
["민사","이송",{"$f":"SUM(D87:O87)","v":1371},73,84,100,92,126,131,149,153,143,111,102,107,null,"민사","이송",1378]
[null,"종결",{"$f":"SUM(D88:O88)","v":46},1,1,0,0,1,0,3,1,3,20,9,7,null,null,"종결",44]
[null,"합계",{"$f":"C87+C88","v":1417},{"$f":"D87+D88","v":74},85,100,92,127,131,152,154,146,131,111,114,null,null,"합계",{"$f":"S87+S88","v":1422}]
["형사","이송",{"$f":"SUM(D90:O90)","v":1315},66,102,108,82,107,169,76,85,115,130,125,150,null,"형사","이송",1486]
[null,"종결",{"$f":"SUM(D91:O91)","v":31},3,3,4,2,2,2,4,0,3,2,4,2,null,null,"종결",61]
[null,"합계",{"$f":"C90+C91","v":1346},{"$f":"D90+D91","v":69},105,112,84,109,171,80,85,118,132,129,152,null,null,"합계",{"$f":"S90+S91","v":1547}]

{"sheet":"10.온라인 상담","index":9,"n_rows":78,"n_cols":23,"rows_kept":78,"cut":false,"hidden":false,"merged":[[10,0,13,0],[14,0,18,0],[19,0,19,1],[20,0,20,1],[71,12,71,13]]}
["10. 온라인 상담"]
[]
["□ 온라인상담 처리 합계(처리일기준으로 전체건임 : 기관안내, 취하, 상담해결, 민원신청, 민원신청(전환) 등)",{"$nulls":12},"(단위 : 건)"]
["구분","합계","1월","2월","3월","4월","5월","6월","7월","8월","9월","10월","11월","12월","합계","1분기","비율","2분기","비율","3분기","비율","4분기","비율"]
["일반",{"$f":"SUM(C5:N5)","v":3716},2255,1461,{"$nulls":10},{"$f":"B5","v":3716},{"$f":"SUM(C5:E5)","v":3716},{"$f":"P5/O5","v":1},{"$f":"SUM(F5:H5)","v":0},{"$f":"R5/O5","v":0},{"$f":"SUM(I5:K5)","v":0},{"$f":"T5/O5","v":0},{"$f":"SUM(L5:N5)","v":0},{"$f":"V5/O5","v":0}]
["고충",{"$f":"SUM(C6:N6)","v":3},2,1,{"$nulls":10},{"$f":"B6","v":3},{"$f":"SUM(C6:E6)","v":3},{"$f":"P6/O6","v":1},{"$f":"SUM(F6:H6)","v":0},{"$f":"R6/O6","v":0},{"$f":"SUM(I6:K6)","v":0},{"$f":"T6/O6","v":0},{"$f":"SUM(L6:N6)","v":0},{"$f":"V6/O6","v":0}]
["합계",{"$f":"SUM(C7:N7)","v":3719},{"$f":"SUM(C5:C6)","v":2257},{"$f":"SUM(D5:D6)","v":1462},{"$f":"SUM(E5:E6)","v":0},0,0,{"$f":"SUM(H5:H6)","v":0},0,0,0,0,0,0,{"$f":"B7","v":3719},{"$f":"SUM(C7:E7)","v":3719},{"$f":"P7/O7","v":1},{"$f":"SUM(F7:H7)","v":0},{"$f":"R7/O7","v":0},{"$f":"SUM(I7:K7)","v":0},{"$f":"T7/O7","v":0},{"$f":"SUM(L7:N7)","v":0},{"$f":"V7/O7","v":0}]
[]
["□ 온라인민원 처리결과 현황",{"$nulls":12},"(단위 : 건)",{"$f":"O14+O18+O19","v":3433}]
["구분","처리결과","1월","2월","3월","4월","5월","6월","7월","8월","9월","10월","11월","12월","합계","1분기","비율","2분기","비율","3분기","비율","4분기","비율"]
["고충","기관안내",1,{"$nulls":11},{"$f":"SUM(C11:N11)","v":1},{"$f":"SUM(C11:E11)","v":1},{"$f":"P11/O11","v":1},{"$f":"SUM(G11:I11)","v":0},{"$f":"R11/O11","v":0},{"$f":"SUM(J11:L11)","v":0},{"$f":"T11/O11","v":0},{"$f":"SUM(M11:N11)","v":0},{"$f":"V11/O11","v":0}]
[null,"민원신청(전환)",{"$nulls":12},{"$f":"SUM(C12:N12)","v":0},{"$f":"SUM(C12:E12)","v":0},{"$f":"P12/O12","v":{"$error":"#DIV/0!"}},0,{"$f":"R12/O12","v":{"$error":"#DIV/0!"}},0,{"$f":"T12/O12","v":{"$error":"#DIV/0!"}},0,{"$f":"V12/O12","v":{"$error":"#DIV/0!"}}]
[null,"상담취하 등",{"$nulls":12},0,0,{"$error":"#DIV/0!"},0,{"$error":"#DIV/0!"},0,{"$error":"#DIV/0!"},0,{"$error":"#DIV/0!"}]
[null,"상담해결",1,1,{"$nulls":10},2,2,1,0,0,0,0,0,0]
["일반","기관안내",91,25,{"$nulls":10},116,116,1,0,0,0,0,0,0]
[null,"민원신청(전환)","-",{"$nulls":11},0,0,{"$error":"#DIV/0!"},0,{"$error":"#DIV/0!"},0,{"$error":"#DIV/0!"},0,{"$error":"#DIV/0!"}]
[null,"상담취하 등",98,71,{"$nulls":10},169,169,1,0,0,0,0,0,0]
[null,"상담해결",2066,1365,{"$nulls":10},3431,3431,{"$f":"P18/O18","v":1},{"$f":"SUM(G18:I18)","v":0},{"$f":"R18/O18","v":0},{"$f":"SUM(J18:L18)","v":0},{"$f":"T18/O18","v":0},{"$f":"SUM(M18:N18)","v":0},{"$f":"V18/O18","v":0}]
[null,"조정협의","-",{"$nulls":11},0,0,{"$error":"#DIV/0!"},0,{"$f":"R19/O19","v":{"$error":"#DIV/0!"}},0,{"$error":"#DIV/0!"},0,{"$error":"#DIV/0!"}]
["합계",null,{"$f":"SUM(C11:C19)","v":2257},1462,0,0,0,0,0,0,0,0,0,0,{"$f":"SUM(C20:N20)","v":3719},3719,{"$f":"P20/O20","v":1},0,{"$f":"R20/O20","v":0},0,{"$f":"T20/O20","v":0},0,{"$f":"V20/O20","v":0}]
["※ 민원신청",null,{"$f":"SUM(C12+C16)","v":{"$error":"#VALUE!"}},{"$f":"SUM(D12+D16)","v":0},0,0,0,{"$f":"SUM(H12+H16)","v":0},0,0,0,0,0,0,0]
{"$rows_empty":19}
["□ 온라인상담 분야별 현황(=2.온라인상담 처리합계 건수)",{"$nulls":12},"(단위 : 건)"]
["구    분","합계","1월","2월","3월","4월","5월","6월","7월","8월","9월","10월","11월","12월","합계","1분기","비율","2분기","비율","3분기","비율","4분기","비율"]
["건축",{"$f":"SUM(C43:N43)","v":0},{"$nulls":12},{"$f":"B43","v":0},{"$f":"SUM(C43:E43)","v":0},{"$f":"P43/O43","v":{"$error":"#DIV/0!"}},{"$f":"SUM(F43:H43)","v":0},{"$f":"R43/O43","v":{"$error":"#DIV/0!"}},{"$f":"SUM(I43:K43)","v":0},{"$f":"T43/O43","v":{"$error":"#DIV/0!"}},{"$f":"SUM(L43:N43)","v":0},{"$f":"V43/O43","v":{"$error":"#DIV/0!"}}]
["경찰",{"$f":"SUM(C44:N44)","v":0},{"$nulls":12},{"$f":"B44","v":0},{"$f":"SUM(C44:E44)","v":0},{"$f":"P44/O44","v":{"$error":"#DIV/0!"}},{"$f":"SUM(F44:H44)","v":0},{"$f":"R44/O44","v":{"$error":"#DIV/0!"}},{"$f":"SUM(I44:K44)","v":0},{"$f":"T44/O44","v":{"$error":"#DIV/0!"}},{"$f":"SUM(L44:N44)","v":0},{"$f":"V44/O44","v":{"$error":"#DIV/0!"}}]
["고용노동",0,{"$nulls":12},{"$f":"B45","v":0},{"$f":"SUM(C45:E45)","v":0},{"$f":"P45/O45","v":{"$error":"#DIV/0!"}},{"$f":"SUM(F45:H45)","v":0},{"$f":"R45/O45","v":{"$error":"#DIV/0!"}},{"$f":"SUM(I45:K45)","v":0},{"$f":"T45/O45","v":{"$error":"#DIV/0!"}},{"$f":"SUM(L45:N45)","v":0},{"$f":"V45/O45","v":{"$error":"#DIV/0!"}}]
["교육",0,{"$nulls":12},{"$f":"B46","v":0},{"$f":"SUM(C46:E46)","v":0},{"$f":"P46/O46","v":{"$error":"#DIV/0!"}},{"$f":"SUM(F46:H46)","v":0},{"$f":"R46/O46","v":{"$error":"#DIV/0!"}},{"$f":"SUM(I46:K46)","v":0},{"$f":"T46/O46","v":{"$error":"#DIV/0!"}},{"$f":"SUM(L46:N46)","v":0},{"$f":"V46/O46","v":{"$error":"#DIV/0!"}}]
["교통",0,{"$nulls":12},0,0,{"$error":"#DIV/0!"},0,{"$error":"#DIV/0!"},0,{"$error":"#DIV/0!"},0,{"$error":"#DIV/0!"}]
["국방",0,{"$nulls":12},0,0,{"$error":"#DIV/0!"},0,{"$error":"#DIV/0!"},0,{"$error":"#DIV/0!"},0,{"$error":"#DIV/0!"}]
["군사",0,{"$nulls":12},0,0,{"$error":"#DIV/0!"},0,{"$error":"#DIV/0!"},0,{"$error":"#DIV/0!"},0,{"$error":"#DIV/0!"}]
["기타",0,{"$nulls":12},0,0,{"$error":"#DIV/0!"},0,{"$error":"#DIV/0!"},0,{"$error":"#DIV/0!"},0,{"$error":"#DIV/0!"}]
["농림축산",0,{"$nulls":12},0,0,{"$error":"#DIV/0!"},0,{"$error":"#DIV/0!"},0,{"$error":"#DIV/0!"},0,{"$error":"#DIV/0!"}]
["도로",0,{"$nulls":12},0,0,{"$error":"#DIV/0!"},0,{"$error":"#DIV/0!"},0,{"$error":"#DIV/0!"},0,{"$error":"#DIV/0!"}]
["도시",0,{"$nulls":12},0,0,{"$error":"#DIV/0!"},0,{"$error":"#DIV/0!"},0,{"$error":"#DIV/0!"},0,{"$error":"#DIV/0!"}]
["문화체육관광",0,{"$nulls":12},0,0,{"$error":"#DIV/0!"},0,{"$error":"#DIV/0!"},0,{"$error":"#DIV/0!"},0,{"$error":"#DIV/0!"}]
["민사법무",0,{"$nulls":12},0,0,{"$error":"#DIV/0!"},0,{"$error":"#DIV/0!"},0,{"$error":"#DIV/0!"},0,{"$error":"#DIV/0!"}]
["방송통신",0,{"$nulls":12},0,0,{"$error":"#DIV/0!"},0,{"$error":"#DIV/0!"},0,{"$error":"#DIV/0!"},0,{"$error":"#DIV/0!"}]
["보건복지",0,{"$nulls":12},0,0,{"$error":"#DIV/0!"},0,{"$error":"#DIV/0!"},0,{"$error":"#DIV/0!"},0,{"$error":"#DIV/0!"}]
["보훈",0,{"$nulls":12},0,0,{"$error":"#DIV/0!"},0,{"$error":"#DIV/0!"},0,{"$error":"#DIV/0!"},0,{"$error":"#DIV/0!"}]
["산업통상자원",0,{"$nulls":12},0,0,{"$error":"#DIV/0!"},0,{"$error":"#DIV/0!"},0,{"$error":"#DIV/0!"},0,{"$error":"#DIV/0!"}]
["세무",0,{"$nulls":12},0,0,{"$error":"#DIV/0!"},0,{"$error":"#DIV/0!"},0,{"$error":"#DIV/0!"},0,{"$error":"#DIV/0!"}]
["수자원",0,{"$nulls":12},0,0,{"$error":"#DIV/0!"},0,{"$error":"#DIV/0!"},0,{"$error":"#DIV/0!"},0,{"$error":"#DIV/0!"}]
["식품의약",0,{"$nulls":12},0,0,{"$error":"#DIV/0!"},0,{"$error":"#DIV/0!"},0,{"$error":"#DIV/0!"},0,{"$error":"#DIV/0!"}]
["외무통일",0,{"$nulls":12},0,0,{"$error":"#DIV/0!"},0,{"$error":"#DIV/0!"},0,{"$error":"#DIV/0!"},0,{"$error":"#DIV/0!"}]
["인사행정",0,{"$nulls":12},0,0,{"$error":"#DIV/0!"},0,{"$error":"#DIV/0!"},0,{"$error":"#DIV/0!"},0,{"$error":"#DIV/0!"}]
["재정금융공정",0,{"$nulls":12},0,0,{"$error":"#DIV/0!"},0,{"$error":"#DIV/0!"},0,{"$error":"#DIV/0!"},0,{"$error":"#DIV/0!"}]
["주택",0,{"$nulls":12},0,0,{"$error":"#DIV/0!"},0,{"$error":"#DIV/0!"},0,{"$error":"#DIV/0!"},0,{"$error":"#DIV/0!"}]
["해양수산",0,{"$nulls":12},0,0,{"$error":"#DIV/0!"},0,{"$error":"#DIV/0!"},0,{"$error":"#DIV/0!"},0,{"$error":"#DIV/0!"}]
["행정안전",0,{"$nulls":12},0,0,{"$error":"#DIV/0!"},0,{"$error":"#DIV/0!"},0,{"$error":"#DIV/0!"},0,{"$error":"#DIV/0!"}]
["환경",0,{"$nulls":12},0,0,{"$error":"#DIV/0!"},0,{"$error":"#DIV/0!"},0,{"$error":"#DIV/0!"},0,{"$error":"#DIV/0!"}]
["합계",{"$f":"SUM(C70:N70)","v":0},{"$f":"SUM(C43:C69)","v":0},{"$f":"SUM(D43:D69)","v":0},0,0,{"$f":"SUM(G43:G69)","v":0},{"$f":"SUM(H43:H69)","v":0},0,0,0,0,0,0,0,0,{"$error":"#DIV/0!"},0,{"$error":"#DIV/0!"},0,{"$error":"#DIV/0!"},0,{"$error":"#DIV/0!"}]
[]
["□ 온라인상담해결율/4일이내처리율",{"$nulls":11},"(단위 : 건, %, 일)"]
["구분","합계","1월","2월","3월","4월","5월","6월","7월","8월","9월","10월","11월","12월"]
["상담해결율",{"$f":"(O14+O18+O19)/O20","v":0.9230976068835709},{"$f":"(C14+C18+C19)/C20","v":{"$error":"#VALUE!"}},{"$f":"(D14+D18+D19)/D20","v":0.93433652530779754},{"$error":"#DIV/0!"},{"$error":"#DIV/0!"},{"$error":"#DIV/0!"},{"$f":"(H14+H18+H19)/H20","v":{"$error":"#DIV/0!"}},{"$error":"#DIV/0!"},{"$error":"#DIV/0!"},{"$error":"#DIV/0!"},{"$error":"#DIV/0!"},{"$error":"#DIV/0!"},{"$error":"#DIV/0!"}]
["4일이내 처리율",{"$f":"B76/B70","v":{"$error":"#DIV/0!"}},{"$f":"C76/C70","v":{"$error":"#DIV/0!"}},{"$error":"#DIV/0!"},{"$error":"#DIV/0!"},{"$error":"#DIV/0!"},{"$error":"#DIV/0!"},{"$error":"#DIV/0!"},{"$error":"#DIV/0!"},{"$error":"#DIV/0!"},{"$error":"#DIV/0!"},{"$error":"#DIV/0!"},{"$error":"#DIV/0!"},{"$error":"#DIV/0!"}]
["(4일이내처리건수)",{"$f":"SUM(C76:N76)","v":0}]
["평균처리기간(일)",{"$f":"B78/B70","v":{"$error":"#DIV/0!"}},null,{"$f":"D78/D70","v":{"$error":"#DIV/0!"}},{"$error":"#DIV/0!"},{"$error":"#DIV/0!"},{"$error":"#DIV/0!"},{"$error":"#DIV/0!"},null,{"$error":"#DIV/0!"},{"$error":"#DIV/0!"},{"$error":"#DIV/0!"},{"$error":"#DIV/0!"},{"$error":"#DIV/0!"}]
["(총소요기일)",{"$f":"SUM(C78:N78)","v":0}]

{"sheet":"11.합동상담+민원상담협의회","index":10,"n_rows":23,"n_cols":7,"rows_kept":23,"cut":false,"hidden":false,"merged":[[1,0,2,0],[1,1,2,1],[1,2,2,2],[1,3,1,6]]}
["11. 다수기관 복합민원 "]
["구  분","계","합동상담","민원상담협의회 상정"]
[null,null,null,"소계","합의 해결 등","종결","진행중"]
["2026년 12월",{"$f":"C4+D4","v":0},null,0]
["2026년 11월",0,null,0]
["2026년 10월",0,null,0]
["2026년 9월",0,null,0]
["2026년 8월",0,null,0]
["2026년 7월",0,null,0]
["2026년 6월",0]
["2026년 5월",0,null,0]
["2026년 4월",0,null,0]
["2026년 3월",0,null,0]
["2026년 2월",361,361,0]
["2026년 1월",512,512,0]
["2025년",{"$f":"C16+D16","v":5880},5875,{"$f":"SUM(E16:G16)","v":5},5]
["2024년",3705,3664,41,37,4]
["2023년",3301,3267,34,21,13,0]
["2022년",1439,1406,33,23,10,0]
["2021년",1179,1154,25,15,10,0]
["2020년",620,609,11,4,7,0]
["2019년(10월이후)",5,3,2,2,0,0]
["누계",{"$f":"SUM(B4:B22)","v":17002},{"$f":"SUM(C4:C22)","v":16851},151,{"$f":"SUM(E4:E22)","v":107},{"$f":"SUM(F4:F22)","v":44},{"$f":"SUM(G4:G22)","v":0}]

{"sheet":"12.분야별상담및접수(서울세종창구상담)","index":11,"n_rows":47,"n_cols":23,"rows_kept":47,"cut":false,"hidden":false,"merged":[[46,0,46,1],[34,0,36,0],[37,0,39,0],[43,0,43,1],[44,0,44,1],[45,0,45,1],[40,0,40,1]]}
["12. [오프라인창구(서울+세종)] 분야별 현황 상담 및 접수",{"$nulls":12},"(단위 : 건)"]
["구분","합계","1월","2월","3월","4월","5월","6월","7월","8월","9월","10월","11월","12월","합계","1분기","비율","2분기","비율","3분기","비율","4분기","비율"]
["건축",{"$f":"SUM(C3:M3)","v":10},3,7,{"$nulls":10},{"$f":"B3","v":10},{"$f":"SUM(C3:E3)","v":10},{"$f":"P3/O3","v":1},{"$f":"SUM(F3:H3)","v":0},{"$f":"R3/O3","v":0},{"$f":"SUM(I3:K3)","v":0},{"$f":"T3/O3","v":0},{"$f":"SUM(L3:M3)","v":0},{"$f":"V3/O3","v":0}]
["경찰",76,39,37,{"$nulls":10},{"$f":"B4","v":76},76,{"$f":"P4/O4","v":1},{"$f":"SUM(F4:H4)","v":0},{"$f":"R4/O4","v":0},0,{"$f":"T4/O4","v":0},0,{"$f":"V4/O4","v":0}]
["고용노동",22,12,10,{"$nulls":10},{"$f":"B5","v":22},22,{"$f":"P5/O5","v":1},{"$f":"SUM(F5:H5)","v":0},{"$f":"R5/O5","v":0},0,{"$f":"T5/O5","v":0},0,{"$f":"V5/O5","v":0}]
["교육",5,1,4,{"$nulls":10},{"$f":"B6","v":5},5,{"$f":"P6/O6","v":1},{"$f":"SUM(F6:H6)","v":0},{"$f":"R6/O6","v":0},0,{"$f":"T6/O6","v":0},0,{"$f":"V6/O6","v":0}]
["교통",4,2,2,{"$nulls":10},4,4,1,0,0,0,0,0,0]
["국방",21,16,5,{"$nulls":10},21,21,1,0,0,0,0,0,0]
["군사",0,{"$nulls":12},0,0,{"$error":"#DIV/0!"},0,{"$error":"#DIV/0!"},0,{"$error":"#DIV/0!"},0,{"$error":"#DIV/0!"}]
["기타",812,546,266,{"$nulls":10},812,812,1,0,0,0,0,0,0]
["농림·축산",35,25,10,{"$nulls":10},35,35,1,0,0,0,0,0,0]
["도로",13,5,8,{"$nulls":10},13,13,1,0,0,0,0,0,0]
["도시",24,11,13,{"$nulls":10},24,24,1,0,0,0,0,0,0]
["문화·관광·체육",3,3,{"$nulls":11},3,3,1,0,0,0,0,0,0]
["민사·법무",147,79,68,{"$nulls":10},147,147,1,0,0,0,0,0,0]
["방송통신",3,2,1,{"$nulls":10},3,3,1,0,0,0,0,0,0]
["보건복지",36,16,20,{"$nulls":10},36,36,1,0,0,0,0,0,0]
["보훈",18,3,15,{"$nulls":10},18,18,1,0,0,0,0,0,0]
["산업·통상·자원",17,10,7,{"$nulls":10},17,17,1,0,0,0,0,0,0]
["세무",17,9,8,{"$nulls":10},17,17,1,0,0,0,0,0,0]
["수자원",6,3,3,{"$nulls":10},6,6,1,0,0,0,0,0,0]
["식품의약",0,{"$nulls":12},0,{"$f":"SUM(C22:E22)","v":0},{"$error":"#DIV/0!"},0,{"$error":"#DIV/0!"},0,{"$error":"#DIV/0!"},0,{"$error":"#DIV/0!"}]
["외무·통일",4,1,3,{"$nulls":10},4,4,1,0,0,0,0,0,0]
["인사행정",8,3,5,{"$nulls":10},8,{"$f":"SUM(C24:E24)","v":8},{"$f":"P24/O24","v":1},{"$f":"SUM(F24:H24)","v":0},{"$f":"R24/O24","v":0},0,{"$f":"T24/O24","v":0},0,{"$f":"V24/O24","v":0}]
["재정·금융·\n보험·공정거래",37,12,25,{"$nulls":10},37,37,1,{"$f":"SUM(F25:H25)","v":0},0,0,0,0,0]
["주택",19,8,11,{"$nulls":10},19,19,1,{"$f":"SUM(F26:H26)","v":0},0,0,0,0,0]
["해양수산",2,2,{"$nulls":11},2,{"$f":"SUM(C27:E27)","v":2},1,{"$f":"SUM(F27:H27)","v":0},0,0,0,0,0]
["행정안전",32,21,11,{"$nulls":10},32,{"$f":"SUM(C28:E28)","v":32},1,{"$f":"SUM(F28:G28)","v":0},0,{"$f":"SUM(J28:K28)","v":0},0,0,0]
["환경",10,2,8,{"$nulls":10},10,{"$f":"SUM(C29:E29)","v":10},1,{"$f":"SUM(F29:G29)","v":0},0,{"$f":"SUM(J29:K29)","v":0},0,0,0]
["합계",{"$f":"SUM(C30:N30)","v":1381},{"$f":"SUM(C3:C29)","v":834},{"$f":"SUM(D3:D29)","v":547},0,0,{"$f":"SUM(G3:G29)","v":0},{"$f":"SUM(H3:H29)","v":0},{"$f":"SUM(I3:I29)","v":0},{"$f":"SUM(J3:J29)","v":0},0,0,0,0,1381,1381,1,0,0,{"$f":"SUM(I30:K30)","v":0},0,{"$f":"SUM(L30:N30)","v":0},0]
[null,"검증",{"$f":"C30-C41-C47","v":0},0,0,0,null,0,0,0,0,0,0,0,0]
[]
["□ 상담결과 현황",{"$nulls":12},"(단위 : 건)"]
["구분","처리결과","1월","2월","3월","4월","5월","6월","7월","8월","9월","10월","11월","12월","합계","1분기","비율","2분기","비율","3분기","비율","4분기","비율"]
["일반","기관안내",2,2,{"$nulls":10},{"$f":"SUM(C35:N35)","v":4},{"$f":"SUM(C35:E35)","v":4},{"$f":"P35/O35","v":1},{"$f":"SUM(F35:H35)","v":0},{"$f":"R35/O35","v":0},{"$f":"SUM(I35:K35)","v":0},{"$f":"T35/O35","v":0},{"$f":"SUM(L35:N35)","v":0},{"$f":"V35/O35","v":0}]
[null,"상담취하 등",{"$nulls":12},0,0,{"$error":"#DIV/0!"},0,{"$f":"R36/O36","v":{"$error":"#DIV/0!"}},{"$f":"SUM(I36:K36)","v":0},{"$error":"#DIV/0!"},{"$f":"SUM(L36:N36)","v":0},{"$error":"#DIV/0!"}]
[null,"상담해결",141,101,{"$nulls":10},242,242,1,0,0,0,0,0,0]
["고충","기관안내",3,{"$nulls":11},3,3,1,0,0,0,0,0,0]
[null,"상담취하 등",1,{"$nulls":11},1,1,1,0,0,0,0,0,0]
[null,"상담해결",168,143,{"$nulls":10},311,311,1,0,0,0,0,0,0]
["합계",null,{"$f":"SUM(C35:C40)","v":315},246,0,0,0,0,0,0,0,0,0,0,561,561,1,0,0,0,0,0,0]
[]
["□ 민원접수 현황"]
["유형",null,"1월","2월","3월","4월","5월","6월","7월","8월","9월","10월","11월","12월","합계","1분기","비율","2분기","비율","3분기","비율","4분기","비율"]
["일반",null,7,35,{"$nulls":10},{"$f":"SUM(C45:N45)","v":42},{"$f":"SUM(C45:E45)","v":42},{"$f":"P45/O45","v":1},{"$f":"SUM(F45:H45)","v":0},{"$f":"R45/O45","v":0},{"$f":"SUM(I45:K45)","v":0},{"$f":"T45/O45","v":0},{"$f":"SUM(L45:N45)","v":0},{"$f":"V45/O45","v":0}]
["고충",null,512,266,{"$nulls":10},{"$f":"SUM(C46:N46)","v":778},{"$f":"SUM(C46:E46)","v":778},{"$f":"P46/O46","v":1},{"$f":"SUM(F46:H46)","v":0},{"$f":"R46/O46","v":0},{"$f":"SUM(I46:K46)","v":0},{"$f":"T46/O46","v":0},{"$f":"SUM(L46:N46)","v":0},{"$f":"V46/O46","v":0}]
["합계",null,{"$f":"C45+C46","v":519},{"$f":"D45+D46","v":301},0,0,0,0,0,0,0,0,0,0,{"$f":"SUM(C47:N47)","v":820},{"$f":"SUM(C47:E47)","v":820},{"$f":"P47/O47","v":1},{"$f":"SUM(F47:H47)","v":0},{"$f":"R47/O47","v":0},{"$f":"SUM(I47:K47)","v":0},{"$f":"T47/O47","v":0},{"$f":"SUM(L47:N47)","v":0},{"$f":"V47/O47","v":0}]

{"sheet":"13.고충민원유형별정리(월별) ","index":12,"n_rows":16,"n_cols":21,"rows_kept":16,"cut":false,"hidden":false,"merged":[[1,8,1,9],[0,2,0,7],[0,13,0,18],[1,19,1,20]]}
[null,null,"민원실 상담 중 특별민원상담 현황",{"$nulls":10},"온라인 민원상담 중 특별민원상담 현황"]
[{"$nulls":8},"(단위:건,%)",{"$nulls":10},"(단위:건,%)"]
[null,"전체 민원","전체 특별민원","비율","특이민원","비율","반복민원","비율","특이-반복중복","비율",null,null,"전체 민원","전체 특별민원","비율","특이민원","비율","반복민원","비율","특이-반복중복","비율"]
["합계",{"$f":"SUM(B5:B16)","v":1381},{"$f":"SUM(C5:C16)","v":0},{"$f":"C4/B4","v":0},{"$f":"SUM(E5:E16)","v":0},{"$f":"E4/B4","v":0},{"$f":"SUM(G5:G16)","v":0},{"$f":"G4/B4","v":0},{"$f":"SUM(I5:I16)","v":0},{"$f":"I4/B4","v":0},null,"합계",{"$f":"SUM(M5:M16)","v":3719},{"$f":"SUM(N5:N16)","v":0},{"$f":"N4/M4","v":0},{"$f":"SUM(P5:P16)","v":0},{"$f":"P4/M4","v":0},{"$f":"SUM(R5:R16)","v":0},{"$f":"R4/M4","v":0},{"$f":"SUM(T5:T16)","v":0},{"$f":"T4/M4","v":0}]
["1월",{"$f":"'12.분야별상담및접수(서울세종창구상담)'!C30","v":834},null,0,null,{"$f":"E5/B5","v":0},null,{"$f":"G5/B5","v":0},null,{"$f":"I5/B5","v":0},null,"1월",{"$f":"'10.온라인 상담'!C7","v":2257},null,0,null,{"$f":"P5/M5","v":0},null,{"$f":"R5/M5","v":0},null,{"$f":"T5/M5","v":0}]
["2월",{"$f":"'12.분야별상담및접수(서울세종창구상담)'!D30","v":547},null,0,null,0,null,0,null,0,null,"2월",{"$f":"'10.온라인 상담'!D7","v":1462},null,0,null,0,null,0,null,0]
["3월",{"$f":"'12.분야별상담및접수(서울세종창구상담)'!E30","v":0},null,{"$error":"#DIV/0!"},null,{"$error":"#DIV/0!"},null,{"$error":"#DIV/0!"},null,{"$error":"#DIV/0!"},null,"3월",{"$f":"'10.온라인 상담'!E7","v":0},null,{"$error":"#DIV/0!"},null,{"$error":"#DIV/0!"},null,{"$error":"#DIV/0!"},null,{"$error":"#DIV/0!"}]
["4월",{"$f":"'12.분야별상담및접수(서울세종창구상담)'!F30","v":0},null,{"$error":"#DIV/0!"},null,{"$error":"#DIV/0!"},null,{"$error":"#DIV/0!"},null,{"$error":"#DIV/0!"},null,"4월",{"$f":"'10.온라인 상담'!F7","v":0},null,{"$error":"#DIV/0!"},null,{"$error":"#DIV/0!"},null,{"$error":"#DIV/0!"},null,{"$error":"#DIV/0!"}]
["5월",{"$f":"'12.분야별상담및접수(서울세종창구상담)'!G30","v":0},null,{"$error":"#DIV/0!"},null,{"$error":"#DIV/0!"},null,{"$error":"#DIV/0!"},null,{"$error":"#DIV/0!"},null,"5월",{"$f":"'10.온라인 상담'!G7","v":0},null,{"$error":"#DIV/0!"},null,{"$error":"#DIV/0!"},null,{"$error":"#DIV/0!"},null,{"$error":"#DIV/0!"}]
["6월",{"$f":"'12.분야별상담및접수(서울세종창구상담)'!H30","v":0},null,{"$error":"#DIV/0!"},null,{"$error":"#DIV/0!"},null,{"$error":"#DIV/0!"},null,{"$error":"#DIV/0!"},null,"6월",{"$f":"'10.온라인 상담'!H7","v":0},null,{"$error":"#DIV/0!"},null,{"$error":"#DIV/0!"},null,{"$error":"#DIV/0!"},null,{"$error":"#DIV/0!"}]
["7월",{"$f":"'12.분야별상담및접수(서울세종창구상담)'!I30","v":0},null,{"$error":"#DIV/0!"},null,{"$error":"#DIV/0!"},null,{"$error":"#DIV/0!"},null,{"$error":"#DIV/0!"},null,"7월",{"$f":"'10.온라인 상담'!I7","v":0},null,{"$error":"#DIV/0!"},null,{"$error":"#DIV/0!"},null,{"$error":"#DIV/0!"},null,{"$error":"#DIV/0!"}]
["8월",{"$f":"'12.분야별상담및접수(서울세종창구상담)'!J30","v":0},null,{"$error":"#DIV/0!"},null,{"$error":"#DIV/0!"},null,{"$error":"#DIV/0!"},null,{"$error":"#DIV/0!"},null,"8월",{"$f":"'10.온라인 상담'!J7","v":0},null,{"$error":"#DIV/0!"},null,{"$error":"#DIV/0!"},null,{"$error":"#DIV/0!"},null,{"$error":"#DIV/0!"}]
["9월",{"$f":"'12.분야별상담및접수(서울세종창구상담)'!K30","v":0},null,{"$error":"#DIV/0!"},null,{"$error":"#DIV/0!"},null,{"$error":"#DIV/0!"},null,{"$error":"#DIV/0!"},null,"9월",{"$f":"'10.온라인 상담'!K7","v":0},null,{"$error":"#DIV/0!"},null,{"$error":"#DIV/0!"},null,{"$error":"#DIV/0!"},null,{"$error":"#DIV/0!"}]
["10월",{"$f":"'12.분야별상담및접수(서울세종창구상담)'!L30","v":0},null,{"$error":"#DIV/0!"},null,{"$error":"#DIV/0!"},null,{"$error":"#DIV/0!"},null,{"$error":"#DIV/0!"},null,"10월",{"$f":"'10.온라인 상담'!L7","v":0},null,{"$error":"#DIV/0!"},null,{"$error":"#DIV/0!"},null,{"$error":"#DIV/0!"},null,{"$error":"#DIV/0!"}]
["11월",{"$f":"'12.분야별상담및접수(서울세종창구상담)'!M30","v":0},null,{"$error":"#DIV/0!"},null,{"$error":"#DIV/0!"},null,{"$error":"#DIV/0!"},null,{"$error":"#DIV/0!"},null,"11월",{"$f":"'10.온라인 상담'!M7","v":0},null,{"$error":"#DIV/0!"},null,{"$error":"#DIV/0!"},null,{"$error":"#DIV/0!"},null,{"$error":"#DIV/0!"}]
["12월",{"$f":"'12.분야별상담및접수(서울세종창구상담)'!N30","v":0},null,{"$error":"#DIV/0!"},null,{"$error":"#DIV/0!"},null,{"$error":"#DIV/0!"},null,{"$error":"#DIV/0!"},null,"12월",{"$f":"'10.온라인 상담'!N7","v":0},null,{"$error":"#DIV/0!"},null,{"$error":"#DIV/0!"},null,{"$error":"#DIV/0!"},null,{"$error":"#DIV/0!"}]

{"sheet":"Sheet1","index":13,"n_rows":17,"n_cols":5,"rows_kept":17,"cut":false,"hidden":false,"merged":[]}
[]
[null,"전체","월평","전체","월평"]
[null,46766,{"$f":"B3/12","v":3897.1666666666665},17703,{"$f":"D3/6","v":2950.5}]
[null,11878,{"$f":"B4/12","v":989.83333333333337},5939,{"$f":"D4/6","v":989.83333333333337}]
[null,323,26.916666666666668,76,12.666666666666666]
[null,3097391,258115.91666666666,1314791,219131.83333333334]
[null,{"$f":"SUM(B3:B6)","v":3156358},263029.83333333331,{"$f":"SUM(D3:D6)","v":1338509},223084.83333333334]
[null,null,0,null,0]
[null,3923,326.91666666666669,1643,273.83333333333331]
[null,22792,1899.3333333333333,7494,1249]
[null,592,49.333333333333336,180,30]
[null,97,8.0833333333333339,66,11]
[null,4682,390.16666666666669,2862,477]
[null,{"$f":"SUM(B9:B13)","v":32086},2673.8333333333335,{"$f":"SUM(D9:D13)","v":12245},2040.8333333333333]
[null,null,0,null,0]
[null,null,0,null,0]
[null,{"$f":"B14+B7","v":3188444},265703.66666666669,{"$f":"D14+D7","v":1350754},225125.66666666666]

{"sheet":"Sheet2","index":14,"n_rows":15,"n_cols":16,"rows_kept":15,"cut":false,"hidden":false,"merged":[[1,13,1,14],[1,15,2,15],[1,9,1,10],[1,11,1,12],[3,1,3,2],[1,1,2,2],[1,3,1,4],[1,5,1,6],[1,7,1,8]]}
[]
[null,"구 분",null,"‘19.1.~9.(개소전)",null,"‘19.10.~12.(개소후)",null,"’20년",null,"’21년",null,"’22년",null,"’23년 5월",null,"전체"]
[null,null,null,"전체","월평균","전체","월평균","전체","월평균","전체","월평균","전체","월평균","전체","월평균"]
[null,"합계",null,{"$f":"D9+D15","v":2363282},{"$f":"D4/9","v":262586.88888888888},{"$f":"F9+F15","v":859846},{"$f":"F4/3","v":286615.33333333331},{"$f":"H9+H15","v":3888653},{"$f":"H4/12","v":324054.41666666669},3188444,{"$f":"J4/12","v":265703.66666666669},2742541,{"$f":"L4/6","v":457090.16666666669},{"$f":"N9+N15","v":1155107},{"$f":"N4/6","v":192517.83333333334},{"$f":"F4+H4+J4+L4+N4","v":11834591}]
[null,"상","민원",7150,{"$f":"D5/9","v":794.44444444444446},3869,{"$f":"F5/3","v":1289.6666666666667},41004,{"$f":"H5/12","v":3417},46766,{"$f":"J5/12","v":3897.1666666666665},35957,{"$f":"L5/6","v":5992.833333333333},13592,{"$f":"N5/6","v":2265.3333333333335},{"$f":"F5+H5+J5+L5+N5","v":141188}]
[null,"담","부패 ",13037,1448.5555555555557,10010,{"$f":"F6/3","v":3336.6666666666665},13349,1112.4166666666667,11878,989.83333333333337,11814,1969,5160,860,52211]
[null,null,"행정심판",318,35.333333333333336,129,43,420,35,323,26.916666666666668,200,33.333333333333336,59,9.8333333333333339,1131]
[null,null,"국민콜110",2301532,255725.77777777778,838385,279461.66666666669,3801491,316790.91666666669,3097391,258115.91666666666,2665492,444248.66666666669,1118675,186445.83333333334,11521434]
[null,null,"계",{"$f":"SUM(D5:D8)","v":2322037},258004.11111111112,{"$f":"SUM(F5:F8)","v":852393},284131,3856264,321355.33333333331,3156358,263029.83333333331,2713463,452243.83333333331,{"$f":"SUM(N5:N8)","v":1137486},189581,{"$f":"SUM(P5:P8)","v":11715964}]
[null,"접","민원",1896,210.66666666666666,824,274.66666666666669,3866,322.16666666666669,3923,326.91666666666669,3300,550,1139,189.83333333333334,13052]
[null,"수","대통령실서신민원",27986,3109.5555555555557,5704,1901.3333333333333,25000,2083.3333333333335,22792,1899.3333333333333,18658,3109.6666666666665,9754,1625.6666666666667,81908]
[null,null,"행정심판",664,73.777777777777771,215,71.666666666666671,618,51.5,592,49.333333333333336,377,62.833333333333336,59,9.8333333333333339,1861]
[null,null,"부패",8170,907.77777777777783,0,0,142,11.833333333333334,97,8.0833333333333339,125,20.833333333333332,51,8.5,415]
[null,null,"민형사",2529,281,710,236.66666666666666,2763,230.25,4682,390.16666666666669,6618,1103,6618,1103,21391]
[null,null,"계",{"$f":"SUM(D10:D14)","v":41245},4582.7777777777774,{"$f":"SUM(F10:F14)","v":7453},2484.3333333333335,32389,2699.0833333333335,32086,2673.8333333333335,29078,4846.333333333333,{"$f":"SUM(N10:N14)","v":17621},2936.8333333333335,{"$f":"SUM(P10:P14)","v":118627}]

{"sheet":"Sheet3","index":15,"n_rows":31,"n_cols":13,"rows_kept":31,"cut":false,"hidden":false,"merged":[]}
[{"$nulls":6},"2023년 6월말"]
[null,"민원실","온라인","계",null,null,null,"온라인",null,"방문",null,null,"계"]
["건축",26,187,{"$f":"C3+B3","v":213},null,null,"구    분","합계"]
["경찰",154,252,{"$f":"C4+B4","v":406},null,null,"건축",393,null,"건축",58,null,{"$f":"H4+K4","v":451}]
["고용노동",87,1998,2085,null,null,"경찰",530,null,"경찰",309,null,{"$f":"H5+K5","v":839}]
["교육",9,210,219,null,null,"고용노동",3649,null,"고용노동",128,null,3777]
["교통",23,134,157,null,null,"교육",415,null,"교육",23,null,438]
["국방",20,129,149,null,null,"교통",287,null,"교통",42,null,329]
["군사",0,53,53,null,null,"국방",242,null,"국방",49,null,291]
["기타",439,327,766,null,null,"군사",105,null,"군사",2,null,107]
["농림·축산",33,156,189,null,null,"기타",565,null,"기타",913,null,1478]
["도로",28,72,100,null,null,"농림축산",317,null,"농림·축산",69,null,386]
["도시",48,42,90,null,null,"도로",213,null,"도로",64,null,277]
["문화·관광·체육",6,66,72,null,null,"도시",96,null,"도시",75,null,171]
["민사·법무",238,555,793,null,null,"문화체육관광",139,null,"문화·관광·체육",20,null,159]
["방송통신",11,107,118,null,null,"민사법무",1142,null,"민사·법무",451,null,1593]
["보건복지",65,443,508,null,null,"방송통신",195,null,"방송통신",27,null,222]
["보훈",31,13,44,null,null,"보건복지",897,null,"보건복지",120,null,1017]
["산업·통상·자원",23,276,299,null,null,"보훈",21,null,"보훈",93,null,114]
["세무",43,227,270,null,null,"산업통상자원",566,null,"산업·통상·자원",45,null,611]
["수자원",2,1,3,null,null,"세무",416,null,"세무",112,null,528]
["식품의약",1,569,570,null,null,"수자원",2,null,"수자원",10,null,12]
["외무·통일",9,19,28,null,null,"식품의약",1123,null,"식품의약",4,null,1127]
["인사행정",6,71,77,null,null,"외무통일",33,null,"외무·통일",16,null,49]
["재정·금융·보험·공정거래",53,497,550,null,null,"인사행정",135,null,"인사행정",16,null,151]
["주택",64,354,418,{"$f":"D26+D3","v":631},null,"재정금융공정",1070,null,"재정·금융·\n보험·공정거래",103,null,1173]
["해양수산",0,22,22,null,null,"주택",668,null,"주택",122,null,790]
["행정안전",88,485,573,null,null,"해양수산",51,null,"해양수산",3,null,54]
["환경",10,189,199,null,null,"행정안전",930,null,"행정안전",179,null,1109]
["합계",1517,7454,8971,null,null,"환경",433,null,"환경",26,null,459]
[{"$nulls":6},"합계",14633,null,"합계",3079,null,17712]

{"sheet":"Sheet4","index":16,"n_rows":42,"n_cols":31,"rows_kept":42,"cut":false,"hidden":false,"merged":[]}
[null,"오프라인",null,null,"온라인",{"$nulls":4},"합계",null,null,"합계"]
[null,"건축",182,null,"건축",889,null,null,"건축",{"$f":"F2+C2","v":1071},null,"건축",1071,null,"건축","경찰","고용노동","교육","교통","국방","군사","기타","농림축산","도로","도시","문화체육관광","민사법무","방송통신"]
[null,"경찰",447,null,"경찰",1800,null,null,"경찰",2247,null,"경찰",2247,null,1071,2247,7701,925,964,600,244,2844,863,572,386,381,3306,545]
[null,"고용노동",423,null,"고용노동",7278,null,null,"고용노동",7701,null,"고용노동",7701]
[null,"교육",37,null,"교육",888,null,null,"교육",925,null,"교육",925,null,"보건복지","보훈","산업통상자원","세무","수자원","식품의약","외무통일","인사행정","재정금융공정","주택","해양수산","행정안전","환경","합계"]
[null,"교통",200,null,"교통",764,null,null,"교통",964,null,"교통",964,null,3058,186,1839,1312,14,1971,154,297,2351,1786,139,2345,1156,39257]
[null,"국방",105,null,"국방",495,null,null,"국방",600,null,"국방",600]
[null,"군사",12,null,"군사",232,null,null,"군사",244,null,"군사",244]
[null,"기타",1840,null,"기타",1004,null,null,"기타",2844,null,"기타",2844]
[null,"농림·축산",188,null,"농림축산",675,null,null,"농림축산",863,null,"농림축산",863,{"$nulls":4},"건축","경찰","고용노동","교육","교통","국방","군사","기타","농림축산","도로","도시","문화체육관광","민사법무","방송통신"]
[null,"도로",194,null,"도로",378,null,null,"도로",572,null,"도로",572,{"$nulls":4},889,1800,7278,888,764,495,232,1004,675,378,251,361,2069,423]
[null,"도시",135,null,"도시",251,null,null,"도시",386,null,"도시",386,{"$nulls":4},"보건복지","보훈","산업통상자원","세무","수자원","식품의약","외무통일","인사행정","재정금융공정","주택","해양수산","행정안전","환경","합계"]
[null,"문화·관광·체육",20,null,"문화체육관광",361,null,null,"문화체육관광",381,null,"문화체육관광",381,{"$nulls":4},2692,61,1514,1042,4,1963,108,265,2114,1515,119,1882,1082,31868]
[null,"민사·법무",1237,null,"민사법무",2069,null,null,"민사법무",3306,null,"민사법무",3306]
[null,"방송통신",122,null,"방송통신",423,null,null,"방송통신",545,null,"방송통신",545,null,"건축",889]
[null,"보건복지",366,null,"보건복지",2692,null,null,"보건복지",3058,null,"보건복지",3058,null,"경찰",1800]
[null,"보훈",125,null,"보훈",61,null,null,"보훈",186,null,"보훈",186,null,"고용노동",7278]
[null,"산업·통상·자원",325,null,"산업통상자원",1514,null,null,"산업통상자원",1839,null,"산업통상자원",1839,null,"교육",888]
[null,"세무",270,null,"세무",1042,null,null,"세무",1312,null,"세무",1312,null,"교통",764]
[null,"수자원",10,null,"수자원",4,null,null,"수자원",14,null,"수자원",14,null,"국방",495]
[null,"식품의약",8,null,"식품의약",1963,null,null,"식품의약",1971,null,"식품의약",1971,null,"군사",232]
[null,"외무·통일",46,null,"외무통일",108,null,null,"외무통일",154,null,"외무통일",154,null,"기타",1004]
[null,"인사행정",32,null,"인사행정",265,null,null,"인사행정",297,null,"인사행정",297,null,"농림축산",675]
[null,"재정·금융·보험·공정거래",237,null,"재정금융공정",2114,null,null,"재정금융공정",2351,null,"재정금융공정",2351,null,"도로",378]
[null,"주택",271,null,"주택",1515,null,null,"주택",1786,null,"주택",1786,null,"도시",251]
[null,"해양수산",20,null,"해양수산",119,null,null,"해양수산",139,null,"해양수산",139,null,"문화체육관광",361]
[null,"행정안전",463,null,"행정안전",1882,null,null,"행정안전",2345,null,"행정안전",2345,null,"민사법무",2069]
[null,"환경",74,null,"환경",1082,null,null,"환경",1156,null,"환경",1156,null,"방송통신",423]
[null,"합계",7389,null,"합계",31868,null,null,"합계",39257,null,"합계",39257,null,"보건복지",2692]
[{"$nulls":14},"보훈",61]
[{"$nulls":14},"산업통상자원",1514]
[{"$nulls":14},"세무",1042]
[{"$nulls":14},"수자원",4]
[{"$nulls":14},"식품의약",1963]
[{"$nulls":14},"외무통일",108]
[{"$nulls":14},"인사행정",265]
[{"$nulls":14},"재정금융공정",2114]
[{"$nulls":14},"주택",1515]
[{"$nulls":14},"해양수산",119]
[{"$nulls":14},"행정안전",1882]
[{"$nulls":14},"환경",1082]
[{"$nulls":14},"합계",31868]

{"sheet":"Sheet5","index":17,"n_rows":3,"n_cols":14,"rows_kept":3,"cut":false,"hidden":false,"merged":[]}
[]
["구    분","1월","2월","3월","4월","5월","6월","7월","8월","9월","10월","11월","12월","계"]
["근무일",20,20,22,20,21,{"$nulls":7},{"$f":"SUM(B3:M3)","v":103}]

{"sheet":"Sheet6","index":18,"n_rows":31,"n_cols":14,"rows_kept":31,"cut":false,"hidden":false,"merged":[[21,2,22,2],[21,3,21,4],[21,5,21,6],[7,3,7,4],[7,5,7,6],[6,11,6,12],[7,7,7,8],[7,9,7,10],[7,11,7,12],[10,2,11,2],[10,3,10,4],[10,5,10,6],[3,0,7,0],[3,1,4,1],[3,2,4,2],[3,13,4,13],[4,3,4,4],[4,5,4,6],[4,7,4,8],[4,9,4,10],[4,11,4,12],[5,1,6,1],[5,2,6,2],[5,13,6,13],[6,3,6,4],[6,5,6,6],[6,7,6,8],[6,9,6,10],[0,0,2,1],[0,2,2,2],[0,3,0,6],[0,7,0,12],[0,13,2,13],[1,3,1,4],[1,5,1,6],[1,7,1,8],[1,9,1,10],[1,11,1,12]]}
["구분",null,"계","유형별",null,null,null,"경로별",{"$nulls":5},"체크"]
[null,null,null,"상담",null,"접수",null,"방문/우편",null,"온라인",null,"전화 등"]
[null,null,null,"일반","고충","일반","고충","일반","고충","일반","고충","일반","고충"]
["민원\n상담/\n접수","6월",{"$f":"D5+F5","v":2981},2523,104,68,286,{"$f":"E14+E15+E16+E19+G14+G15+G16+G19","v":0},{"$f":"D14+D15+D16+F14+F15+F16+D19+F19","v":0},{"$f":"E17+G17","v":2382},{"$f":"D17+F17","v":4},{"$f":"E13+G13+E18+G18","v":0},{"$f":"D13+F13+D18+F18","v":0},{"$f":"C4-H5-J5-L5","v":595}]
[null,null,null,{"$f":"D4+E4","v":2627},null,{"$f":"F4+G4","v":354},null,{"$f":"H4+I4","v":0},null,{"$f":"J4+K4","v":2386},null,{"$f":"L4+M4","v":0}]
[null,"7월",{"$f":"D7+F7","v":2941},2502,138,100,201,{"$f":"E25+E26+E27+E30+G25+G26+G27+G30","v":0},{"$f":"D25+D26+D27+D30+F25+F26+F27+F30","v":0},{"$f":"E28+G28","v":2346},{"$f":"D28+F28","v":4},{"$f":"E24+E29+G24+G29","v":0},{"$f":"D24+D29+F24+F29","v":0},{"$f":"L7+J7+H7-C6","v":-591}]
[null,null,null,{"$f":"D6+E6","v":2640},null,{"$f":"F6+G6","v":301},null,{"$f":"H6+I6","v":0},null,{"$f":"J6+K6","v":2350},null,{"$f":"L6+M6","v":0}]
[null,"증감률(%)",{"$f":"(C6-C4)/C4","v":-1.3418316001341831E-2},{"$f":"(D5-D7)/D7","v":-4.9242424242424239E-3},null,{"$f":"(F7-F5)/F5","v":-0.14971751412429379},null,{"$f":"(H7-H5)/H5","v":{"$error":"#DIV/0!"}},null,{"$f":"(J7-J5)/J5","v":-1.5088013411567477E-2},null,{"$f":"(L7-L5)/L5","v":{"$error":"#DIV/0!"}}]
[]
[]
[null,null,"6월","상담",null,"접수"]
[null,null,null,"고충","일반","고충","일반",null,null,2502,138,100,201,{"$f":"SUM(J12:M12)","v":2941}]
[null,null,"FAX",{"$f":"'3.민원실창구상담'!H115","v":0},{"$f":"'3.민원실창구상담'!H123","v":0},{"$f":"'8.접수'!H30","v":0},{"$f":"'8.접수'!H38","v":0}]
[null,null,"방문",{"$f":"'3.민원실창구상담'!H116","v":0},{"$f":"'3.민원실창구상담'!H124","v":0},{"$f":"'8.접수'!H31","v":0},{"$f":"'8.접수'!H39","v":0}]
[null,null,"방문전화",{"$f":"'3.민원실창구상담'!H117","v":0},{"$f":"'3.민원실창구상담'!H125","v":0},{"$f":"'8.접수'!H32","v":0},{"$f":"'8.접수'!H40","v":0}]
[null,null,"우편",{"$f":"'3.민원실창구상담'!H118","v":0},{"$f":"'3.민원실창구상담'!H126","v":0},{"$f":"'8.접수'!H33","v":0},{"$f":"'8.접수'!H41","v":0}]
[null,null,"인터넷",4,2382,{"$f":"'8.접수'!H34","v":0},{"$f":"'8.접수'!H42","v":0}]
[null,null,"전화",{"$f":"'3.민원실창구상담'!H120","v":0},{"$f":"'3.민원실창구상담'!H128","v":0},{"$f":"'8.접수'!H35","v":0},{"$f":"'8.접수'!H43","v":0}]
[null,{"$f":"SUM(D13:G19)","v":2386},"화상",{"$f":"'3.민원실창구상담'!H121","v":0},{"$f":"'3.민원실창구상담'!H129","v":0},{"$f":"'8.접수'!H36","v":0},{"$f":"'8.접수'!H44","v":0}]
[{"$nulls":6},{"$f":"SUM(D13:E19)","v":2386},{"$f":"SUM(F13:G19)","v":0},{"$f":"SUM(G20:H20)","v":2386}]
[]
[null,null,"7월","상담",null,"접수"]
[null,null,null,"고충","일반","고충","일반"]
[null,null,"FAX",{"$f":"'3.민원실창구상담'!I115","v":0},{"$f":"'3.민원실창구상담'!I123","v":0},{"$f":"'8.접수'!I30","v":0},{"$f":"'8.접수'!I38","v":0}]
[null,null,"방문",{"$f":"'3.민원실창구상담'!I116","v":0},{"$f":"'3.민원실창구상담'!I124","v":0},{"$f":"'8.접수'!I31","v":0},{"$f":"'8.접수'!I39","v":0}]
[null,null,"방문전화",{"$f":"'3.민원실창구상담'!I117","v":0},{"$f":"'3.민원실창구상담'!I125","v":0},{"$f":"'8.접수'!I32","v":0},{"$f":"'8.접수'!I40","v":0}]
[null,null,"우편",{"$f":"'3.민원실창구상담'!I118","v":0},{"$f":"'3.민원실창구상담'!I126","v":0},{"$f":"'8.접수'!I33","v":0},{"$f":"'8.접수'!I41","v":0}]
[null,null,"인터넷",4,2346,{"$f":"'8.접수'!I34","v":0},{"$f":"'8.접수'!I42","v":0}]
[null,null,"전화",{"$f":"'3.민원실창구상담'!I120","v":0},{"$f":"'3.민원실창구상담'!I128","v":0},{"$f":"'8.접수'!I35","v":0},{"$f":"'8.접수'!I43","v":0}]
[null,{"$f":"SUM(D24:G30)","v":2350},"화상",{"$f":"'3.민원실창구상담'!I121","v":0},{"$f":"'3.민원실창구상담'!I129","v":0},{"$f":"'8.접수'!I36","v":0},{"$f":"'8.접수'!I44","v":0}]
[{"$nulls":6},{"$f":"SUM(D24:E30)","v":2350},{"$f":"SUM(F24:G30)","v":0},{"$f":"SUM(G31:H31)","v":2350}]

{"sheet":"Sheet7","index":19,"n_rows":28,"n_cols":6,"rows_kept":28,"cut":false,"hidden":false,"merged":[]}
["건축",578,"건축",104,"건축",{"$f":"B1+D1","v":682}]
["경찰",761,"경찰",473,"경찰",{"$f":"B2+D2","v":1234}]
["고용노동",5095,"고용노동",184,"고용노동",5279]
["교육",594,"교육",36,"교육",630]
["교통",427,"교통",73,"교통",500]
["국방",344,"국방",61,"국방",405]
["군사",149,"군사",3,"군사",152]
["기타",781,"기타",1456,"기타",2237]
["농림축산",447,"농림·축산",135,"농림·축산",582]
["도로",321,"도로",98,"도로",419]
["도시",150,"도시",127,"도시",277]
["문화체육관광",209,"문화·관광·체육",30,"문화·관광·체육",239]
["민사법무",1610,"민사·법무",713,"민사·법무",2323]
["방송통신",286,"방송통신",38,"방송통신",324]
["보건복지",1258,"보건복지",203,"보건복지",1461]
["보훈",31,"보훈",133,"보훈",164]
["산업통상자원",840,"산업·통상·자원",63,"산업·통상·자원",903]
["세무",530,"세무",171,"세무",701]
["수자원",5,"수자원",11,"수자원",16]
["식품의약",1595,"식품의약",7,"식품의약",1602]
["외무통일",40,"외무·통일",23,"외무·통일",63]
["인사행정",224,"인사행정",20,"인사행정",244]
["재정금융공정",1488,"재정·금융·\n보험·공정거래",145,"재정·금융·\n보험·공정거래",1633]
["주택",940,"주택",168,"주택",1108]
["해양수산",75,"해양수산",5,"해양수산",80]
["행정안전",1343,"행정안전",251,"행정안전",1594]
["환경",618,"환경",42,"환경",660]
["합계",20739,"합계",4773,"합계",25512]

{"sheet":"2023년 조사관","index":20,"n_rows":29,"n_cols":19,"rows_kept":29,"cut":false,"hidden":false,"merged":[]}
["민원실",null,"온라인",null,null,"계","비율"]
["건축",59,"건축",704,"건축",{"$f":"B2+D2","v":763},{"$f":"F2/$F$29","v":2.7678020821997315E-2},null,"계","행정문화교육","국방보훈","경찰","복지노동","재정세무","산업농림환경","주택건축","도시","교통도로","민형사등"]
["경찰",168,"경찰",972,"경찰",{"$f":"B3+D3","v":1140},{"$f":"F3/$F$29","v":4.1353792578082492E-2},null,{"$f":"SUM(J3:S3)","v":27567},{"$f":"SUM(J5:J13)","v":3147},{"$f":"SUM(K5:K13)","v":745},1140,10557,2616,2672,2078,287,998,3327]
["고용노동",50,"고용노동",6473,"고용노동",6523,0.23662349911125621,null,null,{"$f":"J3/$I3","v":0.11415823266949614},{"$f":"K3/$I3","v":2.7025066202343382E-2},4.1353792578082492E-2,0.38295788442703232,9.4896071389705086E-2,9.6927485761961765E-2,7.5379983313381943E-2,1.0410998657815505E-2,3.6202706134145897E-2,0.12068777886603548]
["교육",9,"교육",759,"교육",768,2.785939710523452E-2,null,null,768,481,1140,6523,667,613,763,271,546,1228]
["교통",32,"교통",514,"교통",546,1.9806290129502666E-2,null,null,283,203,null,363,1949,1136,1315,16,452,2099]
["국방",30,"국방",451,"국방",481,1.7448398447419015E-2,null,null,53,61,null,1661,null,98]
["군사",0,"군사",203,"군사",203,7.3638770994304782E-3,null,null,299,null,null,2010,null,825]
["기타",283,"기타",945,"기타",1228,4.4546015163057277E-2,null,null,1744]
["농림·축산",69,"농림축산",544,"농림·축산",613,2.2236732324881197E-2]
["도로",56,"도로",396,"도로",452,1.6396416004643234E-2]
["도시",81,"도시",190,"도시",271,9.8305945514564515E-3]
["문화·관광·체육",12,"문화체육관광",271,"문화·관광·체육",283,1.0265897631225741E-2]
["민사·법무",34,"민사법무",2065,"민사·법무",2099,7.6141763702978205E-2]
["방송통신",4,"방송통신",359,"방송통신",363,1.3167918163021004E-2]
["보건복지",72,"보건복지",1589,"보건복지",1661,6.0253201291399133E-2]
["보훈",24,"보훈",37,"보훈",61,2.2127906554938875E-3]
["산업·통상·자원",33,"산업통상자원",1103,"산업·통상·자원",1136,4.1208691551492725E-2]
["세무",51,"세무",616,"세무",667,2.4195596183843E-2]
["수자원",9,"수자원",7,"수자원",16,5.804041063590525E-4]
["식품의약",2,"식품의약",2008,"식품의약",2010,7.2913265861355964E-2]
["외무·통일",5,"외무통일",48,"외무·통일",53,1.9225886023143614E-3]
["인사행정",7,"인사행정",292,"인사행정",299,1.0846301737584793E-2]
["재정·금융·보험\n·공정거래",45,"재정금융공정",1904,"재정·금융·보험\n·공정거래",1949,7.0700475205862076E-2]
["주택",77,"주택",1238,"주택",1315,4.7701962491384628E-2]
["해양수산",3,"해양수산",95,"해양수산",98,3.5549751514491966E-3]
["행정안전",51,"행정안전",1693,"행정안전",1744,6.3264047593136724E-2]
["환경",27,"환경",798,"환경",825,2.9927086734138644E-2]
["합계",1293,"합계",26274,"합계",27567,1]

{"sheet":"2022년조사관","index":21,"n_rows":29,"n_cols":18,"rows_kept":29,"cut":false,"hidden":false,"merged":[]}
["민원실",null,"온라인",null,null,"계"]
["건축",46,"건축",889,"건축",{"$f":"D2+B2","v":935},null,"계","행정문화교육","국방보훈","경찰","복지노동","재정세무","산업농림환경","주택건축","도시","교통도로","민형사등"]
["경찰",170,"경찰",1800,"경찰",{"$f":"D3+B3","v":1970},null,{"$f":"SUM(I3:R3)","v":33704},{"$f":"SUM(I5:I13)","v":3664},{"$f":"SUM(J5:J13)","v":868},1970,12564,3335,3603,2569,342,1281,3508]
["고용노동",57,"고용노동",7278,"고용노동",7335,null,null,{"$f":"I3/$H$3","v":0.10871113220982673},{"$f":"J3/$H$3","v":2.5753619748397818E-2},5.8450035604082601E-2,0.37277474483740802,9.8949679563256593E-2,0.10690125801091858,7.6222406835983858E-2,1.0147163541419417E-2,3.8007358177070974E-2,0.10408260147163541]
["교육",8,"교육",888,"교육",896,null,null,896,534,1970,7335,1143,767,935,334,804,1322]
["교통",40,"교통",764,"교통",804,null,null,368,234,null,434,2192,1588,1634,8,477,2186]
["국방",39,"국방",495,"국방",534,null,null,121,100,null,2829,null,126]
["군사",2,"군사",232,"군사",234,null,null,279,null,null,1966,null,1122]
["기타",318,"기타",1004,"기타",1322,null,null,2000]
["농림·축산",92,"농림축산",675,"농림축산",767]
["도로",99,"도로",378,"도로",477]
["도시",83,"도시",251,"도시",334]
["문화·관광·체육",7,"문화체육관광",361,"문화체육관광",368]
["민사·법무",117,"민사법무",2069,"민사법무",2186]
["방송통신",11,"방송통신",423,"방송통신",434]
["보건복지",137,"보건복지",2692,"보건복지",2829]
["보훈",39,"보훈",61,"보훈",100]
["산업·통상·자원",74,"산업통상자원",1514,"산업통상자원",1588]
["세무",101,"세무",1042,"세무",1143]
["수자원",4,"수자원",4,"수자원",8]
["식품의약",3,"식품의약",1963,"식품의약",1966]
["외무·통일",13,"외무통일",108,"외무통일",121]
["인사행정",14,"인사행정",265,"인사행정",279]
["재정·금융·보험·공정거래",78,"재정금융공정",2114,"재정금융공정",2192]
["주택",119,"주택",1515,"주택",1634]
["해양수산",7,"해양수산",119,"해양수산",126]
["행정안전",118,"행정안전",1882,"행정안전",2000]
["환경",40,"환경",1082,"환경",1122]
["합계",1836,"합계",31868,"합계",33704]